Workbook

Sheet Scores_redux
A1: Country | B1: Iso | C1: Region | D1: Score
D2: Income | E2: Wealth | F2: Weighted transparency score
D3: 10 | E3: 10 | F3: 20 (See the transparency index technical note well as the Scores and Index calculation tabs for details on methodology)
A4: =Scores_World_data!A8 -> Norway | B4: =Scores_World_data!B8 -> NO | C4: =Scores_World_data!C8 -> Europe | D4: =Scores_World_data!O8 -> 8.5 | E4: =Scores_World_data!AA8 -> 9 | F4: =Scores_World_data!AC8 -> 17.5
A5: =Scores_World_data!A9 -> Spain | B5: =Scores_World_data!B9 -> ES | C5: =Scores_World_data!C9 -> Europe | D5: =Scores_World_data!O9 -> 8 | E5: =Scores_World_data!AA9 -> 8 | F5: =Scores_World_data!AC9 -> 16
A6: =Scores_World_data!A10 -> United-States | B6: =Scores_World_data!B10 -> US | C6: =Scores_World_data!C10 -> Americas | D6: =Scores_World_data!O10 -> 8 | E6: =Scores_World_data!AA10 -> 7.5 | F6: =Scores_World_data!AC10 -> 15.5
A7: =Scores_World_data!A11 -> United-Kingdom | B7: =Scores_World_data!B11 -> GB | C7: =Scores_World_data!C11 -> Europe | D7: =Scores_World_data!O11 -> 8 | E7: =Scores_World_data!AA11 -> 7.5 | F7: =Scores_World_data!AC11 -> 15.5
A8: =Scores_World_data!A13 -> Uruguay | B8: =Scores_World_data!B13 -> UY | C8: =Scores_World_data!C13 -> Americas | D8: =Scores_World_data!O13 -> 8 | E8: =Scores_World_data!AA13 -> 7 | F8: =Scores_World_data!AC13 -> 15
A9: =Scores_World_data!A12 -> France | B9: =Scores_World_data!B12 -> FR | C9: =Scores_World_data!C12 -> Europe | D9: =Scores_World_data!O12 -> 8 | E9: =Scores_World_data!AA12 -> 7 | F9: =Scores_World_data!AC12 -> 15
A10: =Scores_World_data!A15 -> Sweden | B10: =Scores_World_data!B15 -> SE | C10: =Scores_World_data!C15 -> Europe | D10: =Scores_World_data!O15 -> 8.5 | E10: =Scores_World_data!AA15 -> 6 | F10: =Scores_World_data!AC15 -> 14.5
A11: =Scores_World_data!A14 -> Netherlands | B11: =Scores_World_data!B14 -> NL | C11: =Scores_World_data!C14 -> Europe | D11: =Scores_World_data!O14 -> 7.5 | E11: =Scores_World_data!AA14 -> 7 | F11: =Scores_World_data!AC14 -> 14.5
A12: =Scores_World_data!A16 -> Denmark | B12: =Scores_World_data!B16 -> DK | C12: =Scores_World_data!C16 -> Europe | D12: =Scores_World_data!O16 -> 8.5 | E12: =Scores_World_data!AA16 -> 5 | F12: =Scores_World_data!AC16 -> 13
A13: =Scores_World_data!A17 -> Germany | B13: =Scores_World_data!B17 -> DE | C13: =Scores_World_data!C17 -> Europe | D13: =Scores_World_data!O17 -> 8 | E13: =Scores_World_data!AA17 -> 5.5 | F13: =Scores_World_data!AC17 -> 13
A14: =Scores_World_data!A18 -> Italy | B14: =Scores_World_data!B18 -> IT | C14: =Scores_World_data!C18 -> Europe | D14: =Scores_World_data!O18 -> 8 | E14: =Scores_World_data!AA18 -> 5.5 | F14: =Scores_World_data!AC18 -> 13
A15: =Scores_World_data!A19 -> Switzerland | B15: =Scores_World_data!B19 -> CH | C15: =Scores_World_data!C19 -> Europe | D15: =Scores_World_data!O19 -> 7.5 | E15: =Scores_World_data!AA19 -> 4.5 | F15: =Scores_World_data!AC19 -> 12
A16: =Scores_World_data!A5 -> Korea | B16: =Scores_World_data!B5 -> KR | C16: =Scores_World_data!C5 -> Asia | D16: =Scores_World_data!O5 -> 6.5 | E16: =Scores_World_data!AA5 -> 5 | F16: =Scores_World_data!AC5 -> 11.5
A17: =Scores_World_data!A21 -> Finland | B17: =Scores_World_data!B21 -> FI | C17: =Scores_World_data!C21 -> Europe | D17: =Scores_World_data!O21 -> 8.5 | E17: =Scores_World_data!AA21 -> 2.5 | F17: =Scores_World_data!AC21 -> 10.5
A18: =Scores_World_data!A20 -> New Zealand | B18: =Scores_World_data!B20 -> NZ | C18: =Scores_World_data!C20 -> Oceania | D18: =Scores_World_data!O20 -> 8 | E18: =Scores_World_data!AA20 -> 3 | F18: =Scores_World_data!AC20 -> 10.5
A19: =Scores_World_data!A6 -> Colombia | B19: =Scores_World_data!B6 -> CO | C19: =Scores_World_data!C6 -> Americas | D19: =Scores_World_data!O6 -> 6.5 | E19: =Scores_World_data!AA6 -> 4.5 | F19: =Scores_World_data!AC6 -> 10.5
A20: =Scores_World_data!A22 -> Austria | B20: =Scores_World_data!B22 -> AT | C20: =Scores_World_data!C22 -> Europe | D20: =Scores_World_data!O22 -> 8 | E20: =Scores_World_data!AA22 -> 2.5 | F20: =Scores_World_data!AC22 -> 10
A21: =Scores_World_data!A23 -> Ireland | B21: =Scores_World_data!B23 -> IE | C21: =Scores_World_data!C23 -> Europe | D21: =Scores_World_data!O23 -> 8 | E21: =Scores_World_data!AA23 -> 2.5 | F21: =Scores_World_data!AC23 -> 10
A22: =Scores_World_data!A24 -> Portugal | B22: =Scores_World_data!B24 -> PT | C22: =Scores_World_data!C24 -> Europe | D22: =Scores_World_data!O24 -> 8 | E22: =Scores_World_data!AA24 -> 2.5 | F22: =Scores_World_data!AC24 -> 10
A23: =Scores_World_data!A25 -> Belgium | B23: =Scores_World_data!B25 -> BE | C23: =Scores_World_data!C25 -> Europe | D23: =Scores_World_data!O25 -> 7.5 | E23: =Scores_World_data!AA25 -> 2.5 | F23: =Scores_World_data!AC25 -> 10
A24: =Scores_World_data!A26 -> Slovenia | B24: =Scores_World_data!B26 -> SI | C24: =Scores_World_data!C26 -> Europe | D24: =Scores_World_data!O26 -> 8 | E24: =Scores_World_data!AA26 -> 2 | F24: =Scores_World_data!AC26 -> 9.5
A25: =Scores_World_data!A27 -> Taiwan | B25: =Scores_World_data!B27 -> TW | C25: =Scores_World_data!C27 -> Asia | D25: =Scores_World_data!O27 -> 10 | E25: =Scores_World_data!AA27 -> 0 | F25: =Scores_World_data!AC27 -> 9
A26: =Scores_World_data!A28 -> Estonia | B26: =Scores_World_data!B28 -> EE | C26: =Scores_World_data!C28 -> Europe | D26: =Scores_World_data!O28 -> 7.5 | E26: =Scores_World_data!AA28 -> 2 | F26: =Scores_World_data!AC28 -> 9
A27: =Scores_World_data!A29 -> Australia | B27: =Scores_World_data!B29 -> AU | C27: =Scores_World_data!C29 -> Oceania | D27: =Scores_World_data!O29 -> 6 | E27: =Scores_World_data!AA29 -> 3 | F27: =Scores_World_data!AC29 -> 9
A28: =Scores_World_data!A30 -> Canada | B28: =Scores_World_data!B30 -> CA | C28: =Scores_World_data!C30 -> Americas | D28: =Scores_World_data!O30 -> 6 | E28: =Scores_World_data!AA30 -> 3 | F28: =Scores_World_data!AC30 -> 9
A29: =Scores_World_data!A31 -> Poland | B29: =Scores_World_data!B31 -> PL | C29: =Scores_World_data!C31 -> Europe | D29: =Scores_World_data!O31 -> 7 | E29: =Scores_World_data!AA31 -> 2 | F29: =Scores_World_data!AC31 -> 8.5
A30: =Scores_World_data!A32 -> South Africa | B30: =Scores_World_data!B32 -> ZA | C30: =Scores_World_data!C32 -> Africa | D30: =Scores_World_data!O32 -> 6.5 | E30: =Scores_World_data!AA32 -> 2.5 | F30: =Scores_World_data!AC32 -> 8.5
A31: =Scores_World_data!A33 -> Mexico | B31: =Scores_World_data!B33 -> MX | C31: =Scores_World_data!C33 -> Americas | D31: =Scores_World_data!O33 -> 6 | E31: =Scores_World_data!AA33 -> 3 | F31: =Scores_World_data!AC33 -> 8.5
... A37: =Scores_World_data!A39 -> Cyprus | B37: =Scores_World_data!B39 -> CY | C37: =Scores_World_data!C39 -> Europe | D37: =Scores_World_data!O39 -> 4.5 | E37: =Scores_World_data!AA39 -> 2.5 | F37: =Scores_World_data!AC39 -> 7
A38: =Scores_World_data!A43 -> Romania | B38: =Scores_World_data!B43 -> RO | C38: =Scores_World_data!C43 -> Europe | D38: =Scores_World_data!O43 -> 7 | E38: =Scores_World_data!AA43 -> 0 | F38: =Scores_World_data!AC43 -> 6.5
A39: =Scores_World_data!A41 -> Argentina | B39: =Scores_World_data!B41 -> AR | C39: =Scores_World_data!C41 -> Americas | D39: =Scores_World_data!O41 -> 5 | E39: =Scores_World_data!AA41 -> 2 | F39: =Scores_World_data!AC41 -> 6.5
A40: =Scores_World_data!A40 -> China | B40: =Scores_World_data!B40 -> CN | C40: =Scores_World_data!C40 -> Asia | D40: =Scores_World_data!O40 -> 4 | E40: =Scores_World_data!AA40 -> 2.5 | F40: =Scores_World_data!AC40 -> 6.5
A41: =Scores_World_data!A42 -> Malte | B41: =Scores_World_data!B42 -> MT | C41: =Scores_World_data!C42 -> Europe | D41: =Scores_World_data!O42 -> 4 | E41: =Scores_World_data!AA42 -> 2.5 | F41: =Scores_World_data!AC42 -> 6.5
A42: =Scores_World_data!A47 -> Dominican Republic | B42: =Scores_World_data!B47 -> DO | C42: =Scores_World_data!C47 -> Americas | D42: =Scores_World_data!O47 -> 6.5 | E42: =Scores_World_data!AA47 -> 0 | F42: =Scores_World_data!AC47 -> 6
A43: =Scores_World_data!A44 -> Puerto Rico | B43: =Scores_World_data!B44 -> PR | C43: =Scores_World_data!C44 -> Americas | D43: =Scores_World_data!O44 -> 3.5 | E43: =Scores_World_data!AA44 -> 2.5 | F43: =Scores_World_data!AC44 -> 6
A44: =Scores_World_data!A46 -> Japan | B44: =Scores_World_data!B46 -> JP | C44: =Scores_World_data!C46 -> Asia | D44: =Scores_World_data!O46 -> 3.5 | E44: =Scores_World_data!AA46 -> 2.5 | F44: =Scores_World_data!AC46 -> 6
A45: =Scores_World_data!A45 -> Indonesia | B45: =Scores_World_data!B45 -> ID | C45: =Scores_World_data!C45 -> Asia | D45: =Scores_World_data!O45 -> 3.5 | E45: =Scores_World_data!AA45 -> 2.5 | F45: =Scores_World_data!AC45 -> 6
...

Sheet Scores_World_data
A1: Country | B1: Iso | C1: Region | D1: Score | AF1: Weights
D2: Income Survey | I2: Income Tax | N2: Total Income | O2: Total income rounded | P2: Wealth Survey | U2: Wealth Tax | Z2: Total Wealth | AA2: Total wealth rounded | AB2: Weighted transparency score | AC2: Rounded score | AD2: Last Year | AE2: Change 22-23 | AF2: Income survey | AG2: Income Tax | AH2: Wealth survey | AI2: Wealth tax
D3: Frequency | E3: Access | F3: Microdata | G3: Quality | H3: Income Score | I3: Frequency | J3: Access | K3: Microdata | L3: Quality | M3: Income Score | P3: Frequency | Q3: Access | R3: Microdata | S3: Quality | T3: Wealth Survey Score | U3: Frequency | V3: Access | W3: Microdata | X3: Quality | Y3: Wealth tax Score | AB3: See the transparency index technical note and the “index calculation” tab for details
D4: 2 | E4: 1 | F4: 2 | G4: 5 | H4: 10 | I4: 2 | J4: 1 | K4: 2 | L4: 5 | M4: 10 | N4: 10 | O4: 10 | P4: 2 | Q4: 1 | R4: 2 | S4: 5 | T4: 10 | U4: 2 | V4: 1 | W4: 2 | X4: 5 | Y4: 10 | Z4: 10 | AA4: 10 | AB4: 20 | AF4: 0.4 | AG4: 0.5 | AH4: 0.4 | AI4: 0.7
A5: Korea | B5: KR | C5: Asia | D5: 2 | E5: 1 | F5: 2 | G5: 3 | H5: =SUM(D5:G5) -> 8 | I5: 2 | J5: 1 | K5: 0 | L5: 2.5 | M5: =SUM(I5:L5) -> 5.5 | N5: =SUM(H5*$AF$4+M5*$AG$4)*(10/(($AF$4+$AG$4)*10)) -> 6.6111111 | O5: =ROUND(N5/5,1)*5 -> 6.5 | P5: 1 | Q5: 1 | R5: 2 | S5: 3 | T5: =SUM(P5:S5) -> 7 | U5: 2 | V5: 0 | W5: 0 | X5: 2 | Y5: =SUM(U5:X5) -> 4 | Z5: =SUM(T5*$AH$4+Y5*$AI$4)*(10/(($AH$4+$AI$4)*10)) -> 5.0909091 | AA5: =ROUND(Z5/5,1)*5 -> 5 | AB5: =N5*($AF$4+$AG$4)+Z5*($AH$4+$AI$4) -> 11.55 | AC5: =ROUND(AB5/5,1)*5 -> 11.5 | AD5: 10.5 | AE5: =AC5-AD5 -> 1
A6: Colombia | B6: CO | C6: Americas | D6: 2 | E6: 1 | F6: 2 | G6: 3 | H6: =SUM(D6:G6) -> 8 | I6: 2 | J6: 0 | K6: 0.5 | L6: 2.5 | M6: =SUM(I6:L6) -> 5 | N6: =SUM(H6*$AF$4+M6*$AG$4)*(10/(($AF$4+$AG$4)*10)) -> 6.3333333 | O6: =ROUND(N6/5,1)*5 -> 6.5 | P6: 0 | Q6: 0 | R6: 0 | S6: 0 | T6: =SUM(P6:S6) -> 0 | U6: 2 | V6: 0 | W6: 2 | X6: 3 | Y6: =SUM(U6:X6) -> 7 | Z6: =SUM(T6*$AH$4+Y6*$AI$4)*(10/(($AH$4+$AI$4)*10)) -> 4.4545455 | AA6: =ROUND(Z6/5,1)*5 -> 4.5 | AB6: =N6*($AF$4+$AG$4)+Z6*($AH$4+$AI$4) -> 10.6 | AC6: =ROUND(AB6/5,1)*5 -> 10.5 | AD6: 10 | AE6: =AC6-AD6 -> 0.5
A7: Thailand | B7: TH | C7: Asia | D7: 2 | E7: 0 | F7: 2 | G7: 3.5 | H7: =SUM(D7:G7) -> 7.5 | I7: 2 | J7: 0 | K7: 0 | L7: 2.5 | M7: =SUM(I7:L7) -> 4.5 | N7: =SUM(H7*$AF$4+M7*$AG$4)*(10/(($AF$4+$AG$4)*10)) -> 5.8333333 | O7: =ROUND(N7/5,1)*5 -> 6 | P7: 0 | Q7: 0 | R7: 0 | S7: 0 | T7: =SUM(P7:S7) -> 0 | U7: 0 | V7: 0 | W7: 0 | X7: 0 | Y7: =SUM(U7:X7) -> 0 | Z7: =SUM(T7*$AH$4+Y7*$AI$4)*(10/(($AH$4+$AI$4)*10)) -> 0 | AA7: =ROUND(Z7/5,1)*5 -> 0 | AB7: =N7*($AF$4+$AG$4)+Z7*($AH$4+$AI$4) -> 5.25 | AC7: =ROUND(AB7/5,1)*5 -> 5.5 | AD7: 3.5 | AE7: =AC7-AD7 -> 2
A8: Norway | B8: NO | C8: Europe | D8: 2 | E8: 1 | F8: 2 | G8: 4.5 | H8: =SUM(D8:G8) -> 9.5 | I8: 2 | J8: 0 | K8: 2 | L8: 4 | M8: =SUM(I8:L8) -> 8 | N8: =SUM(H8*$AF$4+M8*$AG$4)*(10/(($AF$4+$AG$4)*10)) -> 8.6666667 | O8: =ROUND(N8/5,1)*5 -> 8.5 | P8: NA | Q8: NA | R8: NA | S8: NA | T8: NA | U8: 2 | V8: 0 | W8: 2 | X8: 5 | Y8: =SUM(U8:X8) -> 9 | Z8: =Y8 -> 9 | AA8: =ROUND(Z8/5,1)*5 -> 9 | AB8: =N8*($AF$4+$AG$4)+Z8*($AH$4+$AI$4) -> 17.7 | AC8: =ROUND(AB8/5,1)*5 -> 17.5 | AD8: =ROUND(AC8/5,1)*5 -> 17.5 | AE8: 0
A9: Spain | B9: ES | C9: Europe | D9: 2 | E9: 1 | F9: 2 | G9: 3.5 | H9: =SUM(D9:G9) -> 8.5 | I9: 2 | J9: 0 | K9: 2 | L9: 3.5 | M9: =SUM(I9:L9) -> 7.5 | N9: =SUM(H9*$AF$4+M9*$AG$4)*(10/(($AF$4+$AG$4)*10)) -> 7.9444444 | O9: =ROUND(N9/5,1)*5 -> 8 | P9: 1 | Q9: 1 | R9: 2 | S9: 3.5 | T9: 7.5 | U9: 2 | V9: 1 | W9: 2 | X9: 3.5 | Y9: =SUM(U9:X9) -> 8.5 | Z9: =SUM(T9*$AH$4+Y9*$AI$4)*(10/(($AH$4+$AI$4)*10)) -> 8.1363636 | AA9: =ROUND(Z9/5,1)*5 -> 8 | AB9: =N9*($AF$4+$AG$4)+Z9*($AH$4+$AI$4) -> 16.1 | AC9: =ROUND(AB9/5,1)*5 -> 16 | AD9: =ROUND(AC9/5,1)*5 -> 16 | AE9: 0
A10: United-States | B10: US | C10: Americas | D10: 2 | E10: 1 | F10: 2 | G10: 3.5 | H10: =SUM(D10:G10) -> 8.5 | I10: 2 | J10: 0 | K10: 2 | L10: 3.5 | M10: =SUM(I10:L10) -> 7.5 | N10: =SUM(H10*$AF$4+M10*$AG$4)*(10/(($AF$4+$AG$4)*10)) -> 7.9444444 | O10: =ROUND(N10/5,1)*5 -> 8 | P10: 1 | Q10: 1 | R10: 2 | S10: 3.5 | T10: =SUM(P10:S10) -> 7.5 | U10: 2 | V10: 0 | W10: 2 | X10: 3.5 | Y10: =SUM(U10:X10) -> 7.5 | Z10: =SUM(T10*$AH$4+Y10*$AI$4)*(10/(($AH$4+$AI$4)*10)) -> 7.5 | AA10: =ROUND(Z10/5,1)*5 -> 7.5 | AB10: =N10*($AF$4+$AG$4)+Z10*($AH$4+$AI$4) -> 15.4 | AC10: =ROUND(AB10/5,1)*5 -> 15.5 | AD10: =ROUND(AC10/5,1)*5 -> 15.5 | AE10: 0
A11: United-Kingdom | B11: GB | C11: Europe | D11: 2 | E11: 1 | F11: 2 | G11: 3.5 | H11: =SUM(D11:G11) -> 8.5 | I11: 2 | J11: 0 | K11: 2 | L11: 3.5 | M11: =SUM(I11:L11) -> 7.5 | N11: =SUM(H11*$AF$4+M11*$AG$4)*(10/(($AF$4+$AG$4)*10)) -> 7.9444444 | O11: =ROUND(N11/5,1)*5 -> 8 | P11: 1.5 | Q11: 1 | R11: 2 | S11: 3.5 | T11: =SUM(P11:S11) -> 8 | U11: 2 | V11: 0 | W11: 2 | X11: 3 | Y11: =SUM(U11:X11) -> 7 | Z11: =SUM(T11*$AH$4+Y11*$AI$4)*(10/(($AH$4+$AI$4)*10)) -> 7.3636364 | AA11: =ROUND(Z11/5,1)*5 -> 7.5 | AB11: =N11*($AF$4+$AG$4)+Z11*($AH$4+$AI$4) -> 15.25 | AC11: =ROUND(AB11/5,1)*5 -> 15.5 | AD11: =ROUND(AC11/5,1)*5 -> 15.5 | AE11: 0
A12: France | B12: FR | C12: Europe | D12: 2 | E12: 1 | F12: 2 | G12: 4 | H12: =SUM(D12:G12) -> 9 | I12: 2 | J12: 0 | K12: 2 | L12: 3 | M12: =SUM(I12:L12) -> 7 | N12: =SUM(H12*$AF$4+M12*$AG$4)*(10/(($AF$4+$AG$4)*10)) -> 7.8888889 | O12: =ROUND(N12/5,1)*5 -> 8 | P12: 2 | Q12: 1 | R12: 2 | S12: 3.5 | T12: 8.5 | U12: 1 | V12: 0 | W12: 2 | X12: 3.5 | Y12: =SUM(U12:X12) -> 6.5 | Z12: =SUM(T12*$AH$4+Y12*$AI$4)*(10/(($AH$4+$AI$4)*10)) -> 7.2272727 | AA12: =ROUND(Z12/5,1)*5 -> 7 | AB12: =N12*($AF$4+$AG$4)+Z12*($AH$4+$AI$4) -> 15.05 | AC12: =ROUND(AB12/5,1)*5 -> 15 | AD12: =ROUND(AC12/5,1)*5 -> 15 | AE12: 0
A13: Uruguay | B13: UY | C13: Americas | D13: 2 | E13: 1 | F13: 2 | G13: 3 | H13: =SUM(D13:G13) -> 8 | I13: 2 | J13: 1 | K13: 2 | L13: 3 | M13: =SUM(I13:L13) -> 8 | N13: =SUM(H13*$AF$4+M13*$AG$4)*(10/(($AF$4+$AG$4)*10)) -> 8 | O13: =ROUND(N13/5,1)*5 -> 8 | P13: 1 | Q13: 1 | R13: 2 | S13: 3 | T13: =SUM(P13:S13) -> 7 | U13: 2 | V13: 0 | W13: 2 | X13: 3 | Y13: =SUM(U13:X13) -> 7 | Z13: =SUM(T13*$AH$4+Y13*$AI$4)*(10/(($AH$4+$AI$4)*10)) -> 7 | AA13: =ROUND(Z13/5,1)*5 -> 7 | AB13: =N13*($AF$4+$AG$4)+Z13*($AH$4+$AI$4) -> 14.9 | AC13: =ROUND(AB13/5,1)*5 -> 15 | AD13: =ROUND(AC13/5,1)*5 -> 15 | AE13: 0
A14: Netherlands | B14: NL | C14: Europe | D14: 2 | E14: 1 | F14: 2 | G14: 3.5 | H14: =SUM(D14:G14) -> 8.5 | I14: 2 | J14: 0 | K14: 2 | L14: 2.5 | M14: =SUM(I14:L14) -> 6.5 | N14: =SUM(H14*$AF$4+M14*$AG$4)*(10/(($AF$4+$AG$4)*10)) -> 7.3888889 | O14: =ROUND(N14/5,1)*5 -> 7.5 | P14: 1 | Q14: 1 | R14: 2 | S14: 3.5 | T14: =SUM(P14:S14) -> 7.5 | U14: 2 | V14: 0 | W14: 2 | X14: 3 | Y14: =SUM(U14:X14) -> 7 | Z14: =SUM(T14*$AH$4+Y14*$AI$4)*(10/(($AH$4+$AI$4)*10)) -> 7.1818182 | AA14: =ROUND(Z14/5,1)*5 -> 7 | AB14: =N14*($AF$4+$AG$4)+Z14*($AH$4+$AI$4) -> 14.55 | AC14: =ROUND(AB14/5,1)*5 -> 14.5 | AD14: =ROUND(AC14/5,1)*5 -> 14.5 | AE14: 0
A15: Sweden | B15: SE | C15: Europe | D15: 2 | E15: 1 | F15: 2 | G15: 4 | H15: =SUM(D15:G15) -> 9 | I15: 2 | J15: 0 | K15: 2 | L15: 4 | M15: =SUM(I15:L15) -> 8 | N15: =SUM(H15*$AF$4+M15*$AG$4)*(10/(($AF$4+$AG$4)*10)) -> 8.4444444 | O15: =ROUND(N15/5,1)*5 -> 8.5 | P15: 2 | Q15: 1 | R15: 2 | S15: 3 | T15: =SUM(P15:S15) -> 8 | U15: 0 | V15: 0 | W15: 2 | X15: 3 | Y15: =SUM(U15:X15) -> 5 | Z15: =SUM(T15*$AH$4+Y15*$AI$4)*(10/(($AH$4+$AI$4)*10)) -> 6.0909091 | AA15: =ROUND(Z15/5,1)*5 -> 6 | AB15: =N15*($AF$4+$AG$4)+Z15*($AH$4+$AI$4) -> 14.3 | AC15: =ROUND(AB15/5,1)*5 -> 14.5 | AD15: =ROUND(AC15/5,1)*5 -> 14.5 | AE15: 0
A16: Denmark | B16: DK | C16: Europe | D16: 2 | E16: 1 | F16: 2 | G16: 4.5 | H16: =SUM(D16:G16) -> 9.5 | I16: 2 | J16: 0 | K16: 2 | L16: 3.5 | M16: =SUM(I16:L16) -> 7.5 | N16: =SUM(H16*$AF$4+M16*$AG$4)*(10/(($AF$4+$AG$4)*10)) -> 8.3888889 | O16: =ROUND(N16/5,1)*5 -> 8.5 | P16: 1 | Q16: 1 | R16: 2 | S16: 3.5 | T16: 7.5 | U16: 2 | V16: 0 | W16: 2 | X16: 1.5 | Y16: 3.5 | Z16: =SUM(T16*$AH$4+Y16*$AI$4)*(10/(($AH$4+$AI$4)*10)) -> 4.9545455 | AA16: =ROUND(Z16/5,1)*5 -> 5 | AB16: =N16*($AF$4+$AG$4)+Z16*($AH$4+$AI$4) -> 13 | AC16: =ROUND(AB16/5,1)*5 -> 13 | AD16: =ROUND(AC16/5,1)*5 -> 13 | AE16: 0
A17: Germany | B17: DE | C17: Europe | D17: 2 | E17: 1 | F17: 2 | G17: 3.5 | H17: =SUM(D17:G17) -> 8.5 | I17: 2 | J17: 0 | K17: 2 | L17: 3.5 | M17: =SUM(I17:L17) -> 7.5 | N17: =SUM(H17*$AF$4+M17*$AG$4)*(10/(($AF$4+$AG$4)*10)) -> 7.9444444 | O17: =ROUND(N17/5,1)*5 -> 8 | P17: 1 | Q17: 1 | R17: 2 | S17: 3.5 | T17: 7.5 | U17: 1 | V17: 1 | W17: 0 | X17: 2 | Y17: =SUM(U17:X17) -> 4 | Z17: =SUM(T17*$AH$4+Y17*$AI$4)*(10/(($AH$4+$AI$4)*10)) -> 5.2727273 | AA17: =ROUND(Z17/5,1)*5 -> 5.5 | AB17: =N17*($AF$4+$AG$4)+Z17*($AH$4+$AI$4) -> 12.95 | AC17: =ROUND(AB17/5,1)*5 -> 13 | AD17: =ROUND(AC17/5,1)*5 -> 13 | AE17: 0
A18: Italy | B18: IT | C18: Europe | D18: 2 | E18: 1 | F18: 2 | G18: 3.5 | H18: =SUM(D18:G18) -> 8.5 | I18: 2 | J18: 0 | K18: 2 | L18: 3.5 | M18: =SUM(I18:L18) -> 7.5 | N18: =SUM(H18*$AF$4+M18*$AG$4)*(10/(($AF$4+$AG$4)*10)) -> 7.9444444 | O18: =ROUND(N18/5,1)*5 -> 8 | P18: 1 | Q18: 1 | R18: 2 | S18: 3.5 | T18: 7.5 | U18: 2 | V18: 0 | W18: 0 | X18: 2 | Y18: =SUM(U18:X18) -> 4 | Z18: =SUM(T18*$AH$4+Y18*$AI$4)*(10/(($AH$4+$AI$4)*10)) -> 5.2727273 | AA18: =ROUND(Z18/5,1)*5 -> 5.5 | AB18: =N18*($AF$4+$AG$4)+Z18*($AH$4+$AI$4) -> 12.95 | AC18: =ROUND(AB18/5,1)*5 -> 13 | AD18: =ROUND(AC18/5,1)*5 -> 13 | AE18: 0
A19: Switzerland | B19: CH | C19: Europe | D19: 2 | E19: 1 | F19: 2 | G19: 3.5 | H19: =SUM(D19:G19) -> 8.5 | I19: 2 | J19: 0 | K19: 2 | L19: 3 | M19: =SUM(I19:L19) -> 7 | N19: =SUM(H19*$AF$4+M19*$AG$4)*(10/(($AF$4+$AG$4)*10)) -> 7.6666667 | O19: =ROUND(N19/5,1)*5 -> 7.5 | P19: 0.5 | Q19: 1 | R19: 1 | S19: 2.5 | T19: 0 | U19: 2 | V19: 0 | W19: 2 | X19: 3 | Y19: =SUM(U19:X19) -> 7 | Z19: =SUM(T19*$AH$4+Y19*$AI$4)*(10/(($AH$4+$AI$4)*10)) -> 4.4545455 | AA19: =ROUND(Z19/5,1)*5 -> 4.5 | AB19: =N19*($AF$4+$AG$4)+Z19*($AH$4+$AI$4) -> 11.8 | AC19: =ROUND(AB19/5,1)*5 -> 12 | AD19: =ROUND(AC19/5,1)*5 -> 12 | AE19: 0
A20: New Zealand | B20: NZ | C20: Oceania | D20: 2 | E20: 1 | F20: 2 | G20: 3.5 | H20: =SUM(D20:G20) -> 8.5 | I20: 2 | J20: 0 | K20: 2 | L20: 3.5 | M20: =SUM(I20:L20) -> 7.5 | N20: =SUM(H20*$AF$4+M20*$AG$4)*(10/(($AF$4+$AG$4)*10)) -> 7.9444444 | O20: =ROUND(N20/5,1)*5 -> 8 | P20: 2 | Q20: 1 | R20: 2 | S20: 3.5 | T20: =SUM(P20:S20) -> 8.5 | U20: 0 | V20: 0 | W20: 0 | X20: 0 | Y20: =SUM(U20:X20) -> 0 | Z20: =SUM(T20*$AH$4+Y20*$AI$4)*(10/(($AH$4+$AI$4)*10)) -> 3.0909091 | AA20: =ROUND(Z20/5,1)*5 -> 3 | AB20: =N20*($AF$4+$AG$4)+Z20*($AH$4+$AI$4) -> 10.55 | AC20: =ROUND(AB20/5,1)*5 -> 10.5 | AD20: =ROUND(AC20/5,1)*5 -> 10.5 | AE20: 0
A21: Finland | B21: FI | C21: Europe | D21: 2 | E21: 1 | F21: 2 | G21: 4.5 | H21: =SUM(D21:G21) -> 9.5 | I21: 2 | J21: 0 | K21: 2 | L21: 3.5 | M21: =SUM(I21:L21) -> 7.5 | N21: =SUM(H21*$AF$4+M21*$AG$4)*(10/(($AF$4+$AG$4)*10)) -> 8.3888889 | O21: =ROUND(N21/5,1)*5 -> 8.5 | P21: 1 | Q21: 1 | R21: 2 | S21: 3.5 | T21: 7.5 | U21: 0 | V21: 0 | W21: 0 | X21: 0 | Y21: =SUM(U21:X21) -> 0 | Z21: =SUM(T21*$AH$4+Y21*$AI$4)*(10/(($AH$4+$AI$4)*10)) -> 2.7272727 | AA21: =ROUND(Z21/5,1)*5 -> 2.5 | AB21: =N21*($AF$4+$AG$4)+Z21*($AH$4+$AI$4) -> 10.55 | AC21: =ROUND(AB21/5,1)*5 -> 10.5 | AD21: =ROUND(AC21/5,1)*5 -> 10.5 | AE21: 0
A22: Austria | B22: AT | C22: Europe | D22: 2 | E22: 1 | F22: 2 | G22: 3.5 | H22: =SUM(D22:G22) -> 8.5 | I22: 2 | J22: 0 | K22: 2 | L22: 3.5 | M22: =SUM(I22:L22) -> 7.5 | N22: =SUM(H22*$AF$4+M22*$AG$4)*(10/(($AF$4+$AG$4)*10)) -> 7.9444444 | O22: =ROUND(N22/5,1)*5 -> 8 | P22: 1 | Q22: 1 | R22: 2 | S22: 3.5 | T22: =SUM(P22:S22) -> 7.5 | U22: 0 | V22: 0 | W22: 0 | X22: 0 | Y22: =SUM(U22:X22) -> 0 | Z22: =SUM(T22*$AH$4+Y22*$AI$4)*(10/(($AH$4+$AI$4)*10)) -> 2.7272727 | AA22: =ROUND(Z22/5,1)*5 -> 2.5 | AB22: =N22*($AF$4+$AG$4)+Z22*($AH$4+$AI$4) -> 10.15 | AC22: =ROUND(AB22/5,1)*5 -> 10 | AD22: =ROUND(AC22/5,1)*5 -> 10 | AE22: 0
A23: Ireland | B23: IE | C23: Europe | D23: 2 | E23: 1 | F23: 2 | G23: 3.5 | H23: =SUM(D23:G23) -> 8.5 | I23: 2 | J23: 0 | K23: 2 | L23: 3.5 | M23: =SUM(I23:L23) -> 7.5 | N23: =SUM(H23*$AF$4+M23*$AG$4)*(10/(($AF$4+$AG$4)*10)) -> 7.9444444 | O23: =ROUND(N23/5,1)*5 -> 8 | P23: 1 | Q23: 1 | R23: 2 | S23: 3.5 | T23: =SUM(P23:S23) -> 7.5 | U23: 0 | V23: 0 | W23: 0 | X23: 0 | Y23: =SUM(U23:X23) -> 0 | Z23: =SUM(T23*$AH$4+Y23*$AI$4)*(10/(($AH$4+$AI$4)*10)) -> 2.7272727 | AA23: =ROUND(Z23/5,1)*5 -> 2.5 | AB23: =N23*($AF$4+$AG$4)+Z23*($AH$4+$AI$4) -> 10.15 | AC23: =ROUND(AB23/5,1)*5 -> 10 | AD23: =ROUND(AC23/5,1)*5 -> 10 | AE23: 0
A24: Portugal | B24: PT | C24: Europe | D24: 2 | E24: 1 | F24: 2 | G24: 3.5 | H24: =SUM(D24:G24) -> 8.5 | I24: 2 | J24: 0 | K24: 2 | L24: 3.5 | M24: =SUM(I24:L24) -> 7.5 | N24: =SUM(H24*$AF$4+M24*$AG$4)*(10/(($AF$4+$AG$4)*10)) -> 7.9444444 | O24: =ROUND(N24/5,1)*5 -> 8 | P24: 1 | Q24: 1 | R24: 2 | S24: 3.5 | T24: =SUM(P24:S24) -> 7.5 | U24: 0 | V24: 0 | W24: 0 | X24: 0 | Y24: =SUM(U24:X24) -> 0 | Z24: =SUM(T24*$AH$4+Y24*$AI$4)*(10/(($AH$4+$AI$4)*10)) -> 2.7272727 | AA24: =ROUND(Z24/5,1)*5 -> 2.5 | AB24: =N24*($AF$4+$AG$4)+Z24*($AH$4+$AI$4) -> 10.15 | AC24: =ROUND(AB24/5,1)*5 -> 10 | AD24: =ROUND(AC24/5,1)*5 -> 10 | AE24: 0
A25: Belgium | B25: BE | C25: Europe | D25: 2 | E25: 1 | F25: 2 | G25: 3.5 | H25: =SUM(D25:G25) -> 8.5 | I25: 2 | J25: 0 | K25: 2 | L25: 3 | M25: =SUM(I25:L25) -> 7 | N25: =SUM(H25*$AF$4+M25*$AG$4)*(10/(($AF$4+$AG$4)*10)) -> 7.6666667 | O25: =ROUND(N25/5,1)*5 -> 7.5 | P25: 1 | Q25: 1 | R25: 2 | S25: 3.5 | T25: =SUM(P25:S25) -> 7.5 | U25: 0 | V25: 0 | W25: 0 | X25: 0 | Y25: =SUM(U25:X25) -> 0 | Z25: =SUM(T25*$AH$4+Y25*$AI$4)*(10/(($AH$4+$AI$4)*10)) -> 2.7272727 | AA25: =ROUND(Z25/5,1)*5 -> 2.5 | AB25: =N25*($AF$4+$AG$4)+Z25*($AH$4+$AI$4) -> 9.9 | AC25: =ROUND(AB25/5,1)*5 -> 10 | AD25: =ROUND(AC25/5,1)*5 -> 10 | AE25: 0
A26: Slovenia | B26: SI | C26: Europe | D26: 2 | E26: 1 | F26: 2 | G26: 3 | H26: =SUM(D26:G26) -> 8 | I26: 2 | J26: 1 | K26: 2 | L26: 3 | M26: =SUM(I26:L26) -> 8 | N26: =SUM(H26*$AF$4+M26*$AG$4)*(10/(($AF$4+$AG$4)*10)) -> 8 | O26: =ROUND(N26/5,1)*5 -> 8 | P26: 1 | Q26: 1 | R26: 1 | S26: 3 | T26: =SUM(P26:S26) -> 6 | U26: 0 | V26: 0 | W26: 0 | X26: 0 | Y26: =SUM(U26:X26) -> 0 | Z26: =SUM(T26*$AH$4+Y26*$AI$4)*(10/(($AH$4+$AI$4)*10)) -> 2.1818182 | AA26: =ROUND(Z26/5,1)*5 -> 2 | AB26: =N26*($AF$4+$AG$4)+Z26*($AH$4+$AI$4) -> 9.6 | AC26: =ROUND(AB26/5,1)*5 -> 9.5 | AD26: =ROUND(AC26/5,1)*5 -> 9.5 | AE26: 0
A27: Taiwan | B27: TW | C27: Asia | D27: 2 | E27: 1 | F27: 2 | G27: 5 | H27: =SUM(D27:G27) -> 10 | I27: 2 | J27: 1 | K27: 2 | L27: 5 | M27: =SUM(I27:L27) -> 10 | N27: =SUM(H27*$AF$4+M27*$AG$4)*(10/(($AF$4+$AG$4)*10)) -> 10 | O27: =ROUND(N27/5,1)*5 -> 10 | P27: 0 | Q27: 0 | R27: 0 | S27: 0 | T27: =SUM(P27:S27) -> 0 | U27: 0 | V27: 0 | W27: 0 | X27: 0 | Y27: =SUM(U27:X27) -> 0 | Z27: =SUM(T27*$AH$4+Y27*$AI$4)*(10/(($AH$4+$AI$4)*10)) -> 0 | AA27: =ROUND(Z27/5,1)*5 -> 0 | AB27: =N27*($AF$4+$AG$4)+Z27*($AH$4+$AI$4) -> 9 | AC27: =ROUND(AB27/5,1)*5 -> 9 | AD27: =ROUND(AC27/5,1)*5 -> 9 | AE27: 0
A28: Estonia | B28: EE | C28: Europe | D28: 2 | E28: 1 | F28: 2 | G28: 3 | H28: =SUM(D28:G28) -> 8 | I28: 2 | J28: 1 | K28: 2 | L28: 2 | M28: =SUM(I28:L28) -> 7 | N28: =SUM(H28*$AF$4+M28*$AG$4)*(10/(($AF$4+$AG$4)*10)) -> 7.4444444 | O28: =ROUND(N28/5,1)*5 -> 7.5 | P28: 0.5 | Q28: 1 | R28: 1 | S28: 3 | T28: =SUM(P28:S28) -> 5.5 | U28: 0 | V28: 0 | W28: 0 | X28: 0 | Y28: =SUM(U28:X28) -> 0 | Z28: =SUM(T28*$AH$4+Y28*$AI$4)*(10/(($AH$4+$AI$4)*10)) -> 2 | AA28: =ROUND(Z28/5,1)*5 -> 2 | AB28: =N28*($AF$4+$AG$4)+Z28*($AH$4+$AI$4) -> 8.9 | AC28: =ROUND(AB28/5,1)*5 -> 9 | AD28: =ROUND(AC28/5,1)*5 -> 9 | AE28: 0
A29: Australia | B29: AU | C29: Oceania | D29: 2 | E29: 1 | F29: 2 | G29: 3.5 | H29: =SUM(D29:G29) -> 8.5 | I29: 2 | J29: 0 | K29: 0 | L29: 2 | M29: =SUM(I29:L29) -> 4 | N29: =SUM(H29*$AF$4+M29*$AG$4)*(10/(($AF$4+$AG$4)*10)) -> 6 | O29: =ROUND(N29/5,1)*5 -> 6 | P29: 2 | Q29: 1 | R29: 2 | S29: 3.5 | T29: =SUM(P29:S29) -> 8.5 | U29: 0 | V29: 0 | W29: 0 | X29: 0 | Y29: =SUM(U29:X29) -> 0 | Z29: =SUM(T29*$AH$4+Y29*$AI$4)*(10/(($AH$4+$AI$4)*10)) -> 3.0909091 | AA29: =ROUND(Z29/5,1)*5 -> 3 | AB29: =N29*($AF$4+$AG$4)+Z29*($AH$4+$AI$4) -> 8.8 | AC29: =ROUND(AB29/5,1)*5 -> 9 | AD29: =ROUND(AC29/5,1)*5 -> 9 | AE29: 0
A30: Canada | B30: CA | C30: Americas | D30: 2 | E30: 1 | F30: 2 | G30: 3.5 | H30: =SUM(D30:G30) -> 8.5 | I30: 2 | J30: 0 | K30: 0 | L30: 2 | M30: =SUM(I30:L30) -> 4 | N30: =SUM(H30*$AF$4+M30*$AG$4)*(10/(($AF$4+$AG$4)*10)) -> 6 | O30: =ROUND(N30/5,1)*5 -> 6 | P30: 2 | Q30: 1 | R30: 2 | S30: 3.5 | T30: =SUM(P30:S30) -> 8.5 | U30: 0 | V30: 0 | W30: 0 | X30: 0 | Y30: =SUM(U30:X30) -> 0 | Z30: =SUM(T30*$AH$4+Y30*$AI$4)*(10/(($AH$4+$AI$4)*10)) -> 3.0909091 | AA30: =ROUND(Z30/5,1)*5 -> 3 | AB30: =N30*($AF$4+$AG$4)+Z30*($AH$4+$AI$4) -> 8.8 | AC30: =ROUND(AB30/5,1)*5 -> 9 | AD30: =ROUND(AC30/5,1)*5 -> 9 | AE30: 0
A31: Poland | B31: PL | C31: Europe | D31: 2 | E31: 1 | F31: 2 | G31: 3 | H31: =SUM(D31:G31) -> 8 | I31: 2 | J31: 0 | K31: 1 | L31: 3 | M31: =SUM(I31:L31) -> 6 | N31: =SUM(H31*$AF$4+M31*$AG$4)*(10/(($AF$4+$AG$4)*10)) -> 6.8888889 | O31: =ROUND(N31/5,1)*5 -> 7 | P31: 1 | Q31: 1 | R31: 1 | S31: 3 | T31: =SUM(P31:S31) -> 6 | U31: 0 | V31: 0 | W31: 0 | X31: 0 | Y31: =SUM(U31:X31) -> 0 | Z31: =SUM(T31*$AH$4+Y31*$AI$4)*(10/(($AH$4+$AI$4)*10)) -> 2.1818182 | AA31: =ROUND(Z31/5,1)*5 -> 2 | AB31: =N31*($AF$4+$AG$4)+Z31*($AH$4+$AI$4) -> 8.6 | AC31: =ROUND(AB31/5,1)*5 -> 8.5 | AD31: =ROUND(AC31/5,1)*5 -> 8.5 | AE31: 0
A32: South Africa | B32: ZA | C32: Africa | D32: 1.5 | E32: 1 | F32: 2 | G32: 3 | H32: =SUM(D32:G32) -> 7.5 | I32: 2 | J32: 0 | K32: 1 | L32: 2.5 | M32: =SUM(I32:L32) -> 5.5 | N32: =SUM(H32*$AF$4+M32*$AG$4)*(10/(($AF$4+$AG$4)*10)) -> 6.3888889 | O32: =ROUND(N32/5,1)*5 -> 6.5 | P32: 1 | Q32: 1 | R32: 2 | S32: 3 | T32: =SUM(P32:S32) -> 7 | U32: 0 | V32: 0 | W32: 0 | X32: 0 | Y32: =SUM(U32:X32) -> 0 | Z32: =SUM(T32*$AH$4+Y32*$AI$4)*(10/(($AH$4+$AI$4)*10)) -> 2.5454545 | AA32: =ROUND(Z32/5,1)*5 -> 2.5 | AB32: =N32*($AF$4+$AG$4)+Z32*($AH$4+$AI$4) -> 8.55 | AC32: =ROUND(AB32/5,1)*5 -> 8.5 | AD32: =ROUND(AC32/5,1)*5 -> 8.5 | AE32: 0
A33: Mexico | B33: MX | C33: Americas | D33: 1.5 | E33: 1 | F33: 2 | G33: 3 | H33: =SUM(D33:G33) -> 7.5 | I33: 0.5 | J33: 0 | K33: 2 | L33: 2 | M33: =SUM(I33:L33) -> 4.5 | N33: =SUM(H33*$AF$4+M33*$AG$4)*(10/(($AF$4+$AG$4)*10)) -> 5.8333333 | O33: =ROUND(N33/5,1)*5 -> 6 | P33: 2 | Q33: 1 | R33: 2 | S33: 3 | T33: =SUM(P33:S33) -> 8 | U33: 0 | V33: 0 | W33: 0 | X33: 0 | Y33: =SUM(U33:X33) -> 0 | Z33: =SUM(T33*$AH$4+Y33*$AI$4)*(10/(($AH$4+$AI$4)*10)) -> 2.9090909 | AA33: =ROUND(Z33/5,1)*5 -> 3 | AB33: =N33*($AF$4+$AG$4)+Z33*($AH$4+$AI$4) -> 8.45 | AC33: =ROUND(AB33/5,1)*5 -> 8.5 | AD33: =ROUND(AC33/5,1)*5 -> 8.5 | AE33: 0
... A55: Salvador | B55: SV | C55: Americas | D55: 2 | E55: 1 | F55: 2 | G55: 3 | H55: =SUM(D55:G55) -> 8 | I55: 2 | J55: 0 | K55: 0 | L55: 2 | M55: =SUM(I55:L55) -> 4 | N55: =SUM(H55*$AF$4+M55*$AG$4)*(10/(($AF$4+$AG$4)*10)) -> 5.7777778 | O55: =ROUND(N55/5,1)*5 -> 6 | P55: 0 | Q55: 0 | R55: 0 | S55: 0 | T55: =SUM(P55:S55) -> 0 | U55: 0 | V55: 0 | W55: 0 | X55: 0 | Y55: =SUM(U55:X55) -> 0 | Z55: =SUM(T55*$AH$4+Y55*$AI$4)*(10/(($AH$4+$AI$4)*10)) -> 0 | AA55: =ROUND(Z55/5,1)*5 -> 0 | AB55: =N55*($AF$4+$AG$4)+Z55*($AH$4+$AI$4) -> 5.2 | AC55: =ROUND(AB55/5,1)*5 -> 5 | AD55: =ROUND(AC55/5,1)*5 -> 5 | AE55: 0
A56: Costa Rica | B56: CR | C56: Americas | D56: 2 | E56: 1 | F56: 2 | G56: 2.5 | H56: =SUM(D56:G56) -> 7.5 | I56: 2 | J56: 0 | K56: 0 | L56: 2 | M56: =SUM(I56:L56) -> 4 | N56: =SUM(H56*$AF$4+M56*$AG$4)*(10/(($AF$4+$AG$4)*10)) -> 5.5555556 | O56: =ROUND(N56/5,1)*5 -> 5.5 | T56: =SUM(P56:S56) -> 0 | Y56: =SUM(U56:X56) -> 0 | Z56: =SUM(T56*$AH$4+Y56*$AI$4)*(10/(($AH$4+$AI$4)*10)) -> 0 | AA56: =ROUND(Z56/5,1)*5 -> 0 | AB56: =N56*($AF$4+$AG$4)+Z56*($AH$4+$AI$4) -> 5 | AC56: =ROUND(AB56/5,1)*5 -> 5 | AD56: =ROUND(AC56/5,1)*5 -> 5 | AE56: 0
A57: Ecuador | B57: EC | C57: Americas | D57: 2 | E57: 1 | F57: 2 | G57: 2.5 | H57: =SUM(D57:G57) -> 7.5 | I57: 1 | J57: 0 | K57: 0.5 | L57: 2.5 | M57: =SUM(I57:L57) -> 4 | N57: =SUM(H57*$AF$4+M57*$AG$4)*(10/(($AF$4+$AG$4)*10)) -> 5.5555556 | O57: =ROUND(N57/5,1)*5 -> 5.5 | P57: 0 | Q57: 0 | R57: 0 | S57: 0 | T57: =SUM(P57:S57) -> 0 | U57: 0 | V57: 0 | W57: 0 | X57: 0 | Y57: =SUM(U57:X57) -> 0 | Z57: =SUM(T57*$AH$4+Y57*$AI$4)*(10/(($AH$4+$AI$4)*10)) -> 0 | AA57: =ROUND(Z57/5,1)*5 -> 0 | AB57: =N57*($AF$4+$AG$4)+Z57*($AH$4+$AI$4) -> 5 | AC57: =ROUND(AB57/5,1)*5 -> 5 | AD57: =ROUND(AC57/5,1)*5 -> 5 | AE57: 0
A58: Lebanon | B58: LB | C58: Asia | D58: 1.5 | E58: 0 | F58: 0 | G58: 1 | H58: =SUM(D58:G58) -> 2.5 | I58: 2 | J58: 1 | K58: 2 | L58: 3 | M58: =SUM(I58:L58) -> 8 | N58: =SUM(H58*$AF$4+M58*$AG$4)*(10/(($AF$4+$AG$4)*10)) -> 5.5555556 | O58: =ROUND(N58/5,1)*5 -> 5.5 | P58: 0 | Q58: 0 | R58: 0 | S58: 0 | T58: =SUM(P58:S58) -> 0 | U58: 0 | V58: 0 | W58: 0 | X58: 0 | Y58: =SUM(U58:X58) -> 0 | Z58: =SUM(T58*$AH$4+Y58*$AI$4)*(10/(($AH$4+$AI$4)*10)) -> 0 | AA58: =ROUND(Z58/5,1)*5 -> 0 | AB58: =N58*($AF$4+$AG$4)+Z58*($AH$4+$AI$4) -> 5 | AC58: =ROUND(AB58/5,1)*5 -> 5 | AD58: =ROUND(AC58/5,1)*5 -> 5 | AE58: 0
A59: Vietnam | B59: VN | C59: Asia | D59: 1.5 | E59: 1 | F59: 2 | G59: 3 | H59: =SUM(D59:G59) -> 7.5 | I59: 2 | J59: 0 | K59: 0 | L59: 2 | M59: =SUM(I59:L59) -> 4 | N59: =SUM(H59*$AF$4+M59*$AG$4)*(10/(($AF$4+$AG$4)*10)) -> 5.5555556 | O59: =ROUND(N59/5,1)*5 -> 5.5 | P59: 0 | Q59: 0 | R59: 0 | S59: 0 | T59: =SUM(P59:S59) -> 0 | U59: 0 | V59: 0 | W59: 0 | X59: 0 | Y59: =SUM(U59:X59) -> 0 | Z59: =SUM(T59*$AH$4+Y59*$AI$4)*(10/(($AH$4+$AI$4)*10)) -> 0 | AA59: =ROUND(Z59/5,1)*5 -> 0 | AB59: =N59*($AF$4+$AG$4)+Z59*($AH$4+$AI$4) -> 5 | AC59: =ROUND(AB59/5,1)*5 -> 5 | AD59: =ROUND(AC59/5,1)*5 -> 5 | AE59: 0
A60: Côte d’Ivoire | B60: CI | C60: Africa | D60: 2 | E60: 1 | F60: 2 | G60: 3 | H60: =SUM(D60:G60) -> 8 | I60: 0.5 | J60: 0.5 | K60: 1 | L60: 1 | M60: =SUM(I60:L60) -> 3 | N60: =SUM(H60*$AF$4+M60*$AG$4)*(10/(($AF$4+$AG$4)*10)) -> 5.2222222 | O60: =ROUND(N60/5,1)*5 -> 5 | P60: 0 | Q60: 0 | R60: 0 | S60: 0 | T60: =SUM(P60:S60) -> 0 | U60: 0 | V60: 0 | W60: 0 | X60: 0 | Y60: =SUM(U60:X60) -> 0 | Z60: =SUM(T60*$AH$4+Y60*$AI$4)*(10/(($AH$4+$AI$4)*10)) -> 0 | AA60: =ROUND(Z60/5,1)*5 -> 0 | AB60: =N60*($AF$4+$AG$4)+Z60*($AH$4+$AI$4) -> 4.7 | AC60: =ROUND(AB60/5,1)*5 -> 4.5 | AD60: =ROUND(AC60/5,1)*5 -> 4.5 | AE60: 0
A61: Czech Republic | B61: CZ | C61: Europe | D61: 2 | E61: 1 | F61: 2 | G61: 3 | H61: =SUM(D61:G61) -> 8 | I61: 1 | J61: 0.5 | K61: 0 | L61: 1 | M61: =SUM(I61:L61) -> 2.5 | N61: =SUM(H61*$AF$4+M61*$AG$4)*(10/(($AF$4+$AG$4)*10)) -> 4.9444444 | O61: =ROUND(N61/5,1)*5 -> 5 | P61: 0 | Q61: 0 | R61: 0 | S61: 0 | T61: =SUM(P61:S61) -> 0 | U61: 0 | V61: 0 | W61: 0 | X61: 0 | Y61: =SUM(U61:X61) -> 0 | Z61: =SUM(T61*$AH$4+Y61*$AI$4)*(10/(($AH$4+$AI$4)*10)) -> 0 | AA61: =ROUND(Z61/5,1)*5 -> 0 | AB61: =N61*($AF$4+$AG$4)+Z61*($AH$4+$AI$4) -> 4.45 | AC61: =ROUND(AB61/5,1)*5 -> 4.5 | AD61: =ROUND(AC61/5,1)*5 -> 4.5 | AE61: 0
...

Sheet Index calculation
A1: Concept and source | C1: Income | G1: Wealth
C2: Survey data | D2: Weight | E2: Tax data | F2: Weight | G2: Survey data | H2: Weight | I2: Tax data | J2: Weight
A3: Availability /5 | B3: Frequency /2 (Number of surveys in the last 10 years) | C3: 0 ( no surveys | E3: 0 ( no tabulations) | G3: 0 ( no surveys | I3: 0 ( no tabulations)
C4: 0.5 (1 survey) | E4: 0.5 (1 tabulations) | G4: 1 (1 survey) | I4: 0.5 (1 tabulations)
C5: 1 (2-3 surveys) | E5: 1 (2 tabulations) | G5: 1.5 (2 surveys) | I5: 1 (2 tabulations
C6: 1.5 ( 4+ surveys) | E6: 1.5 ( 3 tabulations) | G6: 2 ( 3 surveys) | I6: 1.5 ( 3+ tabulations)
C7: 2 (annual surveys) | E7: 2.5 (4+ tabulations) | G7: 2.5 (4+ surveys) | I7: 2.5 (4+ tabulations)
B8: Are there complications when attempting to access the data ( e.g restricted on site access) ? /1 | C8: /1 | E8: /1 | G8: /1 | I8: /1
B9: Data type /2 | C9: 0 (simple tabulations) | E9: 0 (simple tabulations) | G9: 0 (simple tabulations) | I9: 0 (simple tabulations)
C10: 1 (microdata for some of the studied years) | E10: 1 (microdata for some of the studied years) | G10: 1 (microdata for some of the studied years) | I10: 1 (microdata for some of the studied years)
C11: 2 (microdata for all studied years) | E11: 2 (microdata for all studied years)* | G11: 2 (microdata for all studied years) | I11: 2 (microdata for all studied years)
A12: Quality /5 | B12: If microdata | C12: Min = 0 Max = 5 | E12: Min = 0 Max = 5 | G12: Min = 0 Max = 5 | I12: Min = 0 Max = 5
B13: If tabulations | C13: Min = 0 Max = 2.5 | E13: Min = 0 Max = 2.5 | G13: Min = 0 Max = 2.5 | I13: Min = 0 Max = 2.5
A14: Index value /10 | C14: Income survey data index (/10) | D14: 0.4 | E14: Income tax data index (/10) | F14: 0.5 | G14: Wealth survey data index (/5) | H14: 0.4 | I14: Wealth tax data survey index (/5) | J14: 0.7
A15: Aggregate Index Value /10 | C15: Income data index (/10) | G15: Wealth data index (/10)
A16: Weighted transparency grade/20 | C16: Transparency index (/20)
A17: *For income tax data, give half the grade if only labour or only capital income tax data are included.
