Workbook
Name _C01_Comparativesalida: #REF!
Name _C01_Comparativesalida: #REF!
Name _C01_Comparativesalida: #REF!
Name _C01_Comparativesalida: #REF!
Name _C01_Comparativesalida: #REF!
Name _C01_Comparativesalida: #REF!
Name _C01_Comparativesalida: #REF!
Name _C01_Comparativesalida: #REF!
Name _C01_Comparativesalida: #REF!
Name _C01_Comparativesalida: #REF!
Name _C01_Comparativesalida: #REF!
Name _C01_Comparativesalida: #REF!
Name _C02_Comparativesalida: #REF!
Name _C02_Comparativesalida: #REF!
Name _C02_Comparativesalida: #REF!
Name _C02_Comparativesalida: #REF!
Name _C02_Comparativesalida: #REF!
Name _C02_Comparativesalida: #REF!
Name _C02_Comparativesalida: #REF!
Name _C02_Comparativesalida: #REF!
Name _C02_Comparativesalida: #REF!
Name _C02_Comparativesalida: #REF!
Name _C02_Comparativesalida: #REF!
Name _C02_Comparativesalida: #REF!
Name \A: '[2]3.13'!#REF!
Name \A: '[2]3.13'!#REF!
Name \A: '[2]3.13'!#REF!
Name \A: '[2]3.13'!#REF!
Name \A: '[2]3.13'!#REF!
Name \A: '[2]3.13'!#REF!
Name \A: '[2]3.13'!#REF!
Name \A: '[2]3.13'!#REF!
Name \A: '[2]3.13'!#REF!
Name \A: '[2]3.13'!#REF!
Name \A: '[2]3.13'!#REF!
Name \A: '[2]3.13'!#REF!
Name \C: #REF!
Name \C: #REF!
Name \C: #REF!
Name \C: #REF!
Name \C: #REF!
Name \C: #REF!
Name \C: #REF!
Name \C: #REF!
Name \C: #REF!
Name \C: #REF!
Name \C: #REF!
Name \C: #REF!
Name \L: #REF!
Name \L: #REF!
Name \L: #REF!
Name \L: #REF!
Name \L: #REF!
Name \L: #REF!
Name \L: #REF!
Name \L: #REF!
Name \L: #REF!
Name \L: #REF!
Name \L: #REF!
Name \L: #REF!

Sheet Index
A1: Income inequality under colonial rule
A2: Evidence from French Algeria, Cameroon, Tunisia, and Vietnam, and comparison with the British Empire 1920-1960
A4: Facundo Alvaredo, Denis Cogneau, Thomas Piketty
A5: June 2020
A9: Figure 1 | B9: =Figure1!A38 -> Top 1% income share in the French and the British colonial empires, 1920-1960
A10: Figure 2 | B10: =Figure2!A37 -> Top 0.1% income share in the French and the British colonial empires, 1920-1960
A11: Figure 3 | B11: =Figure3!A37 -> Income taxpayers in statistics as percentage of total tax units, 1920-1960
A12: Figure 4 | B12: ='Figure4 '!A39 -> Estimates of GDP per capita in Algeria, Tunisia, French Cameroon and Indochina 1920-1960
A13: Figure 5 | B13: =Figure5!A38 -> Average income in Algeria, Tunisia, French Cameroon, and Indochina: ratio to average income in France, 1920-1960
A14: Figure 6 | B14: =Figure10!A38 -> Inequality among Europeans in Tunisia and Vietnam, and comparison with France
A15: Figure 7 | B15: =Figure8!A28 -> The ethnic composition of the top 0.1% group in Tunisia and Cochinchina
A16: Figure 8 | B16: =Figure8!A28 -> The ethnic composition of the top 0.1% group in Tunisia and Cochinchina
A17: Figure 9 | B17: =Figure9!A57 -> The top 0.1% income share and settlement patterns
A18: Figure 10 | B18: =Figure10!A38 -> Inequality among Europeans in Tunisia and Vietnam, and comparison with France
A21: Table 1 | B21: The typical income tax tabulation
A22: Table 2A | B22: Algeria. Shares of income of top groups 1932-1957
A23: Table 2B | B23: Tunisia. Shares of income of top groups 1946-1956
A24: Table 2C | B24: Cameroon. Shares of income of top groups 1945
A25: Table 2D | B25: Vietnam. Shares of income of top groups 1921-1942
A26: Table 3 | B26: Comparison between average incomes in the colonies and in the metropolis
A27: Table 4 | B27: Decomposition of the fall in inequality after World War II
A30: Appendix
A32: Table A1.A | B32: Algeria. Data sources of the distribution of income from the income tax
A33: Table A1.B | B33: Tunisia. Data sources of the distribution of income from the income tax
A34: Table A1.C | B34: Cameroon. Data sources of the distribution of income from the income tax
A35: Table A1.D | B35: Indochina. Data sources of the distribution of income from the income tax
A36: Table A1.E | B36: Availability of tax tabulations, coverage, and reporting of taxable income
A37: Table B1.A | B37: Algeria. Income control, population control and price index 1932-1957
A38: Table B1.B | B38: Tunisia. Income control, population control and price index 1937-1956
A39: Table B1.C | B39: Cameroon. Income control and population control 1945
A40: Table B1.D | B40: Vietnam. Income control, population control and price index 1920-1948
A41: Table C1 | B41: Samir Amin’s social table for Algeria and Tunisia for 1955
A42: Table C2 | B42: Distribution of income among Tunisian Muslims according to the 1957 household survey
A44: Figure D1 | B44: ='Figure D1'!A37 -> Top 0.01% income share in the French and the British colonial empires, 1920-1960
A45: Figure D2 | B45: ='Figure D2'!A37 -> The top 0.01% income share in the five colonies of French Indochina
A46: Figure D3 | B46: ='Figure D3'!A34 -> Ethnic composition of the top 1% group in Tunisia and South Africa
A47: Figure D4 | B47: ='Figure D4'!A38 -> Top income share among autochthons in Tunisia and Cochinchina

Sheet Figure1
N1: Back
A38: Top 1% income share in the French and the British colonial empires, 1920-1960

Sheet Figure2
N1: Back
A37: Top 0.1% income share in the French and the British colonial empires, 1920-1960

Sheet Figure3
I1: Back
A37: Income taxpayers in statistics as percentage of total tax units, 1920-1960

Sheet Figure4 
J1: Back
A39: Estimates of GDP per capita in Algeria, Tunisia, French Cameroon and Indochina 1920-1960

Sheet Figure5
J1: Back
A38: Average income in Algeria, Tunisia, French Cameroon, and Indochina: ratio to average income in France, 1920-1960

Sheet Figure6
I1: Back
A37: Top 0.1% income share in Algeria, Cochinchina, and Tonkin between 1920 and 1960

Sheet Figure7
I1: Back
A38: Top 0.1% income share in the French and British colonial empires 1945-1960

Sheet Figure8
N1: Back
A25: Tunisia | G25: Cochinchina
A28: The ethnic composition of the top 0.1% group in Tunisia and Cochinchina
A54: Top 0.1%

Sheet Figure9
D1: Label | E1: Top percentile share | F1: Observed top 0.1% share | G1: Share of Europeans in population | H1: Observed top income to metropole | I1: Metropole average income to colony | K1: Back
C4: Year
B5: Vietnam | C5: 1921 | D5: Vie21 | E5: 0.1 | F5: =Results!$C$10 -> 7.0680203 | G5: 0.11394558 | H5: =Results!$G$10 -> 5.5170924 | I5: =1/(E5*H5/F5) -> 12.811133
B6: Vietnam | C6: 1932 | D6: Vie32 | E6: 0.1 | F6: =Results!$C$21 -> 12.923516 | G6: 0.13007523 | H6: =Results!$G$21 -> 6.61219 | I6: =1/(E6*H6/F6) -> 19.544986
B7: Vietnam | C7: 1942 | D7: Vie42 | E7: 0.1 | F7: =Results!$C$31 -> 5.2401922 | G7: 0.12032239 | H7: =Results!$G$31 -> 2.75071 | I7: =1/(E7*H7/F7) -> 19.050326
B8: Algeria | C8: 1932 | D8: Alg32 | E8: 0.1 | F8: =Results!$AC$21 -> 6.9869876 | G8: =100*Algeria_income_pop2!$L$22/Algeria_income_pop2!$N$22 -> 15.709004 | H8: =Results!$AI$21 -> 21.287426 | I8: =1/(E8*H8/F8) -> 3.2822135
B9: Algeria | C9: 1946 | D9: Alg46 | E9: 0.1 | F9: =Results!$AC$35 -> 6.2186429 | G9: =100*Algeria_income_pop2!$O$36/Algeria_income_pop2!$Q$36 -> 13.4611 | H9: =Results!$AI$35 -> 15.865543 | I9: =1/(E9*H9/F9) -> 3.9195904
B10: Algeria | C10: 1955 | D10: Alg55 | E10: 0.1 | F10: =Results!$AC$44 -> 4.3037698 | G10: =100*Algeria_income_pop2!$O$45/Algeria_income_pop2!$Q$45 -> 12.653611 | H10: =Results!$AI$44 -> 9.3118153 | I10: =1/(E10*H10/F10) -> 4.6218375
B11: South Africa | C11: 1932 | D11: SAf32 | E11: 0.1 | F11: =Results!$DT$21 -> 6.57 | G11: =100*912/3937 -> 23.164846 | H11: =Results!$DY$21 -> 23.883926 | I11: =1/(E11*H11/F11) -> 2.750804
B12: South Africa | C12: 1949 | D12: SAf49 | E12: 0.1 | F12: =Results!$DT$38 -> 5.6 | G12: =100*1183/5742 -> 20.602577 | H12: =Results!$DY$38 -> 26.078973 | I12: =1/(E12*H12/F12) -> 2.1473239
B13: South Africa | C13: 1955 | D13: SAf55 | E13: 0.1 | F13: =Results!$DT$44 -> 3.59 | G13: =100*1295/6377 -> 20.307355 | H13: =Results!$DY$44 -> 17.41339 | I13: =1/(E13*H13/F13) -> 2.0616319
B14: Zimbabwe | C14: 1932 | D14: Zim32 | E14: 0.1 | F14: =Results!$DH$21 -> 11.57 | G14: =(41998*100/(Results!$DK$35*1000))*(((125/82)^(-1/5))*((82/47.91)^(-13/15))/(Results!$DK$21/Results!$DK$35)) -> 4.2468423 | H14: =Results!$DL$21 -> 15.931729 | I14: =1/(E14*H14/F14) -> 7.2622374
B15: Zimbabwe | C15: 1949 | D15: Zim49 | E15: 0.1 | F15: =Results!$DH$38 -> 11.29 | G15: =(41998*100/(Results!$DK$35*1000))*((125/82)^(3/5)/(Results!$DK$38/Results!$DK$35)) -> 5.4843792 | H15: =Results!$DL$38 -> 22.743951 | I15: =1/(E15*H15/F15) -> 4.9639572
B16: Zimbabwe | C16: 1955 | D16: Zim55 | E16: 0.1 | F16: =Results!$DH$44 -> 6.81 | G16: =(41998*100/(Results!$DK$35*1000))*(((125/82)^(4/5))*(157/125)*((218/157)^(2/7))/(Results!$DK$44/Results!$DK$35)) -> 6.6287362 | H16: =Results!$DL$44 -> 15.36133 | I16: =1/(E16*H16/F16) -> 4.4332098
B17: India | C17: 1932 | D17: Ind32 | E17: 0.1 | F17: =Results!$FB$21 -> 7.0275133 | G17: =0.04 -> 0.04 | H17: =Results!$FF$21 -> 4.0311303 | I17: =1/(E17*H17/F17) -> 17.433109
B18: India | C18: 1947 | D18: Ind47 | E18: 0.1 | F18: =Results!$FB$36 -> 5.4355438 | G18: 0.04 | H18: =Results!$FF$36 -> 5.136702 | I18: =1/(E18*H18/F18) -> 10.581778
B19: Cameroon | C19: 1945 | D19: Cam45 | E19: 0.1 | F19: =Results!$AK$34 -> 8.504123 | G19: =100*Cameroon_Europeans!$E$2/Cameroon_1945!$E$2 -> 0.14288777 | H19: =Results!$AO$34 -> 3.4217122 | I19: =1/(E19*H19/F19) -> 24.853414
B20: Tunisia | C20: 1946 | D20: Tun46 | E20: 0.1 | F20: =Results!$BL$35 -> 4.3677256 | G20: =100*Tunisia_income_pop2!$J$35/Tunisia_income_pop2!$L$35 -> 8.8531757 | H20: =Results!$BP$35 -> 9.2648181 | I20: =1/(E20*H20/F20) -> 4.7143134
B21: Tunisia | C21: 1955 | D21: Tun55 | E21: 0.1 | F21: =Results!$BL$44 -> 4.2012395 | G21: =100*Tunisia_income_pop2!$J$44/Tunisia_income_pop2!$L$44 -> 7.9751081 | H21: =Results!$BP$44 -> 7.5070477 | I21: =1/(E21*H21/F21) -> 5.5963938
B22: Zambia | C22: 1949 | D22: Zam49 | E22: 0.1 | F22: =Results!$CZ$38 -> 9.81 | G22: =(8248*100/(Results!$DC$20*1000))*((21919/13846)*(37221/21919)^(3/5)/(Results!$DC$38/Results!$DC$20)) -> 1.9362409 | H22: =Results!$DD$38 -> 9.0302261 | I22: =1/(E22*H22/F22) -> 10.863515
B23: Zambia | C23: 1955 | D23: Zam55 | E23: 0.1 | F23: =Results!$CZ$44 -> 4.65 | G23: =(8248*100/(Results!$DC$20*1000))*((37221/13846)*(64800/37221)^(4/5)/(Results!$DC$44/Results!$DC$20)) -> 3.251976 | H23: =Results!$DD$44 -> 10.46245 | I23: =1/(E23*H23/F23) -> 4.4444655
B24: Kenya | C24: 1948 | D24: Ken48 | E24: 0.1 | F24: =Results!$CB$37 -> 6.39 | G24: =0.55*((1-0.344)*(40400/55759))/((1-0.344)*0.602) -> 0.66196128 | H24: =Results!$CF$37 -> 7.0344277 | I24: =1/(E24*H24/F24) -> 9.0838946
B25: Tanganyika | C25: 1948 | D25: Tan48 | E25: 0.1 | F25: =Results!$CJ$37 -> 7.4 | G25: =0.14*((1-0.344)*(40400/55759))/((1-0.344)*0.602) -> 0.16849923 | H25: =Results!$CN$37 -> 5.0957814 | I25: =1/(E25*H25/F25) -> 14.521816
B26: Malawi | C26: 1945 | D26: Mal45 | E26: 0.1 | F26: =Results!$EK$34 -> 7.3 | G26: 0.12 | H26: =Results!$EO$34 -> 3.8890517 | I26: =1/(E26*H26/F26) -> 18.770643
B27: Uganda | C27: 1948 | D27: Uga48 | E27: 0.1 | F27: =Results!$CR$37 -> 3.63 | G27: =0.07*((1-0.344)*(40400/55759))/((1-0.344)*0.602) -> 0.084249617 | H27: =Results!$CV$37 -> 3.6795419 | I27: =1/(E27*H27/F27) -> 9.8653586
B28: Ghana | C28: 1951 | D28: Gha51 | E28: 0.1 | F28: =Results!$BT$40 -> 1.98 | G28: =0.1*((1-0.344)*(40400/55759))/((1-0.344)*0.602) -> 0.1203566 | H28: =Results!$BX$40 -> 5.7131784 | I28: =1/(E28*H28/F28) -> 3.4656716
A57: The top 0.1% income share and settlement patterns

Sheet Figure10
M1: Back
A38: Inequality among Europeans in Tunisia and Vietnam, and comparison with France

Sheet Table 1
B1: Back

Sheet Table2A
A1: Table 2A. Algeria. Shares of income of top groups 1932-1957 | G1: Back
A2: per cent
B3: Among total (adult) population
B4: Top 1% | C4: Top 0.5% | D4: Top 0.1% | E4: Top 0.05% | F4: Top 0.01%
A7: 1932 | B7: 22.208537 | C7: 15.437227 | D7: 6.9869876 | E7: 4.8556378 | F7: 1.8262014
A8: 1933 | B8: 22.361234 | C8: 15.384382 | D8: 7.0914644 | E8: 4.4530139 | F8: 1.7058531
A9: 1934 | B9: 19.891386 | C9: 14.555013 | D9: 6.5246507 | E9: 4.3770903 | F9: 1.6444558
A10: 1935 | B10: 17.305075 | C10: 12.430045 | D10: 5.3065178 | E10: 3.5812203 | F10: 1.3225779
A11: 1936 | B11: 18.289107 | C11: 13.328511 | D11: 5.9726398 | E11: 4.062517 | F11: 1.5684975
A12: 1937 | B12: 19.849609 | C12: 14.073906 | D12: 5.934334 | E12: 4.0237279 | F12: 1.498572
A13: 1938 | B13: 19.830414 | C13: 14.720978 | D13: 7.1378492 | E13: 4.9166397 | F13: 1.6088913
A14: 1939 | B14: 18.795959 | C14: 13.994299 | D14: 6.8429966 | E14: 4.7374974 | F14: 1.5821021
A15: 1940 | B15: 21.514093 | C15: 16.419582 | D15: 8.1734359 | E15: 5.515545 | F15: 1.724226
A16: 1941 | B16: 22.585799 | C16: 16.998973 | D16: 8.2586833 | E16: 5.5453988 | F16: 1.6929443
A17: 1942
A18: 1943
A19: 1944
A20: 1945
A21: 1946 | B21: 17.94137 | C21: 13.100308 | D21: 6.2186429 | E21: 4.5738345 | F21: 2.183787
A22: 1947 | B22: 16.640002 | C22: 12.103582 | D22: 5.7852951 | E22: 4.2027655 | F22: 2.1210301
A23: 1948 | B23: 17.199568 | C23: 12.77009 | D23: 6.4609966 | E23: 4.8574714 | F23: 3.3162436
A24: 1949 | B24: 15.653184 | C24: 11.148558 | D24: 5.2942855 | E24: 3.8863701 | F24: 2.1277226
A25: 1950 | B25: 13.935003 | C25: 10.277532 | D25: 4.2357334 | E25: 2.8971681 | F25: 1.2994964
A26: 1951 | B26: 15.020295 | C26: 10.81783 | D26: 4.5065534 | E26: 3.0518505 | F26: 1.1473797
A27: 1952 | B27: 16.208519 | C27: 10.832815 | D27: 4.176434 | E27: 2.7891502 | F27: 1.0807086
A28: 1953 | B28: 15.014952 | C28: 10.888659 | D28: 4.3323264 | E28: 2.8878368 | F28: 1.0908516
A29: 1954 | B29: 15.183814 | C29: 9.9192304 | D29: 3.7307185 | E29: 2.7433096 | F29: 1.1571506
A30: 1955 | B30: 16.271449 | C30: 10.702321 | D30: 4.3037698 | E30: 3.2987196 | F30: 1.267261
A31: 1956
A32: 1957 | B32: 17.002853 | C32: 11.739999 | D32: 5.0729422 | E32: 3.6950908 | F32: 2.1101515

Sheet Table2B
A1: Table 2B. Tunisia. Shares of income of top groups 1946-1956 | U1: Back
A2: per cent
B3: Among total (adult) population | H3: Among Europeans | P3: Among Tunisians-non Europeans
B5: Top 1% | C5: Top 0.5% | D5: Top 0.1% | E5: Top 0.05% | F5: Top 0.01% | H5: Top 10% | I5: Top 5% | J5: Top 1% | K5: Top 0.5% | L5: Top 0.1% | M5: Top 0.05% | N5: Top 0.01% | P5: Top 1% | Q5: Top 0.5% | R5: Top 0.1% | S5: Top 0.05% | T5: Top 0.01%
A8: 1946 | B8: 13.086466 | C8: 9.5195265 | D8: 4.3677256 | E8: 3.087705 | F8: 1.3479017 | H8: 31.330907 | I8: 22.792704 | J8: 10.226067 | K8: 7.1540067 | L8: 2.9902811 | M8: 1.902729 | N8: 0.66048337 | R8: 2.8208534 | S8: 2.0784271 | T8: 1.0364869 | V8: 33.3 | W8: 22.69 | X8: 9.44 | Y8: 2.71
A9: 1947 | B9: 13.496223 | C9: 9.4451471 | D9: 4.1163496 | E9: 2.9274707 | F9: 1.303598 | H9: 31.918323 | I9: 22.038298 | J9: 9.1545337 | K9: 6.3295401 | L9: 2.6452273 | M9: 1.744228 | N9: 0.79162171 | Q9: 5.9815002 | R9: 3.0524744 | S9: 2.3009563 | T9: 1.1792834 | V9: 34.42 | W9: 23.91 | X9: 9.83 | Y9: 2.86
A10: 1948 | B10: 11.123225 | C10: 8.0351612 | D10: 3.7964428 | E10: 2.7488606 | F10: 1.2427404 | H10: 26.871437 | I10: 19.293913 | J10: 9.0477076 | K10: 6.5510226 | L10: 2.9413682 | M10: 2.1679884 | N10: 1.4712986 | Q10: 4.4414937 | R10: 2.193871 | S10: 1.6309451 | T10: 0.78334003 | V10: 32.71 | W10: 21.96 | X10: 8.93 | Y10: 2.5
A11: 1949 | V11: 32.59 | W11: 22.05 | X11: 9.19 | Y11: 2.68
A12: 1950 | V12: 32.94 | W12: 22.18 | X12: 9.3 | Y12: 2.73
A13: 1951 | V13: 34.45 | W13: 23.53 | X13: 10.12 | Y13: 3.03
A14: 1952 | B14: 14.457827 | C14: 10.367114 | D14: 4.5828162 | E14: 3.1928472 | F14: 1.3296752 | H14: 34.572507 | I14: 24.781611 | J14: 10.985051 | K14: 7.6565828 | L14: 3.0964433 | M14: 2.1374084 | N14: 1.288319 | Q14: 5.6034703 | R14: 2.6022004 | S14: 1.8438644 | T14: 0.78744177 | V14: 34.99 | W14: 24.21 | X14: 10.59 | Y14: 3.15
A15: 1953 | B15: 14.064532 | C15: 9.9526032 | D15: 4.1455543 | E15: 2.7749013 | F15: 1.0529522 | H15: 32.915502 | I15: 23.374794 | J15: 9.8071053 | K15: 6.5867635 | L15: 2.5113825 | M15: 1.6609826 | N15: 0.86335403 | Q15: 5.9884911 | R15: 2.6797546 | S15: 1.8127768 | T15: 0.70719052 | V15: 34.72 | W15: 23.94 | X15: 10.41 | Y15: 3.09
A16: 1954 | B16: 14.052603 | C16: 9.8917235 | D16: 4.0746696 | E16: 2.7007309 | F16: 1.0169873 | H16: 33.038078 | I16: 23.241878 | J16: 9.6469863 | K16: 6.4535846 | L16: 2.4626384 | M16: 1.628765 | N16: 0.86352711 | Q16: 5.7087131 | R16: 2.5677584 | S16: 1.7511617 | T16: 0.64230629 | V16: 35.72 | W16: 24.73 | X16: 10.85 | Y16: 3.18
A17: 1955 | B17: 14.980347 | C17: 10.430945 | D17: 4.2012395 | E17: 2.8096686 | F17: 1.0903392 | H17: 34.545751 | I17: 23.89266 | J17: 9.5656163 | K17: 6.4024817 | L17: 2.4973664 | M17: 1.7033765 | N17: 0.99251161 | P17: 8.9732027 | Q17: 6.4768573 | R17: 2.9659799 | S17: 2.0459701 | T17: 0.81762097 | V17: 36.63 | W17: 25.35 | X17: 11.07 | Y17: 3.23
A18: 1956 | B18: 13.511621 | C18: 9.6317039 | D18: 4.0004542 | E18: 2.6866037 | F18: 1.038471 | H18: 30.927366 | I18: 22.08361 | J18: 9.1784493 | K18: 6.190364 | L18: 2.4192421 | M18: 1.5685394 | N18: 0.91394565 | P18: 8.0749685 | Q18: 5.9300211 | R18: 2.6680659 | S18: 1.8350517 | T18: 0.72519423 | V18: 35.56 | W18: 24.27 | X18: 10.22 | Y18: 2.83

Sheet Table 2C
A1: Back
A4: Table 2C. Cameroon. Shares of income of top groups 1945
A5: per cent
B7: Among total (adult) population | G7: Among Europeans
B10: Top 0.5% | C10: Top 0.1% | D10: Top 0.05% | E10: Top 0.01% | G10: Top 50% | H10: Top 25% | I10: Top 10% | J10: Top 5% | K10: Top 1%
A13: 1945 | B13: 11.134097 | C13: 8.504123 | D13: 5.8828534 | E13: 2.2428421 | G13: 79.825339 | H13: 53.556272 | I13: 30.883514 | J13: 20.233679 | K13: 7.0976128

Sheet Table 2D
A1: Table 2D. Vietnam. Shares of income of top groups 1921-1942 | L1: Back
B3: Among total (adult) population | F3: Among Europeans
B5: Top 0.1% | C5: Top 0.05% | D5: Top 0.01% | F5: Top 75% | G5: Top 50% | H5: Top 25% | I5: Top 10% | J5: Top 5% | K5: Top 1%
A8: 1921 | B8: 7.0680203 | C8: 4.7610814 | D8: 1.4081947 | F8: 89.531662 | G8: 72.810046 | H8: 48.448254 | I8: 28.319667 | J8: 19.373833 | K8: 8.0260704
A9: 1922
A10: 1923
A11: 1924
A12: 1925
A13: 1926 | B13: 8.7634582 | C13: 6.2006841 | D13: 2.4554284 | F13: 89.453326 | G13: 73.198715 | H13: 49.275209 | I13: 29.035353 | J13: 20.002427 | K13: 8.5176601
A14: 1927 | B14: 8.1689128 | C14: 5.7863848 | D14: 2.2900213 | F14: 89.534733 | G14: 73.419358 | H14: 49.499229 | I14: 29.222774 | J14: 19.94849 | K14: 8.9832297
A15: 1928 | B15: 9.1186613 | C15: 6.2650389 | D15: 2.465014 | F15: 89.70173 | G15: 72.664459 | H15: 48.616082 | I15: 28.581404 | J15: 19.511709 | K15: 8.6991604
A16: 1929 | B16: 9.2355862 | C16: 6.3304711 | D16: 2.4212435 | F16: 89.667073 | G16: 73.045417 | H16: 48.214156 | I16: 27.711224 | J16: 18.789353 | K16: 8.2998421
A17: 1930 | B17: 10.618683 | C17: 7.2857479 | D17: 2.6527149 | F17: 89.944634 | G17: 73.503897 | H17: 48.366131 | I17: 27.120156 | J17: 17.798442 | K17: 7.7189475
A18: 1931 | B18: 12.34962 | C18: 8.4791438 | D18: 3.063264 | F18: 90.550521 | G18: 73.750145 | H18: 48.401834 | I18: 26.957751 | J18: 17.652489 | K18: 7.3322547
A19: 1932 | B19: 12.923516 | C19: 8.9349408 | D19: 3.2513015 | F19: 90.438534 | G19: 73.559791 | H19: 48.274649 | I19: 27.015369 | J19: 17.739062 | K19: 5.7305546
A20: 1933 | B20: 13.171652 | C20: 9.1664904 | D20: 3.3793896 | F20: 90.507077 | G20: 73.888935 | H20: 48.790691 | I20: 27.521272 | J20: 18.297154 | K20: 7.6805122
A21: 1934 | B21: 13.068331 | C21: 9.1423532 | D21: 3.3500949 | F21: 90.05982 | G21: 73.263547 | H21: 48.222433 | I21: 27.10156 | J21: 18.004074 | K21: 7.4263516
A22: 1935 | B22: 11.528631 | C22: 8.1217429 | D22: 2.9369826 | F22: 89.574319 | G22: 73.460341 | H22: 48.325916 | I22: 26.897239 | J22: 17.574965 | K22: 6.8966578
A23: 1936
A24: 1937 | B24: 9.526047 | C24: 7.1071651 | D24: 2.9436297 | G24: 79.621217 | H24: 56.046443 | I24: 32.648514 | J24: 22.109011 | K24: 8.769544
A25: 1938 | B25: 8.292491 | C25: 6.2366071 | D25: 2.6229089 | G25: 79.886244 | H25: 57.473768 | I25: 34.670819 | J25: 23.519031 | K25: 10.130971
A26: 1939 | B26: 8.3006927 | C26: 6.2433142 | D26: 2.678439 | G26: 79.989086 | H26: 58.381394 | I26: 36.099068 | J26: 24.611782 | K26: 11.64464
A27: 1940 | B27: 9.7790924 | C27: 7.7569314 | D27: 3.5413199 | G27: 90.840024 | H27: 69.023538 | I27: 44.539705 | J27: 31.749866 | K27: 12.378648
A28: 1941
A29: 1942 | B29: 5.2401922 | C29: 4.3741826 | D29: 1.9760805 | G29: 89.565799 | H29: 68.280441 | I29: 42.208208 | J29: 29.039728 | K29: 11.356351

Sheet Table 3
B1: Table 3. Comparison between average incomes in the colonies and in the metropolis | H1: Back
B2: Country | C2: Year | D2: Europeans in tax units | E2: Assumption: Europeans at the top | F2: Top p% of population | G2: Average income to metropole top 5% | J2: Average income to metropole | R2: Country | S2: Year | T2: Europeans in tax units | U2: Top p% of population | V2: Average income to metropole | W2: Average income to metropole top 0.5%
D6: ε | E6: εp | F6: =5.ε/εp | G6: θ5 | T6: % | U6: % | V6: ratio | W6: ratio
D7: (%) | E7: (%) | F7: (%) | G7: (ratio) | J7: (ratio) | T7: I | U7: II | V7: III | W7: IV
D8: I | E8: II | F8: III | G8: IV | J8: IV | R8: 1932
B9: 1932 | R9: South Africa | S9: 1932 | T9: 23.164846 | U9: 0.11818799 | V9: 21.904818 | W9: 0.79378064
B10: South Africa | C10: 1932 | D10: 23.164846 | E10: 98 | F10: 1.1818799 | G10: 1.120611 | J10: 6.7753385 | R10: Algeria (North) | S10: 1932 | T10: 15.709004 | U10: 0.087272243 | V10: 22.681402 | W10: 0.95782948
B11: Algeria (North) | C11: 1932 | D11: 15.709004 | E11: 90 | F11: 0.87272243 | G11: 1.1285775 | J11: 7.3018963 | R11: Vietnam | S11: 1932 | T11: 0.13007523 | U11: 0.00065037616 | V11: 63.695942 | W11: 2.6898624
B12: Vietnam | C12: 1932 | D12: 0.13007523 | E12: not needed | F12: 0.0065037616 | G12: 3.0474843 | J12: 19.717223 | R12: 1940s
B13: 1940s | R13: South Africa | S13: 1949 | T13: 20.602577 | U13: 0.10511519 | V13: 25.456304 | W13: 1.5675064
B14: South Africa | C14: 1949 | D14: 20.602577 | E14: 98 | F14: 1.0511519 | G14: 1.73713 | J14: 8.1262939 | R14: Algeria | S14: 1946 | T14: 13.4611 | U14: 0.074783889 | V14: 19.960958 | W14: 1.5307483
B15: Algeria | C15: 1946 | D15: 13.4611 | E15: 90 | F15: 0.74783889 | G15: 1.1892299 | J15: 5.3967251 | R15: Tunisia | S15: 1946 | T15: 8.8531757 | U15: 0.044265878 | V15: 12.047554 | W15: 0.92389216
B16: Tunisia | C16: 1946 | D16: 8.8531757 | E16: not needed | F16: 0.44265878 | G16: 0.84582571 | J16: 3.8383571 | R16: French Cameroon | S16: 1945 | T16: 0.14288777 | U16: 0.00071443887 | V16: 21.258988 | W16: 2.04021
B17: Zimbabwe | C17: 1949 | D17: 5.4843792 | E17: 98 | F17: 0.27981526 | G17: 2.892629 | J17: 13.531718 | R17: Vietnam | S17: 1942 | T17: 0.12032239 | U17: 0.00060161194 | V17: 26.756881 | W17: 1.7129886
B18: Zambia | C18: 1949 | D18: 1.9362409 | E18: 98 | F18: 0.098787802 | G18: 1.9417878 | J18: 9.0836832 | R18: 1955
B19: Kenya | C19: 1948 | D19: 0.66196128 | E19: 73.217539 | F19: 0.045205103 | G19: 2.1546214 | J19: 10.307709 | R19: South Africa | S19: 1955 | T19: 20.307355 | U19: 0.10360895 | V19: 17.178897 | W19: 1.3255321
B20: French Cameroon | C20: 1945 | D20: 0.14288777 | E20: not needed | F20: 0.0071443887 | G20: 2.5725003 | J20: 10.290001 | R20: Algeria | S20: 1955 | T20: 12.653611 | U20: 0.07029784 | V20: 11.486428 | W20: 0.74105984
B21: Vietnam | C21: 1942 | D21: 0.12032239 | E21: not needed | F21: 0.0060161194 | G21: 2.0160125 | J21: 11.313862 | R21: Tunisia | S21: 1955 | T21: 7.9751081 | U21: 0.03987554 | V21: 10.082554 | W21: 0.65048737
B22: Ghana | C22: 1951 | D22: 0.1203566 | E22: 70.3 | F22: 0.0085602131 | G22: 3.7013369 | J22: 16.672302 | R22: Zimbabwe | S22: 1955 | T22: 6.6287362 | U22: 0.033820083 | V22: 23.377826 | W22: 1.8038446
B23: Uganda | C23: 1948 | D23: 0.084249617 | E23: 49.586044 | F23: 0.0084952954 | G23: 2.5174952 | J23: 12.043697
B24: 1955
B25: South Africa | C25: 1955 | D25: 20.307355 | E25: 98 | F25: 1.0360895 | G25: 1.6376875 | J25: 6.8874584
B26: Algeria | C26: 1955 | D26: 12.653611 | E26: 90 | F26: 0.7029784 | G26: 0.79944425 | J26: 4.0531823
B27: Tunisia | C27: 1955 | D27: 7.9751081 | E27: 100 | F27: 0.3987554 | G27: 0.74212791 | J27: 3.7625885
B28: Zimbabwe | C28: 1955 | D28: 6.6287362 | E28: 98 | F28: 0.33820083 | G28: 2.1411902 | J28: 9.0049896
B29: Zambia | C29: 1955 | D29: 3.251976 | E29: 98 | F29: 0.16591714 | G29: 2.081615 | J29: 8.7544402
AB33: UK
B34: Comparisons of settlers' income | M34: UK | U34: Europeans in tax units | V34: Cell = top x% of Europeans | W34: Share of Europeans in cell | X34: Cell = top x% of population | Y34: Average income to metropole | Z34: Ratio of top x% average income in metropole | AD34: 1919 | AE34: 1937
D35: Europeans in tax units | E35: Cell = top x% of Europeans | F35: Share of Europeans in cell | G35: Cell = top z% of population | H35: Delta p | I35: Average income to metropole | J35: Corrected | K35: Ratio of top x% average income in metropole | O35: 1919 | P35: 1937 | S35: 1930s | U35: % | V35: % | W35: % | X35: % | AC35: p99.5p100
B36: 1930s | D36: % | E36: % | F36: % | G36: % | M36: B coeff | N36: p95p100 | S36: South Africa | T36: 1932 | U36: 23.164846 | V36: 0.5 | W36: 98 | X36: 0.11818799 | Y36: 21.904818 | Z36: 0.79378064 | AA36: 0.1 | AB36: 2.0730933 | AC36: 13.797778 | AD36: 15.69 | AE36: 13.07
B37: South Africa | C37: 1932 | D37: 23.164846 | E37: 5 | F37: 98 | G37: 1.1818799 | H37: 1 | I37: 6.7753385 | J37: 6.7753385 | K37: 1.120611 | L37: 1 | M37: 1.545517 | N37: 30.230556 | O37: 31.48 | P37: 29.75 | S37: Algeria | T37: 1932 | U37: 15.709004 | V37: 0.5 | W37: 90 | X37: 0.087272243 | Y37: 22.681402 | Z37: 0.95782948 | AC37: 11.84
B38: Algeria | C38: 1932 | D38: 15.709004 | E38: 5 | F38: 90 | G38: 0.87272243 | H38: 1 | I38: 7.3018963 | J38: 7.3018963 | K38: 1.1285775 | L38: 1 | N38: 32.35 | S38: Vietnam | T38: 1932 | U38: 0.13007523 | V38: 0.5 | W38: 100 | X38: 0.00065037616 | Y38: 63.695942 | Z38: 2.6898624 | AC38: 11.84
B39: Vietnam | C39: 1932 | D39: 0.13007523 | E39: 5 | F39: 100 | G39: 0.0065037616 | H39: 1 | I39: 19.717223 | J39: 19.717223 | K39: 3.0474843 | N39: 32.35 | S39: 1940s
B40: 1940s | S40: South Africa | T40: 1949 | U40: 20.602577 | V40: 0.5 | W40: 98 | X40: 0.10511519 | Y40: 25.456304 | Z40: 1.5675064 | AA40: 0.1 | AB40: 1.9395522 | AC40: 8.12
B41: South Africa | C41: 1949 | D41: 20.602577 | E41: 5 | F41: 98 | G41: 1.0511519 | H41: 1 | I41: 8.1262939 | J41: 8.1262939 | K41: 1.73713 | L41: 1 | M41: 1.4939712 | N41: 23.39 | S41: Algeria | T41: 1946 | U41: 13.4611 | V41: 0.5 | W41: 90 | X41: 0.074783889 | Y41: 19.960958 | Z41: 1.5307483 | AC41: 6.52
B42: Algeria | C42: 1946 | D42: 13.4611 | E42: 5 | F42: 90 | G42: 0.74783889 | H42: 1 | I42: 5.3967251 | J42: 5.3967251 | K42: 1.1892299 | L42: 1 | N42: 22.69 | S42: Tunisia | T42: 1946 | U42: 8.8531757 | V42: 0.5 | W42: 100 | X42: 0.044265878 | Y42: 12.047554 | Z42: 0.92389216 | AC42: 6.52
B43: Tunisia | C43: 1946 | D43: 8.8531757 | E43: 5 | F43: 100 | G43: 0.44265878 | H43: 1 | I43: 3.8383571 | J43: 3.8383571 | K43: 0.84582571 | N43: 22.69 | S43: French Cameroon | T43: 1945 | U43: 0.14288777 | V43: 0.5 | W43: 100 | X43: 0.00071443887 | Y43: 21.258988 | Z43: 2.04021 | AC43: 5.21
B44: Zimbabwe | C44: 1949 | D44: 5.4843792 | E44: 5 | F44: 98 | G44: 0.27981526 | H44: 1 | I44: 13.531718 | J44: 13.531718 | K44: 2.892629 | L44: 0.25 | M44: 2.2070067 | N44: 23.39 | S44: Vietnam | T44: 1942 | U44: 0.12032239 | V44: 0.5 | W44: 100 | X44: 0.00060161194 | Y44: 26.756881 | Z44: 1.7129886 | AC44: 7.81
B45: Zambia | C45: 1949 | D45: 1.9362409 | E45: 5 | F45: 98 | G45: 0.098787802 | H45: 1 | I45: 9.0836832 | J45: 9.0836832 | K45: 1.9417878 | L45: 0.1 | M45: 1.9378172 | N45: 23.39 | S45: 1950s
B46: Kenya | C46: 1948 | D46: 0.66196128 | E46: 5 | F46: 73.217539 | G46: 0.045205103 | H46: 1 | I46: 10.307709 | J46: 10.307709 | K46: 2.1546214 | L46: 0.05 | M46: 1.9276283 | N46: 23.92 | S46: South Africa | T46: 1955 | U46: 20.307355 | V46: 0.5 | W46: 98 | X46: 0.10360895 | Y46: 17.178897 | Z46: 1.3255321 | AA46: 0.1 | AB46: 1.6191957 | AC46: 6.48
...

Sheet Table 4
B1: Table 4. Decomposition of the fall in inequality after World War II | P1: Back
D2: Top percentile (%) | E2: Observed income share (%) | F2: Share of Europeans (%) | G2: Share of Europeans at top (%) | H2: Metropole quantile (%) | I2: Income gap at top (ratio) | J2: Top share metropole (%) | K2: European income ratio at top | L2: European income ratio | M2: Income gap (ratio) | N2: Predicted top share (%) | O2: Fit = Observed / Predicted
D5: p | F5: ε | G5: εp | H5: q | I5: δp | K5: θq | L5: θ | M5: δ
B6: Colony | C6: Year | H6: = p.εp/ε
D7: I | E7: II | F7: III | G7: IV | H7: V | I7: VII | J7: VI | K7: VIII | L7: IX | M7: X | N7: XI | O7: =II/XI
B9: Cochinchina | C9: 1932 | D9: 0.1 | E9: 9.5459652 | F9: 0.30510053 | G9: 100 | H9: 32.776082 | J9: 73.046032 | K9: 4.6795534 | L9: 5.4879482 | M9: 59.143729 | N9: 9.5459652 | O9: 1
B10: Cochinchina | C10: 1949 | D10: 0.1 | E10: 3.8566916 | F10: 0.12564435 | G10: 57.450218 | H10: 45.724473 | I10: 1.1775389 | J10: 78.622787 | K10: 3.1354467 | L10: 4.1101896 | M10: 32.667638 | N10: 6.7659569 | O10: 0.57001421
B12: South Africa | C12: 1932 | D12: 1 | E12: 19.77 | F12: 23.164846 | G12: 98 | H12: 4.2305482 | I12: 1 | J12: 30.230556 | K12: 1.0632178 | L12: 1.0632178 | M12: 6.9681315 | N12: 19.77 | O12: 1
B13: South Africa | C13: 1955 | D13: 1 | E13: 14.42 | F13: 20.307355 | G13: 98 | H13: 4.8258378 | I13: 1 | J13: 21.028 | K13: 1.6343081 | L13: 1.6343081 | M13: 8.5032393 | N13: 13.482095 | O13: 1.0695667
B14: Algeria | C14: 1932 | D14: 1 | E14: 22.208537 | F14: 15.709004 | G14: 90 | H14: 5.7291985 | I14: 1 | J14: 35.59 | K14: 1.1134099 | L14: 1.1134099 | M14: 7.2322356 | N14: 22.208537 | O14: 1
B15: Algeria | C15: 1955 | D15: 1 | E15: 16.271449 | F15: 12.653611 | G15: 90 | H15: 7.1125941 | I15: 1 | J15: 30.29 | K15: 0.8196741 | L15: 0.8196741 | M15: 6.3558145 | N15: 17.367167 | O15: 0.93690864
B16: Zimbabwe | C16: 1932 | D16: 0.1 | E16: 11.57 | F16: 4.2468423 | G16: 98 | H16: 2.3075969 | I16: 1 | J16: 17.705 | K16: 1.5725557 | L16: 1.5725557 | M16: 21.233577 | N16: 11.57 | O16: 1
B17: Zimbabwe | C17: 1955 | D17: 0.1 | E17: 6.81 | F17: 6.6287362 | G17: 98 | H17: 1.4784115 | I17: 1 | J17: 9.3 | K17: 2.0029506 | L17: 2.0029506 | M17: 20.152829 | N17: 6.9556481 | O17: 0.97906046
B18: Zambia | C18: 1943 | D18: 0.1 | E18: 8.54 | F18: 1.2935156 | G18: 98 | H18: 7.5762518 | I18: 1 | J18: 35.31 | K18: 1.663853 | L18: 1.663853 | M18: 27.598815 | N18: 8.54 | O18: 1
B19: Zambia | C19: 1955 | D19: 0.1 | E19: 4.65 | F19: 3.251976 | G19: 98 | H19: 3.0135524 | I19: 1 | J19: 21.028 | K19: 1.938114 | L19: 1.938114 | M19: 11.576617 | N19: 7.9885638 | O19: 0.5820821
E24: Top percentile share | F24: Observed top p% share | G24: Share of Europeans in population | H24: Observed top income to metropole | I24: Metropole average income to colony | J24: Metropole top q% share | L24: Predicted top p% share | O24: Predicted top p% share | R24: Expected top income to metropole | S24: Theta q | T24: Theta | U24: Share Europeans in top percentile | V24: Top Europeans
M26: Theta q / | P26: Theta q / | W26: 1/Delta | X26: Delta | Y26: 1/Deltap
K27: Coeff | M27: Theta | P27: Theta | S27: 0.85269636 | Z27: Closest share | AA27: Income share | AB27: B coefficient
S28: 0.76284721
C29: Cochinchina | D29: 1932 | E29: 0.1 | F29: 9.5459652 | G29: 0.30510053 | H29: 10.429032 | I29: 9.1532609 | J29: 73.046032 | K29: 0.15326 | L29: 9.5459652 | M29: 1 | N29: 1 | O29: 9.5459652 | P29: 1 | Q29: 1 | R29: 2.2286383 | S29: 4.6795534 | T29: 5.4879482 | U29: 100 | V29: 32.776082 | W29: 0.016907963 | X29: 59.143729 | Y29: 1 | Z29: 33 | AA29: 73.23 | AB29: 2.7067876 | AC29: 59.143729 | AD29: 9.5484196
C30: Cochinchina | D30: 1949 | E30: 0.1 | F30: 3.8566916 | G30: 0.12564435 | H30: 5.0454986 | I30: 7.6438265 | J30: 78.622787 | K30: 0.11280887 | L30: 6.7659569 | M30: 0.57001421 | N30: 0.57001421 | O30: 3.8566916 | P30: 1 | Q30: 1 | R30: 1.7194903 | S30: 3.1354467 | T30: 4.1101896 | U30: 57.450218 | V30: 45.724473 | W30: 0.030611335 | X30: 32.667638 | Y30: 0.84922884 | Z30: 46 | AA30: 78.85 | AB30: 2.0818605 | AC30: 32.667638 | AD30: 6.7728977
C31: Algeria | D31: 1932 | E31: 1 | F31: 22.208537 | G31: 15.709004 | H31: 6.766329 | I31: 3.2822135 | J31: 34.817044 | K31: 0.63786394 | L31: 22.208537 | M31: 1 | N31: 1 | O31: 22.208537 | P31: 1 | Q31: 1 | R31: 6.077123 | S31: 1.1134099 | T31: 1.1134099 | U31: 90 | V31: 5.7291985 | W31: 0.13826983 | X31: 7.2322356 | Y31: 1 | Z31: 6 | AA31: 35.59 | AB31: 2.1033125
C32: Algeria | D32: 1932 | E32: 0.1 | F32: 6.9869876 | G32: 15.709004 | H32: 21.287426 | I32: 3.2822135 | J32: 13.210508 | K32: 0.63786394 | L32: 6.9869876 | M32: 1 | N32: 1 | O32: 6.9869876 | P32: 1 | Q32: 1 | R32: 23.058213 | S32: 0.9232036 | T32: 1.1134099 | U32: 90 | V32: 0.57291985 | W32: 0.13826983 | X32: 7.2322356 | Y32: 1 | Z32: 0.6 | AA32: 13.46 | AB32: 2.4684372
C33: Algeria | D33: 1955 | E33: 1 | F33: 16.271449 | G33: 12.653611 | H33: 3.5205584 | I33: 4.6218375 | J33: 30.549096 | K33: 0.5685002 | L33: 17.367167 | M33: 0.93690864 | N33: 0.93690864 | O33: 11.978774 | P33: 1.3583568 | Q33: 1.3583568 | R33: 4.295071 | S33: 0.8196741 | T33: 0.8196741 | U33: 90 | V33: 7.1125941 | W33: 0.15733625 | X33: 6.3558145 | Y33: 1 | Z33: 7 | AA33: 30.29 | AB33: 1.8734263
C34: Algeria | D34: 1955 | E34: 0.1 | F34: 4.3037698 | G34: 12.653611 | H34: 9.3118153 | I34: 4.6218375 | J34: 9.3068253 | K34: 0.5685002 | L34: 4.5935853 | M34: 0.93690864 | N34: 0.93690864 | O34: 3.1683647 | P34: 1.3583568 | Q34: 1.3583568 | R34: 13.084994 | S34: 0.71164077 | T34: 0.8196741 | U34: 90 | V34: 0.71125941 | W34: 0.15733625 | X34: 6.3558145 | Y34: 1 | Z34: 0.7 | AA34: 9.23 | AB34: 1.9250708 | AC34: UK | AD34: 1932 | AE34: 1919 | AF34: 1937 | AG34: 1955
C35: South Africa | D35: 1932 | E35: 1 | F35: 19.77 | G35: 23.164846 | H35: 7.1869896 | I35: 2.750804 | J35: 28.597064 | K35: 0.69132972 | L35: 19.77 | M35: 1 | N35: 1 | O35: 19.77 | P35: 1 | Q35: 1 | R35: 6.759659 | S35: 1.0632178 | T35: 1.0632178 | U35: 98 | V35: 4.2305482 | W35: 0.1435105 | X35: 6.9681315 | Y35: 1 | Z35: 5 | AA35: 30.230556 | AB35: 3.0082609 | AC35: p95p100 | AD35: 30.230556 | AE35: 31.48 | AF35: 29.75 | AG35: 21.028
C36: South Africa | D36: 1932 | E36: 0.1 | F36: 6.57 | G36: 23.164846 | H36: 23.883926 | I36: 2.750804 | J36: 12.834066 | K36: 0.69132972 | L36: 6.57 | M36: 1 | N36: 1 | O36: 6.57 | P36: 1 | Q36: 1 | R36: 30.336651 | S36: 0.78729607 | T36: 1.0632178 | U36: 98 | V36: 0.42305482 | W36: 0.1435105 | X36: 6.9681315 | Y36: 1 | Z36: 0.5 | AA36: 13.797778 | AB36: 2.3079559 | AC36: p99.5p100 | AD36: 13.797778 | AE36: 15.69 | AF36: 13.07 | AG36: 6.48
C37: South Africa | D37: 1955 | E37: 1 | F37: 14.42 | G37: 20.307355 | H37: 6.9944592 | I37: 2.0616319 | J37: 20.653465 | K37: 0.65277641 | L37: 13.482095 | M37: 1.0695667 | N37: 1.0695667 | O37: 22.165471 | P37: 0.6505614 | Q37: 0.6505614 | R37: 4.2797678 | S37: 1.6343081 | T37: 1.6343081 | U37: 98 | V37: 4.8258378 | W37: 0.11760224 | X37: 8.5032393 | Y37: 1 | Z37: 5 | AA37: 21.028 | AB37: 1.972736 | AC37: p99p100 | AD37: 17.705 | AE37: 19.59 | AF37: 16.98 | AG37: 9.3
C38: South Africa | D38: 1955 | E38: 0.1 | F38: 3.59 | G38: 20.307355 | H38: 17.41339 | I38: 2.0616319 | J38: 6.353612 | K38: 0.65277641 | L38: 3.0711498 | M38: 1.1689433 | N38: 1.1689433 | O38: 5.5183108 | P38: 0.6505614 | Q38: 0.6505614 | R38: 13.165821 | S38: 1.3226209 | T38: 1.6343081 | U38: 98 | V38: 0.48258378 | W38: 0.11760224 | X38: 8.5032393 | Y38: 1 | Z38: 0.5 | AA38: 6.48 | AB38: 1.7999422 | AC38: p99.9p100 | AD38: 6.87 | AG38: 2.65
C39: Zimbabwe | D39: 1932 | E39: 0.1 | F39: 11.57 | G39: 4.2468423 | H39: 15.931729 | I39: 7.2622374 | J39: 23.37851 | K39: 0.49489895 | L39: 11.57 | M39: 1 | N39: 1 | O39: 11.57 | P39: 1 | Q39: 1 | R39: 10.131107 | S39: 1.5725557 | T39: 1.5725557 | U39: 98 | V39: 2.3075969 | W39: 0.04709522 | X39: 21.233577 | Y39: 1 | Z39: 1 | AA39: 17.705 | AB39: 3.0082609
C40: Zimbabwe | D40: 1955 | E40: 0.1 | F40: 6.81 | G40: 6.6287362 | H40: 15.36133 | I40: 4.4332098 | J40: 11.338456 | K40: 0.61345635 | L40: 6.9556481 | M40: 0.97906046 | N40: 0.97906046 | O40: 8.6738381 | P40: 0.78511957 | Q40: 0.78511957 | R40: 7.6693507 | S40: 2.0029506 | T40: 2.0029506 | U40: 98 | V40: 1.4784115 | W40: 0.049620824 | X40: 20.152829 | Y40: 1 | Z40: 1 | AA40: 9.3 | AB40: 1.972736 | AD40: 1943 | AE40: 1937 | AF40: 1949
C41: Zambia | D41: 1943 | E41: 0.1 | F41: 8.54 | G41: 1.2935156 | H41: 6.9199186 | I41: 12.341186 | J41: 31.509422 | K41: 0.27103004 | L41: 8.54 | M41: 1 | N41: 1 | O41: 8.54 | P41: 1 | Q41: 1 | R41: 4.1589724 | S41: 1.663853 | T41: 1.663853 | U41: 98 | V41: 7.5762518 | W41: 0.03623344 | X41: 27.598815 | Y41: 1 | Z41: 10 | AA41: 35.31 | AB41: 2.4373682 | AC41: p90p100 | AD41: 35.31 | AE41: 38.37 | AF41: 32.25
C42: Zambia | D42: 1955 | E42: 0.1 | F42: 4.65 | G42: 3.251976 | H42: 10.46245 | I42: 4.4444655 | J42: 16.267951 | K42: 0.49106147 | L42: 7.9885638 | M42: 0.5820821 | N42: 0.5820821 | O42: 5.4164822 | P42: 0.85849078 | Q42: 0.85849078 | R42: 5.3982638 | S42: 1.938114 | T42: 1.938114 | U42: 98 | V42: 3.0135524 | W42: 0.086381025 | X42: 11.576617 | Y42: 1 | Z42: 5 | AA42: 21.028 | AB42: 1.972736 | AC42: p95p100 | AD42: 26.57 | AE42: 29.75 | AF42: 23.39
C43: Tunisia | D43: 1946 | E43: 1 | F43: 13.086466 | G43: 8.8531757 | H43: 2.7759006 | I43: 4.7143134 | J43: 32.089559 | K43: 0.4078107 | L43: 13.086466 | M43: 1 | N43: 1 | O43: 13.086466 | P43: 1 | Q43: 1 | R43: 3.4326297 | S43: 0.82254597 | T43: 0.82254597 | U43: 82.762935 | V43: 9.3483895 | W43: 0.18579961 | X43: 5.3821425 | Y43: 0.90220615 | Z43: 9 | AA43: 31.42 | AB43: 1.8011639
C44: Tunisia | D44: 1955 | E44: 1 | F44: 14.980347 | G44: 7.9751081 | H44: 2.6767857 | I44: 5.5963938 | J44: 37.353085 | K44: 0.38296211 | L44: 14.304816 | M44: 1.047224 | N44: 1.047224 | O44: 13.591943 | P44: 1.102149 | Q44: 1.102149 | R44: 3.600286 | S44: 0.74631102 | T44: 0.74631102 | U44: 82.742008 | V44: 10.375033 | W44: 0.17351309 | X44: 5.763254 | Y44: 0.97811679 | Z44: 10 | AA44: 36.63 | AB44: 1.8834281
C45: French Cameroon | D45: 1945 | E45: 0.1 | F45: 8.504123 | G45: 0.14288777 | H45: 3.4217122 | I45: 24.853414 | J45: 93.53555 | K45: 0.0082129389 | L45: 8.504123 | M45: 1 | N45: 1 | O45: 8.504123 | P45: 1 | Q45: 1 | R45: 1.3514336 | S45: 2.5497059 | T45: 2.5497059 | U45: 98.89562 | V45: 69.212094 | W45: 0.01437227 | X45: 69.578429 | Y45: 0.36810901 | Z45: 70 | AA45: 93.91 | AB45: 2.8332345
C47: Cochinchina | D47: 1932 | E47: 0.1 | F47: 9.5459652 | G47: 0.12564435 | H47: 10.429032 | I47: 9.1532609 | J47: 82.53935 | K47: 0.11280887 | L47: 7.9396011 | M47: 1.202323 | N47: 1.202323 | O47: 7.9396011 | P47: 1.202323 | Q47: 1.202323 | R47: 1.805146 | S47: 4.6795534 | T47: 5.4879482 | U47: 57.450218 | V47: 45.724473 | W47: 0.01385105 | X47: 59.143729 | Y47: 0.84922884 | Z47: 46 | AA47: 82.72 | AB47: 2.7479372 | AC47: 72.196694 | AD47: 7.0282292 | AF47: 82.72 | AG47: 2.7479372
C48: Cochinchina | D48: 1932 | E48: 0.1 | F48: 9.5459652 | G48: 0.12564435 | H48: 10.429032 | I48: 9.1532609 | J48: 78.675186 | K48: 0.11280887 | L48: 7.5679006 | M48: 1.2613756 | N48: 1.2613756 | O48: 7.5679006 | P48: 1.2613756 | Q48: 1.2613756 | R48: 1.7206363 | S48: 4.6795534 | T48: 5.4879482 | U48: 57.450218 | V48: 45.724473 | W48: 0.013143703 | X48: 59.143729 | Y48: 0.84922884 | Z48: 46 | AA48: 78.85 | AB48: 2.7067876 | AC48: 76.082059 | AD48: 7.0282292
C49: Cochinchina | D49: 1932 | E49: 0.1 | F49: 9.5459652 | G49: 0.12564435 | H49: 10.429032 | I49: 9.1532609 | J49: 78.675186 | K49: 0.064302656 | L49: 4.3138109 | M49: 2.2128845 | N49: 2.2128845 | O49: 4.3138109 | P49: 2.2128845 | Q49: 2.2128845 | R49: 1.7206363 | S49: 4.6795534 | T49: 5.4879482 | U49: 57.450218 | V49: 45.724473 | W49: 0.013143703 | X49: 32.667638 | Y49: 0.84922884 | Z49: 46 | AA49: 78.85 | AB49: 2.7067876 | AC49: 76.082059 | AD49: 4.0061905
C50: Cochinchina | D50: 1932 | E50: 0.1 | F50: 9.5459652 | G50: 0.12564435 | H50: 10.429032 | I50: 9.1532609 | J50: 78.675186 | K50: 0.064302656 | L50: 3.8592619 | M50: 2.473521 | N50: 2.473521 | O50: 3.8592619 | P50: 2.473521 | Q50: 2.473521 | R50: 1.7206363 | S50: 3.1354467 | T50: 4.1101896 | U50: 57.450218 | V50: 45.724473 | W50: 0.011626184 | X50: 32.667638 | Y50: 0.84922884 | Z50: 46 | AA50: 78.85 | AB50: 2.7067876 | AC50: 86.012744 | AD50: 4.0061905
...

Sheet Figure D1
J1: Back
A37: Top 0.01% income share in the French and the British colonial empires, 1920-1960

Sheet Figure D2
I1: Back
A37: The top 0.01% income share in the five colonies of French Indochina

Sheet Figure D3
M1: Back
A31: Tunisia | H31: South Africa
A34: Ethnic composition of the top 1% group in Tunisia and South Africa

Sheet Figure D4
T1: Back
A36: Tunisia | J36: Cochinchina
A38: Top income share among autochthons in Tunisia and Cochinchina

Sheet Table A1A
A1: Table A1.A. Algeria. Data sources of the distribution of income from the income tax | C1: Back
A4: 1932 | B4: République Française. Gouvernement Général de l'Algérie. Direction des Services Économiques. Service Central de Statistique. Annuaire Statistique de l'Algérie année 1933
A5: 1933 | B5: République Française. Gouvernement Général de l'Algérie. Direction des Services Économiques. Service Central de Statistique. Annuaire Statistique de l'Algérie année 1934
A6: 1934 | B6: République Française. Gouvernement Général de l'Algérie. Direction des Services Économiques. Service Central de Statistique. Annuaire Statistique de l'Algérie année 1935
A7: 1935 | B7: République Française. Gouvernement Général de l'Algérie. Direction des Services Économiques. Service Central de Statistique. Annuaire Statistique de l'Algérie année 1936
A8: 1936 | B8: République Française. Gouvernement Général de l'Algérie. Direction des Services Économiques. Service Central de Statistique. Annuaire Statistique de l'Algérie année 1937
A9: 1937 | B9: République Française. Gouvernement Général de l'Algérie. Direction des Services Économiques. Service Central de Statistique. Annuaire Statistique de l'Algérie année 1938
A10: 1938 | B10: Gouvernement Général de l'Algérie. Direction Général de l'Algérie. Direction Générale des Finances. Service de Statistique Générale. Annuaire Statistique de l'Algérie. 1939-1947. Nouvelle Série. Premier Volume. Années 1939-1947.
A11: 1939 | B11: Gouvernement Général de l'Algérie. Direction Général de l'Algérie. Direction Générale des Finances. Service de Statistique Générale. Annuaire Statistique de l'Algérie. Années 1939-1947. Nouvelle Série. Premier Volume. Années 1939-1947.
A12: 1940 | B12: Gouvernement Général de l'Algérie. Direction Général de l'Algérie. Direction Générale des Finances. Service de Statistique Générale. Annuaire Statistique de l'Algérie. Années 1939-1947. Nouvelle Série. Premier Volume. Années 1939-1947.
A13: 1941 | B13: Gouvernement Général de l'Algérie. Direction Général de l'Algérie. Direction Générale des Finances. Service de Statistique Générale. Annuaire Statistique de l'Algérie. Années 1939-1947. Nouvelle Série. Premier Volume. Années 1939-1947.
A14: 1942
A15: 1943
A16: 1944
A17: 1945
A18: 1946 | B18: Gouvernement Général de l'Algérie. Direction Général de l'Algérie. Direction Générale des Finances. Service de Statistique Générale. Annuaire Statistique de l'Algérie. Nouvelle Série. Premier Volume. Années 1939-1947.
A19: 1947 | B19: Gouvernement Général de l'Algérie. Direction Générale des Finances. Service de Statistique Générale. Annuaire Statistique de l'Algérie. Nouvelle Série. Deuxième Volume. 1948-1949.
A20: 1948 | B20: Gouvernement Général de l'Algérie. Direction Générale des Finances. Service de Statistique Générale. Annuaire Statistique de l'Algérie. Nouvelle Série. Deuxième Volume. 1948-1949. P. 271. Tableau XXVI
A21: 1949 | B21: Gouvernement Général de l'Algérie. Direction Générale des Finances. Service de Statistique Générale. Annuaire Statistique de l'Algérie. Nouvelle Série. Troisième Volume. 1950.
A22: 1950 | B22: Gouvernement Général de l'Algérie. Direction Générale des Finances. Service de Statistique Générale. Annuaire Statistique de l'Algérie. Nouvelle Série. Quatrième Volume. 1951.
A23: 1951 | B23: Gouvernement Général de l'Algérie. Direction Générale des Finances. Service de Statistique Générale. Annuaire Statistique de l'Algérie. Nouvelle Série. Cinquième Volume. 1952.
A24: 1952 | B24: Gouvernement Général de l'Algérie. Direction Générale des Finances. Service de Statistique Générale. Annuaire Statistique de l'Algérie. Nouvelle Série. Sixième Volume. 1953.
A25: 1953 | B25: Gouvernement Général de l'Algérie. Direction Générale des Finances. Service de Statistique Générale. Annuaire Statistique de l'Algérie. Nouvelle Série. Septième Volume. 1954.
A26: 1954 | B26: Ministère de l'Algérie. Direction Générale des Affaires Économiques et de l'Industrialisation. Service de la Statistique Générale. Annuaire Statistique de l'Algérie. Nouvelle Série. Neuvième Volume. 1956-1957.
A27: 1955 | B27: Délégation Générale du Gouvernement de l'Algérie. Secrétariat Général Adjoint pour les Affaires Économiques. Service de la Statistique Générale. Annuaire Statistique de l'Algérie. Nouvelle Série. Dixième Volume. 1958.
A28: 1956
A29: 1957 | B29: Délégation Générale du Gouvernement de l'Algérie. Secrétariat Général Adjoint pour les Affaires Économiques. Service de la Statistique Générale. Annuaire Statistique de l'Algérie. Nouvelle Série. Onzième Volume. 1959.

Sheet Table A1B
A1: Table A1.B. Tunisia. Data sources of the distribution of income from the income tax | C1: Back
A4: 1946 | B4: Régence de Tunis. Protectorat Français. Secrétariat Général du Gouvernement Tunisien. Service Tunisien des Statistiques. Annuaire Statistique de la Tunisie. Année 1948. p. 134.
A5: 1947 | B5: Régence de Tunis. Protectorat Français. Secrétariat Général du Gouvernement Tunisien. Service Tunisien des Statistiques. Annuaire Statistique de la Tunisie. Année 1948. p. 134.
A6: 1948 | B6: Régence de Tunis. Protectorat Français. Secrétariat Général du Gouvernement Tunisien. Service Tunisien des Statistiques. Annuaire Statistique de la Tunisie. Année 1949/50. p. 128.
A7: 1949
A8: 1950
A9: 1951
A10: 1952 | B10: Royaume de Tunis. Protectorat Français. Présidence du Conseil. Service Tunisien des Statistiques. Annuaire Statistique de la Tunisie 1953. Nouvelle série. Sixième volume. p. 129.
A11: 1953 | B11: Royaume de Tunis. Protectorat Français. Présidence du Conseil. Service Tunisien des Statistiques. Annuaire Statistique de la Tunisie 1954. Édition 1955. p. 121.
A12: 1954 | B12: Royaume de Tunisie. Présidence du Conseil. Service Tunisien des Statistiques. Annuaire Statistique de la Tunisie 1955. Édition 1956. p. 130.
A13: 1955 | B13: République Tunisienne. Secrétariat d'État à la Présidence. Sous-Secrétariat d'État au Plan. Service des Statistiques. Annuaire Statistique de la Tunisie 1956. Édition 1957. p. 146.
A14: 1956 | B14: République Tunisienne. Secrétariat d'État à la Présidence. Sous-Secrétariat d'État au Plan. Service des Statistiques. Annuaire Statistique de la Tunisie 1957-1958. p. 159.

Sheet Table A1C
A1: Table A1.C. Cameroon. Data sources of the distribution of income from the income tax | C1: Back
A4: 1945 | B4: Ministère de la France d'Outre Mer. Service Colonial des Statistiques. Annuaire Statistique du Cameroun. Volume I. 1936-1945.

Sheet Table A1D
A1: Table A1.D. Indochina. Data sources of the distribution of income from the income tax | C1: Back
A4: 1920 | B4: Gouvernement Général de l'Indochine. Direction des Affaires Économiques. Service de la Statistique Générale. Annuaire Statistique de l'Indochine. Premier Volume. Recueil de Statistiques relatives aux années 1913 à 1922. Imprimerie d'Exrême-Orient-Éditeur. Hanoi 1927. | C4: distribution of number of tax-payers only (frequencies)
A5: 1921 | B5: Gouvernement Général de l'Indochine. Direction des Affaires Économiques. Service de la Statistique Générale. Annuaire Statistique de l'Indochine. Premier Volume. Recueil de Statistiques relatives aux années 1913 à 1922. Imprimerie d'Exrême-Orient-Éditeur. Hanoi 1927. | C5: distribution of number of tax-payers only (frequencies)
A6: 1922 | B6: Gouvernement Général de l'Indochine. Direction des Affaires Économiques. Service de la Statistique Générale. Annuaire Statistique de l'Indochine. Premier Volume. Recueil de Statistiques relatives aux années 1913 à 1922. Imprimerie d'Exrême-Orient-Éditeur. Hanoi 1927. | C6: distribution of number of tax-payers only (frequencies)
A7: 1923
A8: 1924 | B8: Gouvernement Général de l'Indochine. Inspection Générale des Mines et de l'Industrie. Service de la Statistique Générale de l'Indochine. Annuaire Statistique de l'Indochine. Deuxième Volume. 1923 à 1929. Imprimerie d'Exrême-Orient. Hanoi 1931.
A9: 1925 | B9: Gouvernement Général de l'Indochine. Inspection Générale des Mines et de l'Industrie. Service de la Statistique Générale de l'Indochine. Annuaire Statistique de l'Indochine. Deuxième Volume. 1923 à 1929. Imprimerie d'Exrême-Orient. Hanoi 1931.
A10: 1926 | B10: Gouvernement Général de l'Indochine. Inspection Générale des Mines et de l'Industrie. Service de la Statistique Générale de l'Indochine. Annuaire Statistique de l'Indochine. Deuxième Volume. 1923 à 1929. Imprimerie d'Exrême-Orient. Hanoi 1931.
A11: 1927 | B11: Gouvernement Général de l'Indochine. Inspection Générale des Mines et de l'Industrie. Service de la Statistique Générale de l'Indochine. Annuaire Statistique de l'Indochine. Deuxième Volume. 1923 à 1929. Imprimerie d'Exrême-Orient. Hanoi 1931.
A12: 1928 | B12: Gouvernement Général de l'Indochine. Inspection Générale des Mines et de l'Industrie. Service de la Statistique Générale de l'Indochine. Annuaire Statistique de l'Indochine. Deuxième Volume. 1923 à 1929. Imprimerie d'Exrême-Orient. Hanoi 1931.
A13: 1929 | B13: Gouvernement Général de l'Indochine. Inspection Générale des Mines et de l'Industrie. Service de la Statistique Générale de l'Indochine. Annuaire Statistique de l'Indochine. Deuxième Volume. 1923 à 1929. Imprimerie d'Exrême-Orient. Hanoi 1931.
A14: 1930 | B14: Gouvernement Général de l'Indochine. Inspection Générale des Mines et de l'Industrie. Service de la Statistique Générale. Annuaire Statistique de l'Indochine. Troisième Volume. Recueil de Statistiques. 1930-1931. Imprimerie d'Exrême-Orient-Éditeur. Hanoi 1932.
A15: 1931 | B15: Gouvernement Général de l'Indochine. Direction des Affaires Économiques et Administratives. Bureau de la Statistique Générale. Annuaire Statistique de l'Indochine. Quatrième Volume 1931-1932. Imprimerie d'Exrême-Orient. Hanoi 1933.
A16: 1932 | B16: Gouvernement Général de l'Indochine. Direction des Affaires Économiques et Administratives. Bureau de la Statistique Générale. Annuaire Statistique de l'Indochine. Quatrième Volume 1931-1932. Imprimerie d'Exrême-Orient. Hanoi 1933.
A17: 1933 | B17: Gouvernement Général de l'Indochine. Direction des Affaires Économiques et Administratives. Bureau de la Statistique Générale. Annuaire Statistique de l'Indochine. Quatrième Volume 1931-1932. Imprimerie d'Exrême-Orient. Hanoi 1933.
A18: 1934 | B18: Gouvernement Général de l'Indochine. Direction des Affaires Économiques et Administratives. Bureau de la Statistique Générale. Annuaire Statistique de l'Indochine. Sixième Volume. 1934-1935-1936. Imprimerie d'Exrême-Orient-Éditeur. Hanoi 1937.
A19: 1935 | B19: Gouvernement Général de l'Indochine. Direction des Affaires Économiques et Administratives. Bureau de la Statistique Générale. Annuaire Statistique de l'Indochine. Sixième Volume. 1934-1935-1936. Imprimerie d'Exrême-Orient-Éditeur. Hanoi 1937.
... A32: 1948 | B32: Gouvernement Général de l'Indochine. Direction des Services Économiques. Service de la Statistique Générale. Annuaire Statistique de l'Indochine.Douzième Volume 1947-1948. Imprimerie d'Exrême-Orient. Hanoi.
B34: Vietnam
A35: 1949 | B35: Institut de la Statistique et des Études Économiques du Viêtnam. État du Viêtnam. Ministère de l'Économie Nationale. Annuaire Statistique du Viêtnam. Premier volume. 1949-1950. pp.274-275.
A36: 1950 | B36: Institut de la Statistique et des Études Économiques du Viêtnam. État du Viêtnam. Ministère de l'Économie Nationale. Annuaire Statistique du Viêtnam. Premier volume. 1949-1950. pp.274-275.

Sheet Table A1E
A1: Availability of tax tabulations, coverage, and reporting of taxable income | AO1: Back
A3: Year 19.. | B3: 19 | C3: 20 | D3: 21 | E3: =D3+1 -> 22 | F3: =E3+1 -> 23 | G3: =F3+1 -> 24 | H3: =G3+1 -> 25 | I3: =H3+1 -> 26 | J3: =I3+1 -> 27 | K3: =J3+1 -> 28 | L3: =K3+1 -> 29 | ... AN3: =AM3+1 -> 57
A4: Algeria
A5: Tunisia
A6: Cameroon
A7: Cochinchina | E7: Saigon only
A8: Annam
A9: Tonkin
A10: Cambodia
A11: Laos
A12: Black : All taxpayers; dark grey: Only Europeans and Chinese; light grey : Only Europeans; blank : no data
A14: Year 19.. | B14: 19 | C14: 20 | D14: 21 | E14: =D14+1 -> 22 | F14: =E14+1 -> 23 | G14: =F14+1 -> 24 | H14: =G14+1 -> 25 | I14: =H14+1 -> 26 | J14: =I14+1 -> 27 | K14: =J14+1 -> 28 | L14: =K14+1 -> 29 | ... AN14: =AM14+1 -> 57
A15: Algeria
A16: Tunisia
A17: Cameroon
A18: Cochinchina
A19: Annam
A20: Tonkin
A21: Cambodia
A22: Laos
A23: Black : Income totals for each income bracket; dark grey: Total amount of declared income is known; light grey : No income totals; blank : no data
A25: Year 19.. | B25: 19 | C25: 20 | D25: 21 | E25: =D25+1 -> 22 | F25: =E25+1 -> 23 | G25: =F25+1 -> 24 | H25: =G25+1 -> 25 | I25: =H25+1 -> 26 | J25: =I25+1 -> 27 | K25: =J25+1 -> 28 | L25: =K25+1 -> 29 | ... AN25: =AM25+1 -> 57
A26: Algeria
A27: Tunisia
A28: Cameroon
A29: Cochinchina
A30: Annam
A31: Tonkin
A32: Cambodia
A33: Laos
A34: Black : Chargeable income, no deductions for family charges; grey = Chargeable income with deductions for family charges; blank : no data

Sheet Table B1A
A1: Table B1.A. Algeria. Income control, population control and price index 1932-1957 | Y1: Back
B3: # Taxpayers in statistics | D3: Tax units (control population) | N3: Taxpayers/Tax units | P3: Total income | T3: Average income per tax unit | X3: Price index
D4: North Algeria | I4: All Algeria (including South territories) | P4: North Algeria | R4: All Algeria | T4: North Algeria | V4: All Algeria
D5: Europeans | E5: Muslims | F5: Total | G5: Europeans in Total | I5: Europeans | J5: Muslims | K5: Total | L5: Europeans in Total
D6: (000) | E6: (000) | F6: (000) | G6: (%) | I6: (000) | J6: (000) | K6: (000) | L6: (%) | N6: (%) | P6: million current francs | R6: million current francs | T6: 1937 francs | V6: 1937 francs | X6: 1937=100
D7: Estimated as 60% of population aged 15+ to reflect the population of married couples and single adults
B8: (1) | D8: (2) | E8: (3) | F8: (4) | G8: (5)=(2)/(4) | I8: (6) | J8: (7) | K8: (8) | L8: (9)=(6)/(8) | N8: (10)=(1)/(4) | P8: (11) | R8: (12) | T8: (13) | V8: (14) | X8: (15)
A10: 1932 | B10: 70448 | D10: 365.72524 | E10: 1962.3998 | F10: 2328.125 | G10: 15.709004 | I10: 368.38189 | J10: 2187.4187 | K10: 2555.8006 | L10: 14.413561 | N10: 3.0259544 | P10: 6315.8584 | R10: 6615.101 | T10: 2979.2089 | V10: 2842.3947 | X10: 91.059473
A11: 1933 | B11: 71069 | D11: 370.74762 | E11: 2003.5678 | F11: 2374.3154 | G11: 15.614927 | I11: 373.61556 | J11: 2233.4186 | K11: 2607.0341 | L11: 14.331057 | N11: 2.9932417 | P11: 6268.0451 | R11: 6568.1224 | T11: 3020.3867 | V11: 2882.4606 | X11: 87.403968 | Y11: -0.040144148
A12: 1934 | B12: 63366 | D12: 375.83898 | E12: 2045.5995 | F12: 2421.4385 | G12: 15.52131 | I12: 378.92358 | J12: 2280.3858 | K12: 2659.3094 | L12: 14.248947 | N12: 2.6168742 | P12: 6038.1743 | R12: 6330.2276 | T12: 2900.0216 | V12: 2768.3404 | X12: 85.986639 | Y12: -0.016215842
A13: 1935 | B13: 54784 | D13: 381.00024 | E13: 2088.513 | F13: 2469.5132 | G13: 15.428152 | I13: 384.30702 | J13: 2328.3407 | K13: 2712.6477 | L13: 14.167229 | N13: 2.2184129 | P13: 5635.8254 | R13: 5911.1948 | T13: 2745.6075 | V13: 2621.6466 | X13: 83.12042 | Y13: -0.033333305
A14: 1936 | B14: 56120 | D14: 386.23239 | E14: 2132.3267 | F14: 2518.5591 | G14: 15.335451 | I14: 389.76694 | J14: 2377.3041 | K14: 2767.071 | L14: 14.085903 | N14: 2.2282582 | P14: 5793.1504 | R14: 6079.0556 | T14: 2791.7209 | V14: 2666.3991 | X14: 82.393064 | Y14: -0.0087506349
A15: 1937 | B15: 62273 | D15: 387.39806 | E15: 2146.348 | F15: 2533.7461 | G15: 15.289538 | I15: 390.96271 | J15: 2397.1774 | K15: 2788.1401 | L15: 14.022348 | N15: 2.4577443 | P15: 7095.4771 | R15: 7451.8441 | T15: 2800.39 | V15: 2672.6935 | X15: 100 | Y15: 0.2136944
A16: 1938 | B16: 72854 | D16: 388.56725 | E16: 2160.4615 | F16: 2549.0288 | G16: 15.243737 | I16: 392.16215 | J16: 2417.2169 | K16: 2809.3791 | L16: 13.959033 | N16: 2.8581082 | P16: 8409.1192 | R16: 8838.8369 | T16: 2839.5018 | V16: 2708.0155 | X16: 116.1806 | Y16: 0.16180604
A17: 1939 | B17: 71840 | D17: 389.73996 | E17: 2174.6678 | F17: 2564.4078 | G17: 15.198049 | I17: 393.36527 | J17: 2437.424 | K17: 2830.7892 | L17: 13.895958 | N17: 2.8014265 | P17: 8966.3368 | R17: 9432.433 | T17: 2708.5499 | V17: 2581.2203 | X17: 129.08956 | Y17: 0.11111111
A18: 1940 | B18: 74856 | D18: 390.91622 | E18: 2188.9675 | F18: 2579.8838 | G18: 15.152474 | I18: 394.57208 | J18: 2457.7999 | K18: 2852.372 | L18: 13.833121 | N18: 2.9015261 | P18: 9759.7304 | R18: 10275.718 | T18: 2421.9278 | V18: 2306.373 | X18: 156.19837 | Y18: 0.21
A19: 1941 | B19: 102428 | D19: 392.09602 | E19: 2203.3613 | F19: 2595.4573 | G19: 15.107011 | I19: 395.78259 | J19: 2478.3462 | K19: 2874.1288 | L19: 13.770524 | N19: 3.9464336 | P19: 11003.997 | R19: 11595.571 | T19: 2507.1144 | V19: 2385.7421 | X19: 169.10732 | Y19: 0.082644628
A20: 1942 | D20: 393.27939 | E20: 2217.8497 | F20: 2611.1291 | G20: 15.06166 | I20: 396.99682 | J20: 2499.0642 | K20: 2896.061 | L20: 13.708165 | P20: 14318.504 | R20: 15101.089 | T20: 2346.9272 | V20: 2231.6745 | X20: 233.6521 | Y20: 0.38167939
A21: 1943 | D21: 394.46632 | E21: 2232.4334 | F21: 2626.8997 | G21: 15.016421 | I21: 398.21477 | J21: 2519.9555 | K21: 2918.1702 | L21: 13.646043 | P21: 19375.203 | R21: 20451.607 | T21: 2164.2515 | V21: 2056.4671 | X21: 340.79644 | Y21: 0.45856354
A22: 1944 | D22: 395.65684 | E22: 2247.1129 | F22: 2642.7698 | G22: 14.971294 | I22: 399.43646 | J22: 2541.0213 | K22: 2940.4578 | L22: 13.584159 | P22: 28902.599 | R22: 30534.459 | T22: 2265.2432 | V22: 2150.862 | X22: 482.79495 | Y22: 0.41666667
A23: 1945 | D23: 396.85095 | E23: 2261.889 | F23: 2658.74 | G23: 14.926279 | I23: 400.6619 | J23: 2562.2633 | K23: 2962.9252 | L23: 13.522511 | P23: 38326.989 | R23: 40525.823 | T23: 2302.4806 | V23: 2184.632 | X23: 626.08436 | Y23: 0.29679144
A24: 1946 | B24: 73895 | D24: 398.04867 | E24: 2276.7623 | F24: 2674.811 | G24: 14.881376 | I24: 401.89109 | J24: 2583.6829 | K24: 2985.574 | L24: 13.4611 | N24: 2.4750685 | P24: 59467.861 | R24: 62933.935 | T24: 2578.2299 | V24: 2444.4968 | X24: 862.31826 | Y24: 0.37731959
A25: 1947 | B25: 57944 | D25: 399.25 | E25: 2291.7333 | F25: 2690.9833 | G25: 14.836584 | I25: 403.12406 | J25: 2605.2815 | K25: 3008.4055 | L25: 13.399924 | N25: 1.9260701 | P25: 89332.658 | R25: 94621.511 | T25: 2670.434 | V25: 2530.0907 | X25: 1243.1325 | Y25: 0.44161677
A26: 1948 | B26: 95690 | D26: 400.45496 | E26: 2306.8028 | F26: 2707.2578 | G26: 14.791903 | I26: 404.36081 | J26: 2627.0607 | K26: 3031.4215 | L26: 13.338984 | N26: 3.1566049 | P26: 156034.37 | R26: 165416.4 | T26: 2811.5709 | V26: 2661.8933 | X26: 2049.9422 | Y26: 0.6490135
A27: 1949 | B27: 95638 | D27: 404.36124 | E27: 2357.004 | F27: 2761.3652 | G27: 14.643526 | I27: 408.55097 | J27: 2671.9124 | K27: 3080.4633 | L27: 13.262647 | N27: 3.1046628 | P27: 198074.45 | R27: 209722.43 | T27: 2858.362 | V27: 2712.9479 | X27: 2509.501 | Y27: 0.22418136
A28: 1950 | B28: 85168 | D28: 408.30562 | E28: 2408.2976 | F28: 2816.6033 | G28: 14.496384 | I28: 412.78455 | J28: 2717.5298 | K28: 3130.3144 | L28: 13.18668 | N28: 2.7207491 | P28: 208234.48 | R28: 220200 | T28: 2921.9971 | V28: 2780.2392 | X28: 2530.1554 | Y28: 0.0082304527
A29: 1951 | B29: 85274 | D29: 412.28848 | E29: 2460.7076 | F29: 2872.996 | G29: 14.350472 | I29: 417.06199 | J29: 2763.9261 | K29: 3180.9881 | L29: 13.111083 | N29: 2.6807393 | P29: 237667.98 | R29: 251000 | T29: 2901.1767 | V29: 2767.2615 | X29: 2851.4218 | Y29: 0.126975
