Workbook
Name _C01_Comparativesalida: #REF!
Name _C01_Comparativesalida: #REF!
Name _C01_Comparativesalida: #REF!
Name _C01_Comparativesalida: #REF!
Name _C01_Comparativesalida: #REF!
Name _C01_Comparativesalida: #REF!
Name _C01_Comparativesalida: #REF!
Name _C01_Comparativesalida: #REF!
Name _C01_Comparativesalida: #REF!
Name _C01_Comparativesalida: #REF!
Name _C01_Comparativesalida: #REF!
Name _C01_Comparativesalida: #REF!
Name _C02_Comparativesalida: #REF!
Name _C02_Comparativesalida: #REF!
Name _C02_Comparativesalida: #REF!
Name _C02_Comparativesalida: #REF!
Name _C02_Comparativesalida: #REF!
Name _C02_Comparativesalida: #REF!
Name _C02_Comparativesalida: #REF!
Name _C02_Comparativesalida: #REF!
Name _C02_Comparativesalida: #REF!
Name _C02_Comparativesalida: #REF!
Name _C02_Comparativesalida: #REF!
Name _C02_Comparativesalida: #REF!
Name \A: '[2]3.13'!#REF!
Name \A: '[2]3.13'!#REF!
Name \A: '[2]3.13'!#REF!
Name \A: '[2]3.13'!#REF!
Name \A: '[2]3.13'!#REF!
Name \A: '[2]3.13'!#REF!
Name \A: '[2]3.13'!#REF!
Name \A: '[2]3.13'!#REF!
Name \A: '[2]3.13'!#REF!
Name \A: '[2]3.13'!#REF!
Name \A: '[2]3.13'!#REF!
Name \A: '[2]3.13'!#REF!
Name \C: #REF!
Name \C: #REF!
Name \C: #REF!
Name \C: #REF!
Name \C: #REF!
Name \C: #REF!
Name \C: #REF!
Name \C: #REF!
Name \C: #REF!
Name \C: #REF!
Name \C: #REF!
Name \C: #REF!
Name \L: #REF!
Name \L: #REF!
Name \L: #REF!
Name \L: #REF!
Name \L: #REF!
Name \L: #REF!
Name \L: #REF!
Name \L: #REF!
Name \L: #REF!
Name \L: #REF!
Name \L: #REF!
Name \L: #REF!

Sheet Index
A1: Income inequality under colonial rule
A2: Evidence from French Algeria, Cameroon, Tunisia, and Vietnam, and comparison with the British Empire 1920-1960
A4: Facundo Alvaredo, Denis Cogneau, Thomas Piketty
A5: June 2020
A9: Figure 1 | B9: =Figure1!A38 -> Top 1% income share in the French and the British colonial empires, 1920-1960
A10: Figure 2 | B10: =Figure2!A37 -> Top 0.1% income share in the French and the British colonial empires, 1920-1960
A11: Figure 3 | B11: =Figure3!A37 -> Income taxpayers in statistics as percentage of total tax units, 1920-1960
A12: Figure 4 | B12: ='Figure4 '!A39 -> Estimates of GDP per capita in Algeria, Tunisia, French Cameroon and Indochina 1920-1960
A13: Figure 5 | B13: =Figure5!A38 -> Average income in Algeria, Tunisia, French Cameroon, and Indochina: ratio to average income in France, 1920-1960
A14: Figure 6 | B14: =Figure10!A38 -> Inequality among Europeans in Tunisia and Vietnam, and comparison with France
A15: Figure 7 | B15: =Figure8!A28 -> The ethnic composition of the top 0.1% group in Tunisia and Cochinchina
A16: Figure 8 | B16: =Figure8!A28 -> The ethnic composition of the top 0.1% group in Tunisia and Cochinchina
A17: Figure 9 | B17: =Figure9!A57 -> The top 0.1% income share and settlement patterns
A18: Figure 10 | B18: =Figure10!A38 -> Inequality among Europeans in Tunisia and Vietnam, and comparison with France
A21: Table 1 | B21: The typical income tax tabulation
A22: Table 2A | B22: Algeria. Shares of income of top groups 1932-1957
A23: Table 2B | B23: Tunisia. Shares of income of top groups 1946-1956
A24: Table 2C | B24: Cameroon. Shares of income of top groups 1945
A25: Table 2D | B25: Vietnam. Shares of income of top groups 1921-1942
A26: Table 3 | B26: Comparison between average incomes in the colonies and in the metropolis
A27: Table 4 | B27: Decomposition of the fall in inequality after World War II
A30: Appendix
A32: Table A1.A | B32: Algeria. Data sources of the distribution of income from the income tax
A33: Table A1.B | B33: Tunisia. Data sources of the distribution of income from the income tax
A34: Table A1.C | B34: Cameroon. Data sources of the distribution of income from the income tax
A35: Table A1.D | B35: Indochina. Data sources of the distribution of income from the income tax
A36: Table A1.E | B36: Availability of tax tabulations, coverage, and reporting of taxable income
A37: Table B1.A | B37: Algeria. Income control, population control and price index 1932-1957
A38: Table B1.B | B38: Tunisia. Income control, population control and price index 1937-1956
A39: Table B1.C | B39: Cameroon. Income control and population control 1945
A40: Table B1.D | B40: Vietnam. Income control, population control and price index 1920-1948
A41: Table C1 | B41: Samir Amin’s social table for Algeria and Tunisia for 1955
A42: Table C2 | B42: Distribution of income among Tunisian Muslims according to the 1957 household survey
A44: Figure D1 | B44: ='Figure D1'!A37 -> Top 0.01% income share in the French and the British colonial empires, 1920-1960
A45: Figure D2 | B45: ='Figure D2'!A37 -> The top 0.01% income share in the five colonies of French Indochina
A46: Figure D3 | B46: ='Figure D3'!A34 -> Ethnic composition of the top 1% group in Tunisia and South Africa
A47: Figure D4 | B47: ='Figure D4'!A38 -> Top income share among autochthons in Tunisia and Cochinchina

Sheet Figure1
N1: Back
A38: Top 1% income share in the French and the British colonial empires, 1920-1960

Sheet Figure2
N1: Back
A37: Top 0.1% income share in the French and the British colonial empires, 1920-1960

Sheet Figure3
I1: Back
A37: Income taxpayers in statistics as percentage of total tax units, 1920-1960

Sheet Figure4 
J1: Back
A39: Estimates of GDP per capita in Algeria, Tunisia, French Cameroon and Indochina 1920-1960

Sheet Figure5
J1: Back
A38: Average income in Algeria, Tunisia, French Cameroon, and Indochina: ratio to average income in France, 1920-1960

Sheet Figure6
I1: Back
A37: Top 0.1% income share in Algeria, Cochinchina, and Tonkin between 1920 and 1960

Sheet Figure7
I1: Back
A38: Top 0.1% income share in the French and British colonial empires 1945-1960

Sheet Figure8
N1: Back
A25: Tunisia | G25: Cochinchina
A28: The ethnic composition of the top 0.1% group in Tunisia and Cochinchina
A54: Top 0.1%

Sheet Figure9
D1: Label | E1: Top percentile share | F1: Observed top 0.1% share | G1: Share of Europeans in population | H1: Observed top income to metropole | I1: Metropole average income to colony | K1: Back
C4: Year
B5: Vietnam | C5: 1921 | D5: Vie21 | E5: 0.1 | F5: =Results!$C$10 -> 7.0680203 | G5: 0.11394558 | H5: =Results!$G$10 -> 5.5170924 | I5: =1/(E5*H5/F5) -> 12.811133
B6: Vietnam | C6: 1932 | D6: Vie32 | E6: 0.1 | F6: =Results!$C$21 -> 12.923516 | G6: 0.13007523 | H6: =Results!$G$21 -> 6.61219 | I6: =1/(E6*H6/F6) -> 19.544986
B7: Vietnam | C7: 1942 | D7: Vie42 | E7: 0.1 | F7: =Results!$C$31 -> 5.2401922 | G7: 0.12032239 | H7: =Results!$G$31 -> 2.75071 | I7: =1/(E7*H7/F7) -> 19.050326
B8: Algeria | C8: 1932 | D8: Alg32 | E8: 0.1 | F8: =Results!$AC$21 -> 6.9869876 | G8: =100*Algeria_income_pop2!$L$22/Algeria_income_pop2!$N$22 -> 15.709004 | H8: =Results!$AI$21 -> 21.287426 | I8: =1/(E8*H8/F8) -> 3.2822135
B9: Algeria | C9: 1946 | D9: Alg46 | E9: 0.1 | F9: =Results!$AC$35 -> 6.2186429 | G9: =100*Algeria_income_pop2!$O$36/Algeria_income_pop2!$Q$36 -> 13.4611 | H9: =Results!$AI$35 -> 15.865543 | I9: =1/(E9*H9/F9) -> 3.9195904
B10: Algeria | C10: 1955 | D10: Alg55 | E10: 0.1 | F10: =Results!$AC$44 -> 4.3037698 | G10: =100*Algeria_income_pop2!$O$45/Algeria_income_pop2!$Q$45 -> 12.653611 | H10: =Results!$AI$44 -> 9.3118153 | I10: =1/(E10*H10/F10) -> 4.6218375
B11: South Africa | C11: 1932 | D11: SAf32 | E11: 0.1 | F11: =Results!$DT$21 -> 6.57 | G11: =100*912/3937 -> 23.164846 | H11: =Results!$DY$21 -> 23.883926 | I11: =1/(E11*H11/F11) -> 2.750804
B12: South Africa | C12: 1949 | D12: SAf49 | E12: 0.1 | F12: =Results!$DT$38 -> 5.6 | G12: =100*1183/5742 -> 20.602577 | H12: =Results!$DY$38 -> 26.078973 | I12: =1/(E12*H12/F12) -> 2.1473239
B13: South Africa | C13: 1955 | D13: SAf55 | E13: 0.1 | F13: =Results!$DT$44 -> 3.59 | G13: =100*1295/6377 -> 20.307355 | H13: =Results!$DY$44 -> 17.41339 | I13: =1/(E13*H13/F13) -> 2.0616319
B14: Zimbabwe | C14: 1932 | D14: Zim32 | E14: 0.1 | F14: =Results!$DH$21 -> 11.57 | G14: =(41998*100/(Results!$DK$35*1000))*(((125/82)^(-1/5))*((82/47.91)^(-13/15))/(Results!$DK$21/Results!$DK$35)) -> 4.2468423 | H14: =Results!$DL$21 -> 15.931729 | I14: =1/(E14*H14/F14) -> 7.2622374
B15: Zimbabwe | C15: 1949 | D15: Zim49 | E15: 0.1 | F15: =Results!$DH$38 -> 11.29 | G15: =(41998*100/(Results!$DK$35*1000))*((125/82)^(3/5)/(Results!$DK$38/Results!$DK$35)) -> 5.4843792 | H15: =Results!$DL$38 -> 22.743951 | I15: =1/(E15*H15/F15) -> 4.9639572
B16: Zimbabwe | C16: 1955 | D16: Zim55 | E16: 0.1 | F16: =Results!$DH$44 -> 6.81 | G16: =(41998*100/(Results!$DK$35*1000))*(((125/82)^(4/5))*(157/125)*((218/157)^(2/7))/(Results!$DK$44/Results!$DK$35)) -> 6.6287362 | H16: =Results!$DL$44 -> 15.36133 | I16: =1/(E16*H16/F16) -> 4.4332098
B17: India | C17: 1932 | D17: Ind32 | E17: 0.1 | F17: =Results!$FB$21 -> 7.0275133 | G17: =0.04 -> 0.04 | H17: =Results!$FF$21 -> 4.0311303 | I17: =1/(E17*H17/F17) -> 17.433109
B18: India | C18: 1947 | D18: Ind47 | E18: 0.1 | F18: =Results!$FB$36 -> 5.4355438 | G18: 0.04 | H18: =Results!$FF$36 -> 5.136702 | I18: =1/(E18*H18/F18) -> 10.581778
B19: Cameroon | C19: 1945 | D19: Cam45 | E19: 0.1 | F19: =Results!$AK$34 -> 8.504123 | G19: =100*Cameroon_Europeans!$E$2/Cameroon_1945!$E$2 -> 0.14288777 | H19: =Results!$AO$34 -> 3.4217122 | I19: =1/(E19*H19/F19) -> 24.853414
B20: Tunisia | C20: 1946 | D20: Tun46 | E20: 0.1 | F20: =Results!$BL$35 -> 4.3677256 | G20: =100*Tunisia_income_pop2!$J$35/Tunisia_income_pop2!$L$35 -> 8.8531757 | H20: =Results!$BP$35 -> 9.2648181 | I20: =1/(E20*H20/F20) -> 4.7143134
B21: Tunisia | C21: 1955 | D21: Tun55 | E21: 0.1 | F21: =Results!$BL$44 -> 4.2012395 | G21: =100*Tunisia_income_pop2!$J$44/Tunisia_income_pop2!$L$44 -> 7.9751081 | H21: =Results!$BP$44 -> 7.5070477 | I21: =1/(E21*H21/F21) -> 5.5963938
B22: Zambia | C22: 1949 | D22: Zam49 | E22: 0.1 | F22: =Results!$CZ$38 -> 9.81 | G22: =(8248*100/(Results!$DC$20*1000))*((21919/13846)*(37221/21919)^(3/5)/(Results!$DC$38/Results!$DC$20)) -> 1.9362409 | H22: =Results!$DD$38 -> 9.0302261 | I22: =1/(E22*H22/F22) -> 10.863515
B23: Zambia | C23: 1955 | D23: Zam55 | E23: 0.1 | F23: =Results!$CZ$44 -> 4.65 | G23: =(8248*100/(Results!$DC$20*1000))*((37221/13846)*(64800/37221)^(4/5)/(Results!$DC$44/Results!$DC$20)) -> 3.251976 | H23: =Results!$DD$44 -> 10.46245 | I23: =1/(E23*H23/F23) -> 4.4444655
B24: Kenya | C24: 1948 | D24: Ken48 | E24: 0.1 | F24: =Results!$CB$37 -> 6.39 | G24: =0.55*((1-0.344)*(40400/55759))/((1-0.344)*0.602) -> 0.66196128 | H24: =Results!$CF$37 -> 7.0344277 | I24: =1/(E24*H24/F24) -> 9.0838946
B25: Tanganyika | C25: 1948 | D25: Tan48 | E25: 0.1 | F25: =Results!$CJ$37 -> 7.4 | G25: =0.14*((1-0.344)*(40400/55759))/((1-0.344)*0.602) -> 0.16849923 | H25: =Results!$CN$37 -> 5.0957814 | I25: =1/(E25*H25/F25) -> 14.521816
B26: Malawi | C26: 1945 | D26: Mal45 | E26: 0.1 | F26: =Results!$EK$34 -> 7.3 | G26: 0.12 | H26: =Results!$EO$34 -> 3.8890517 | I26: =1/(E26*H26/F26) -> 18.770643
B27: Uganda | C27: 1948 | D27: Uga48 | E27: 0.1 | F27: =Results!$CR$37 -> 3.63 | G27: =0.07*((1-0.344)*(40400/55759))/((1-0.344)*0.602) -> 0.084249617 | H27: =Results!$CV$37 -> 3.6795419 | I27: =1/(E27*H27/F27) -> 9.8653586
B28: Ghana | C28: 1951 | D28: Gha51 | E28: 0.1 | F28: =Results!$BT$40 -> 1.98 | G28: =0.1*((1-0.344)*(40400/55759))/((1-0.344)*0.602) -> 0.1203566 | H28: =Results!$BX$40 -> 5.7131784 | I28: =1/(E28*H28/F28) -> 3.4656716
A57: The top 0.1% income share and settlement patterns

Sheet Figure10
M1: Back
A38: Inequality among Europeans in Tunisia and Vietnam, and comparison with France

Sheet Table 1
B1: Back

Sheet Table2A
A1: Table 2A. Algeria. Shares of income of top groups 1932-1957 | G1: Back
A2: per cent
B3: Among total (adult) population
B4: Top 1% | C4: Top 0.5% | D4: Top 0.1% | E4: Top 0.05% | F4: Top 0.01%
A7: 1932 | B7: 22.208537 | C7: 15.437227 | D7: 6.9869876 | E7: 4.8556378 | F7: 1.8262014
A8: 1933 | B8: 22.361234 | C8: 15.384382 | D8: 7.0914644 | E8: 4.4530139 | F8: 1.7058531
A9: 1934 | B9: 19.891386 | C9: 14.555013 | D9: 6.5246507 | E9: 4.3770903 | F9: 1.6444558
A10: 1935 | B10: 17.305075 | C10: 12.430045 | D10: 5.3065178 | E10: 3.5812203 | F10: 1.3225779
A11: 1936 | B11: 18.289107 | C11: 13.328511 | D11: 5.9726398 | E11: 4.062517 | F11: 1.5684975
A12: 1937 | B12: 19.849609 | C12: 14.073906 | D12: 5.934334 | E12: 4.0237279 | F12: 1.498572
A13: 1938 | B13: 19.830414 | C13: 14.720978 | D13: 7.1378492 | E13: 4.9166397 | F13: 1.6088913
A14: 1939 | B14: 18.795959 | C14: 13.994299 | D14: 6.8429966 | E14: 4.7374974 | F14: 1.5821021
A15: 1940 | B15: 21.514093 | C15: 16.419582 | D15: 8.1734359 | E15: 5.515545 | F15: 1.724226
A16: 1941 | B16: 22.585799 | C16: 16.998973 | D16: 8.2586833 | E16: 5.5453988 | F16: 1.6929443
A17: 1942
A18: 1943
A19: 1944
A20: 1945
A21: 1946 | B21: 17.94137 | C21: 13.100308 | D21: 6.2186429 | E21: 4.5738345 | F21: 2.183787
A22: 1947 | B22: 16.640002 | C22: 12.103582 | D22: 5.7852951 | E22: 4.2027655 | F22: 2.1210301
A23: 1948 | B23: 17.199568 | C23: 12.77009 | D23: 6.4609966 | E23: 4.8574714 | F23: 3.3162436
A24: 1949 | B24: 15.653184 | C24: 11.148558 | D24: 5.2942855 | E24: 3.8863701 | F24: 2.1277226
A25: 1950 | B25: 13.935003 | C25: 10.277532 | D25: 4.2357334 | E25: 2.8971681 | F25: 1.2994964
A26: 1951 | B26: 15.020295 | C26: 10.81783 | D26: 4.5065534 | E26: 3.0518505 | F26: 1.1473797
A27: 1952 | B27: 16.208519 | C27: 10.832815 | D27: 4.176434 | E27: 2.7891502 | F27: 1.0807086
A28: 1953 | B28: 15.014952 | C28: 10.888659 | D28: 4.3323264 | E28: 2.8878368 | F28: 1.0908516
A29: 1954 | B29: 15.183814 | C29: 9.9192304 | D29: 3.7307185 | E29: 2.7433096 | F29: 1.1571506
A30: 1955 | B30: 16.271449 | C30: 10.702321 | D30: 4.3037698 | E30: 3.2987196 | F30: 1.267261
A31: 1956
A32: 1957 | B32: 17.002853 | C32: 11.739999 | D32: 5.0729422 | E32: 3.6950908 | F32: 2.1101515

Sheet Table2B
A1: Table 2B. Tunisia. Shares of income of top groups 1946-1956 | U1: Back
A2: per cent
B3: Among total (adult) population | H3: Among Europeans | P3: Among Tunisians-non Europeans
B5: Top 1% | C5: Top 0.5% | D5: Top 0.1% | E5: Top 0.05% | F5: Top 0.01% | H5: Top 10% | I5: Top 5% | J5: Top 1% | K5: Top 0.5% | L5: Top 0.1% | M5: Top 0.05% | N5: Top 0.01% | P5: Top 1% | Q5: Top 0.5% | R5: Top 0.1% | S5: Top 0.05% | T5: Top 0.01%
A8: 1946 | B8: 13.086466 | C8: 9.5195265 | D8: 4.3677256 | E8: 3.087705 | F8: 1.3479017 | H8: 31.330907 | I8: 22.792704 | J8: 10.226067 | K8: 7.1540067 | L8: 2.9902811 | M8: 1.902729 | N8: 0.66048337 | R8: 2.8208534 | S8: 2.0784271 | T8: 1.0364869 | V8: 33.3 | W8: 22.69 | X8: 9.44 | Y8: 2.71
A9: 1947 | B9: 13.496223 | C9: 9.4451471 | D9: 4.1163496 | E9: 2.9274707 | F9: 1.303598 | H9: 31.918323 | I9: 22.038298 | J9: 9.1545337 | K9: 6.3295401 | L9: 2.6452273 | M9: 1.744228 | N9: 0.79162171 | Q9: 5.9815002 | R9: 3.0524744 | S9: 2.3009563 | T9: 1.1792834 | V9: 34.42 | W9: 23.91 | X9: 9.83 | Y9: 2.86
A10: 1948 | B10: 11.123225 | C10: 8.0351612 | D10: 3.7964428 | E10: 2.7488606 | F10: 1.2427404 | H10: 26.871437 | I10: 19.293913 | J10: 9.0477076 | K10: 6.5510226 | L10: 2.9413682 | M10: 2.1679884 | N10: 1.4712986 | Q10: 4.4414937 | R10: 2.193871 | S10: 1.6309451 | T10: 0.78334003 | V10: 32.71 | W10: 21.96 | X10: 8.93 | Y10: 2.5
A11: 1949 | V11: 32.59 | W11: 22.05 | X11: 9.19 | Y11: 2.68
A12: 1950 | V12: 32.94 | W12: 22.18 | X12: 9.3 | Y12: 2.73
A13: 1951 | V13: 34.45 | W13: 23.53 | X13: 10.12 | Y13: 3.03
A14: 1952 | B14: 14.457827 | C14: 10.367114 | D14: 4.5828162 | E14: 3.1928472 | F14: 1.3296752 | H14: 34.572507 | I14: 24.781611 | J14: 10.985051 | K14: 7.6565828 | L14: 3.0964433 | M14: 2.1374084 | N14: 1.288319 | Q14: 5.6034703 | R14: 2.6022004 | S14: 1.8438644 | T14: 0.78744177 | V14: 34.99 | W14: 24.21 | X14: 10.59 | Y14: 3.15
A15: 1953 | B15: 14.064532 | C15: 9.9526032 | D15: 4.1455543 | E15: 2.7749013 | F15: 1.0529522 | H15: 32.915502 | I15: 23.374794 | J15: 9.8071053 | K15: 6.5867635 | L15: 2.5113825 | M15: 1.6609826 | N15: 0.86335403 | Q15: 5.9884911 | R15: 2.6797546 | S15: 1.8127768 | T15: 0.70719052 | V15: 34.72 | W15: 23.94 | X15: 10.41 | Y15: 3.09
A16: 1954 | B16: 14.052603 | C16: 9.8917235 | D16: 4.0746696 | E16: 2.7007309 | F16: 1.0169873 | H16: 33.038078 | I16: 23.241878 | J16: 9.6469863 | K16: 6.4535846 | L16: 2.4626384 | M16: 1.628765 | N16: 0.86352711 | Q16: 5.7087131 | R16: 2.5677584 | S16: 1.7511617 | T16: 0.64230629 | V16: 35.72 | W16: 24.73 | X16: 10.85 | Y16: 3.18
A17: 1955 | B17: 14.980347 | C17: 10.430945 | D17: 4.2012395 | E17: 2.8096686 | F17: 1.0903392 | H17: 34.545751 | I17: 23.89266 | J17: 9.5656163 | K17: 6.4024817 | L17: 2.4973664 | M17: 1.7033765 | N17: 0.99251161 | P17: 8.9732027 | Q17: 6.4768573 | R17: 2.9659799 | S17: 2.0459701 | T17: 0.81762097 | V17: 36.63 | W17: 25.35 | X17: 11.07 | Y17: 3.23
A18: 1956 | B18: 13.511621 | C18: 9.6317039 | D18: 4.0004542 | E18: 2.6866037 | F18: 1.038471 | H18: 30.927366 | I18: 22.08361 | J18: 9.1784493 | K18: 6.190364 | L18: 2.4192421 | M18: 1.5685394 | N18: 0.91394565 | P18: 8.0749685 | Q18: 5.9300211 | R18: 2.6680659 | S18: 1.8350517 | T18: 0.72519423 | V18: 35.56 | W18: 24.27 | X18: 10.22 | Y18: 2.83

Sheet Table 2C
A1: Back
A4: Table 2C. Cameroon. Shares of income of top groups 1945
A5: per cent
B7: Among total (adult) population | G7: Among Europeans
B10: Top 0.5% | C10: Top 0.1% | D10: Top 0.05% | E10: Top 0.01% | G10: Top 50% | H10: Top 25% | I10: Top 10% | J10: Top 5% | K10: Top 1%
A13: 1945 | B13: 11.134097 | C13: 8.504123 | D13: 5.8828534 | E13: 2.2428421 | G13: 79.825339 | H13: 53.556272 | I13: 30.883514 | J13: 20.233679 | K13: 7.0976128

Sheet Table 2D
A1: Table 2D. Vietnam. Shares of income of top groups 1921-1942 | L1: Back
B3: Among total (adult) population | F3: Among Europeans
B5: Top 0.1% | C5: Top 0.05% | D5: Top 0.01% | F5: Top 75% | G5: Top 50% | H5: Top 25% | I5: Top 10% | J5: Top 5% | K5: Top 1%
A8: 1921 | B8: 7.0680203 | C8: 4.7610814 | D8: 1.4081947 | F8: 89.531662 | G8: 72.810046 | H8: 48.448254 | I8: 28.319667 | J8: 19.373833 | K8: 8.0260704
A9: 1922
A10: 1923
A11: 1924
A12: 1925
A13: 1926 | B13: 8.7634582 | C13: 6.2006841 | D13: 2.4554284 | F13: 89.453326 | G13: 73.198715 | H13: 49.275209 | I13: 29.035353 | J13: 20.002427 | K13: 8.5176601
A14: 1927 | B14: 8.1689128 | C14: 5.7863848 | D14: 2.2900213 | F14: 89.534733 | G14: 73.419358 | H14: 49.499229 | I14: 29.222774 | J14: 19.94849 | K14: 8.9832297
A15: 1928 | B15: 9.1186613 | C15: 6.2650389 | D15: 2.465014 | F15: 89.70173 | G15: 72.664459 | H15: 48.616082 | I15: 28.581404 | J15: 19.511709 | K15: 8.6991604
A16: 1929 | B16: 9.2355862 | C16: 6.3304711 | D16: 2.4212435 | F16: 89.667073 | G16: 73.045417 | H16: 48.214156 | I16: 27.711224 | J16: 18.789353 | K16: 8.2998421
A17: 1930 | B17: 10.618683 | C17: 7.2857479 | D17: 2.6527149 | F17: 89.944634 | G17: 73.503897 | H17: 48.366131 | I17: 27.120156 | J17: 17.798442 | K17: 7.7189475
A18: 1931 | B18: 12.34962 | C18: 8.4791438 | D18: 3.063264 | F18: 90.550521 | G18: 73.750145 | H18: 48.401834 | I18: 26.957751 | J18: 17.652489 | K18: 7.3322547
A19: 1932 | B19: 12.923516 | C19: 8.9349408 | D19: 3.2513015 | F19: 90.438534 | G19: 73.559791 | H19: 48.274649 | I19: 27.015369 | J19: 17.739062 | K19: 5.7305546
A20: 1933 | B20: 13.171652 | C20: 9.1664904 | D20: 3.3793896 | F20: 90.507077 | G20: 73.888935 | H20: 48.790691 | I20: 27.521272 | J20: 18.297154 | K20: 7.6805122
A21: 1934 | B21: 13.068331 | C21: 9.1423532 | D21: 3.3500949 | F21: 90.05982 | G21: 73.263547 | H21: 48.222433 | I21: 27.10156 | J21: 18.004074 | K21: 7.4263516
A22: 1935 | B22: 11.528631 | C22: 8.1217429 | D22: 2.9369826 | F22: 89.574319 | G22: 73.460341 | H22: 48.325916 | I22: 26.897239 | J22: 17.574965 | K22: 6.8966578
A23: 1936
A24: 1937 | B24: 9.526047 | C24: 7.1071651 | D24: 2.9436297 | G24: 79.621217 | H24: 56.046443 | I24: 32.648514 | J24: 22.109011 | K24: 8.769544
A25: 1938 | B25: 8.292491 | C25: 6.2366071 | D25: 2.6229089 | G25: 79.886244 | H25: 57.473768 | I25: 34.670819 | J25: 23.519031 | K25: 10.130971
A26: 1939 | B26: 8.3006927 | C26: 6.2433142 | D26: 2.678439 | G26: 79.989086 | H26: 58.381394 | I26: 36.099068 | J26: 24.611782 | K26: 11.64464
A27: 1940 | B27: 9.7790924 | C27: 7.7569314 | D27: 3.5413199 | G27: 90.840024 | H27: 69.023538 | I27: 44.539705 | J27: 31.749866 | K27: 12.378648
A28: 1941
A29: 1942 | B29: 5.2401922 | C29: 4.3741826 | D29: 1.9760805 | G29: 89.565799 | H29: 68.280441 | I29: 42.208208 | J29: 29.039728 | K29: 11.356351

Sheet Table 3
B1: Table 3. Comparison between average incomes in the colonies and in the metropolis | H1: Back
B2: Country | C2: Year | D2: Europeans in tax units | E2: Assumption: Europeans at the top | F2: Top p% of population | G2: Average income to metropole top 5% | J2: Average income to metropole | R2: Country | S2: Year | T2: Europeans in tax units | U2: Top p% of population | V2: Average income to metropole | W2: Average income to metropole top 0.5%
D6: ε | E6: εp | F6: =5.ε/εp | G6: θ5 | T6: % | U6: % | V6: ratio | W6: ratio
D7: (%) | E7: (%) | F7: (%) | G7: (ratio) | J7: (ratio) | T7: I | U7: II | V7: III | W7: IV
D8: I | E8: II | F8: III | G8: IV | J8: IV | R8: 1932
B9: 1932 | R9: South Africa | S9: 1932 | T9: 23.164846 | U9: 0.11818799 | V9: 21.904818 | W9: 0.79378064
B10: South Africa | C10: 1932 | D10: 23.164846 | E10: 98 | F10: 1.1818799 | G10: 1.120611 | J10: 6.7753385 | R10: Algeria (North) | S10: 1932 | T10: 15.709004 | U10: 0.087272243 | V10: 22.681402 | W10: 0.95782948
B11: Algeria (North) | C11: 1932 | D11: 15.709004 | E11: 90 | F11: 0.87272243 | G11: 1.1285775 | J11: 7.3018963 | R11: Vietnam | S11: 1932 | T11: 0.13007523 | U11: 0.00065037616 | V11: 63.695942 | W11: 2.6898624
B12: Vietnam | C12: 1932 | D12: 0.13007523 | E12: not needed | F12: 0.0065037616 | G12: 3.0474843 | J12: 19.717223 | R12: 1940s
B13: 1940s | R13: South Africa | S13: 1949 | T13: 20.602577 | U13: 0.10511519 | V13: 25.456304 | W13: 1.5675064
B14: South Africa | C14: 1949 | D14: 20.602577 | E14: 98 | F14: 1.0511519 | G14: 1.73713 | J14: 8.1262939 | R14: Algeria | S14: 1946 | T14: 13.4611 | U14: 0.074783889 | V14: 19.960958 | W14: 1.5307483
B15: Algeria | C15: 1946 | D15: 13.4611 | E15: 90 | F15: 0.74783889 | G15: 1.1892299 | J15: 5.3967251 | R15: Tunisia | S15: 1946 | T15: 8.8531757 | U15: 0.044265878 | V15: 12.047554 | W15: 0.92389216
B16: Tunisia | C16: 1946 | D16: 8.8531757 | E16: not needed | F16: 0.44265878 | G16: 0.84582571 | J16: 3.8383571 | R16: French Cameroon | S16: 1945 | T16: 0.14288777 | U16: 0.00071443887 | V16: 21.258988 | W16: 2.04021
B17: Zimbabwe | C17: 1949 | D17: 5.4843792 | E17: 98 | F17: 0.27981526 | G17: 2.892629 | J17: 13.531718 | R17: Vietnam | S17: 1942 | T17: 0.12032239 | U17: 0.00060161194 | V17: 26.756881 | W17: 1.7129886
B18: Zambia | C18: 1949 | D18: 1.9362409 | E18: 98 | F18: 0.098787802 | G18: 1.9417878 | J18: 9.0836832 | R18: 1955
B19: Kenya | C19: 1948 | D19: 0.66196128 | E19: 73.217539 | F19: 0.045205103 | G19: 2.1546214 | J19: 10.307709 | R19: South Africa | S19: 1955 | T19: 20.307355 | U19: 0.10360895 | V19: 17.178897 | W19: 1.3255321
B20: French Cameroon | C20: 1945 | D20: 0.14288777 | E20: not needed | F20: 0.0071443887 | G20: 2.5725003 | J20: 10.290001 | R20: Algeria | S20: 1955 | T20: 12.653611 | U20: 0.07029784 | V20: 11.486428 | W20: 0.74105984
B21: Vietnam | C21: 1942 | D21: 0.12032239 | E21: not needed | F21: 0.0060161194 | G21: 2.0160125 | J21: 11.313862 | R21: Tunisia | S21: 1955 | T21: 7.9751081 | U21: 0.03987554 | V21: 10.082554 | W21: 0.65048737
B22: Ghana | C22: 1951 | D22: 0.1203566 | E22: 70.3 | F22: 0.0085602131 | G22: 3.7013369 | J22: 16.672302 | R22: Zimbabwe | S22: 1955 | T22: 6.6287362 | U22: 0.033820083 | V22: 23.377826 | W22: 1.8038446
B23: Uganda | C23: 1948 | D23: 0.084249617 | E23: 49.586044 | F23: 0.0084952954 | G23: 2.5174952 | J23: 12.043697
B24: 1955
B25: South Africa | C25: 1955 | D25: 20.307355 | E25: 98 | F25: 1.0360895 | G25: 1.6376875 | J25: 6.8874584
B26: Algeria | C26: 1955 | D26: 12.653611 | E26: 90 | F26: 0.7029784 | G26: 0.79944425 | J26: 4.0531823
B27: Tunisia | C27: 1955 | D27: 7.9751081 | E27: 100 | F27: 0.3987554 | G27: 0.74212791 | J27: 3.7625885
B28: Zimbabwe | C28: 1955 | D28: 6.6287362 | E28: 98 | F28: 0.33820083 | G28: 2.1411902 | J28: 9.0049896
B29: Zambia | C29: 1955 | D29: 3.251976 | E29: 98 | F29: 0.16591714 | G29: 2.081615 | J29: 8.7544402
AB33: UK
B34: Comparisons of settlers' income | M34: UK | U34: Europeans in tax units | V34: Cell = top x% of Europeans | W34: Share of Europeans in cell | X34: Cell = top x% of population | Y34: Average income to metropole | Z34: Ratio of top x% average income in metropole | AD34: 1919 | AE34: 1937
D35: Europeans in tax units | E35: Cell = top x% of Europeans | F35: Share of Europeans in cell | G35: Cell = top z% of population | H35: Delta p | I35: Average income to metropole | J35: Corrected | K35: Ratio of top x% average income in metropole | O35: 1919 | P35: 1937 | S35: 1930s | U35: % | V35: % | W35: % | X35: % | AC35: p99.5p100
B36: 1930s | D36: % | E36: % | F36: % | G36: % | M36: B coeff | N36: p95p100 | S36: South Africa | T36: 1932 | U36: 23.164846 | V36: 0.5 | W36: 98 | X36: 0.11818799 | Y36: 21.904818 | Z36: 0.79378064 | AA36: 0.1 | AB36: 2.0730933 | AC36: 13.797778 | AD36: 15.69 | AE36: 13.07
B37: South Africa | C37: 1932 | D37: 23.164846 | E37: 5 | F37: 98 | G37: 1.1818799 | H37: 1 | I37: 6.7753385 | J37: 6.7753385 | K37: 1.120611 | L37: 1 | M37: 1.545517 | N37: 30.230556 | O37: 31.48 | P37: 29.75 | S37: Algeria | T37: 1932 | U37: 15.709004 | V37: 0.5 | W37: 90 | X37: 0.087272243 | Y37: 22.681402 | Z37: 0.95782948 | AC37: 11.84
B38: Algeria | C38: 1932 | D38: 15.709004 | E38: 5 | F38: 90 | G38: 0.87272243 | H38: 1 | I38: 7.3018963 | J38: 7.3018963 | K38: 1.1285775 | L38: 1 | N38: 32.35 | S38: Vietnam | T38: 1932 | U38: 0.13007523 | V38: 0.5 | W38: 100 | X38: 0.00065037616 | Y38: 63.695942 | Z38: 2.6898624 | AC38: 11.84
B39: Vietnam | C39: 1932 | D39: 0.13007523 | E39: 5 | F39: 100 | G39: 0.0065037616 | H39: 1 | I39: 19.717223 | J39: 19.717223 | K39: 3.0474843 | N39: 32.35 | S39: 1940s
B40: 1940s | S40: South Africa | T40: 1949 | U40: 20.602577 | V40: 0.5 | W40: 98 | X40: 0.10511519 | Y40: 25.456304 | Z40: 1.5675064 | AA40: 0.1 | AB40: 1.9395522 | AC40: 8.12
B41: South Africa | C41: 1949 | D41: 20.602577 | E41: 5 | F41: 98 | G41: 1.0511519 | H41: 1 | I41: 8.1262939 | J41: 8.1262939 | K41: 1.73713 | L41: 1 | M41: 1.4939712 | N41: 23.39 | S41: Algeria | T41: 1946 | U41: 13.4611 | V41: 0.5 | W41: 90 | X41: 0.074783889 | Y41: 19.960958 | Z41: 1.5307483 | AC41: 6.52
B42: Algeria | C42: 1946 | D42: 13.4611 | E42: 5 | F42: 90 | G42: 0.74783889 | H42: 1 | I42: 5.3967251 | J42: 5.3967251 | K42: 1.1892299 | L42: 1 | N42: 22.69 | S42: Tunisia | T42: 1946 | U42: 8.8531757 | V42: 0.5 | W42: 100 | X42: 0.044265878 | Y42: 12.047554 | Z42: 0.92389216 | AC42: 6.52
B43: Tunisia | C43: 1946 | D43: 8.8531757 | E43: 5 | F43: 100 | G43: 0.44265878 | H43: 1 | I43: 3.8383571 | J43: 3.8383571 | K43: 0.84582571 | N43: 22.69 | S43: French Cameroon | T43: 1945 | U43: 0.14288777 | V43: 0.5 | W43: 100 | X43: 0.00071443887 | Y43: 21.258988 | Z43: 2.04021 | AC43: 5.21
B44: Zimbabwe | C44: 1949 | D44: 5.4843792 | E44: 5 | F44: 98 | G44: 0.27981526 | H44: 1 | I44: 13.531718 | J44: 13.531718 | K44: 2.892629 | L44: 0.25 | M44: 2.2070067 | N44: 23.39 | S44: Vietnam | T44: 1942 | U44: 0.12032239 | V44: 0.5 | W44: 100 | X44: 0.00060161194 | Y44: 26.756881 | Z44: 1.7129886 | AC44: 7.81
B45: Zambia | C45: 1949 | D45: 1.9362409 | E45: 5 | F45: 98 | G45: 0.098787802 | H45: 1 | I45: 9.0836832 | J45: 9.0836832 | K45: 1.9417878 | L45: 0.1 | M45: 1.9378172 | N45: 23.39 | S45: 1950s
B46: Kenya | C46: 1948 | D46: 0.66196128 | E46: 5 | F46: 73.217539 | G46: 0.045205103 | H46: 1 | I46: 10.307709 | J46: 10.307709 | K46: 2.1546214 | L46: 0.05 | M46: 1.9276283 | N46: 23.92 | S46: South Africa | T46: 1955 | U46: 20.307355 | V46: 0.5 | W46: 98 | X46: 0.10360895 | Y46: 17.178897 | Z46: 1.3255321 | AA46: 0.1 | AB46: 1.6191957 | AC46: 6.48
B47: French Cameroon | C47: 1945 | D47: 0.14288777 | E47: 5 | F47: 100 | G47: 0.0071443887 | H47: 1 | I47: 10.290001 | J47: 10.290001 | K47: 2.5725003 | N47: 20 | S47: Algeria | T47: 1955 | U47: 12.653611 | V47: 0.5 | W47: 90 | X47: 0.07029784 | Y47: 11.486428 | Z47: 0.74105984 | AC47: 7.75
B48: Vietnam | C48: 1942 | D48: 0.12032239 | E48: 5 | F48: 100 | G48: 0.0060161194 | H48: 1 | I48: 11.313862 | J48: 11.313862 | K48: 2.0160125 | N48: 28.06 | S48: Tunisia | T48: 1955 | U48: 7.9751081 | V48: 0.5 | W48: 100 | X48: 0.03987554 | Y48: 10.082554 | Z48: 0.65048737 | AC48: 7.75
B49: Ghana | C49: 1951 | D49: 0.1203566 | E49: 5 | F49: 70.3 | G49: 0.0085602131 | H49: 1 | I49: 16.672302 | J49: 16.672302 | K49: 3.7013369 | L49: 0.01 | M49: 1.7708398 | N49: 22.522 | S49: Zimbabwe | T49: 1955 | U49: 6.6287362 | V49: 0.5 | W49: 98 | X49: 0.033820083 | Y49: 23.377826 | Z49: 1.8038446 | AA49: 0.05 | AB49: 1.5787679 | AC49: 6.48
B50: Uganda | C50: 1948 | D50: 0.084249617 | E50: 5 | F50: 49.586044 | G50: 0.0084952954 | H50: 1 | I50: 12.043697 | J50: 12.043697 | K50: 2.5174952 | L50: 0.01 | M50: 1.8965897 | N50: 23.92
B51: 1950s
B52: South Africa | C52: 1955 | D52: 20.307355 | E52: 5 | F52: 98 | G52: 1.0360895 | H52: 1 | I52: 6.8874584 | J52: 6.8874584 | K52: 1.6376875 | L52: 1 | M52: 1.7693693 | N52: 21.028
B53: Algeria | C53: 1955 | D53: 12.653611 | E53: 5 | F53: 90 | G53: 0.7029784 | H53: 1 | I53: 4.0531823 | J53: 4.0531823 | K53: 0.79944425 | L53: 1 | N53: 25.35
B54: Tunisia | C54: 1955 | D54: 7.9751081 | E54: 5 | F54: 100 | G54: 0.3987554 | H54: 1 | I54: 3.7625885 | J54: 3.7625885 | K54: 0.74212791 | N54: 25.35
B55: Zimbabwe | C55: 1955 | D55: 6.6287362 | E55: 5 | F55: 98 | G55: 0.33820083 | H55: 1 | I55: 9.0049896 | J55: 9.0049896 | K55: 2.1411902 | L55: 0.25 | M55: 1.8336373 | N55: 21.028
B56: Zambia | C56: 1955 | D56: 3.251976 | E56: 5 | F56: 98 | G56: 0.16591714 | H56: 1 | I56: 8.7544402 | J56: 8.7544402 | K56: 2.081615 | L56: 0.25 | M56: 1.5432457 | N56: 21.028
B59: India | C59: 1932 | D59: 0.04 | E59: 25 | F59: 100 | G59: 0.01 | H59: 1 | I59: 12.619665 | J59: 12.619665
B60: India | C60: 1947 | D60: 0.04 | E60: 25 | F60: 100 | G60: 0.01 | H60: 1 | I60: 24.570541 | J60: 24.570541
B62: Kenya | C62: 1945 | D62: 23033
B63: Kenya | C63: 1962 | D63: 55579
B64: Kenya | C64: 1943 | D64: 0.56130188
B65: Kenya | C65: 1955 | D65: 0.83554859

Sheet Table 4
B1: Table 4. Decomposition of the fall in inequality after World War II | P1: Back
D2: Top percentile (%) | E2: Observed income share (%) | F2: Share of Europeans (%) | G2: Share of Europeans at top (%) | H2: Metropole quantile (%) | I2: Income gap at top (ratio) | J2: Top share metropole (%) | K2: European income ratio at top | L2: European income ratio | M2: Income gap (ratio) | N2: Predicted top share (%) | O2: Fit = Observed / Predicted
D5: p | F5: ε | G5: εp | H5: q | I5: δp | K5: θq | L5: θ | M5: δ
B6: Colony | C6: Year | H6: = p.εp/ε
D7: I | E7: II | F7: III | G7: IV | H7: V | I7: VII | J7: VI | K7: VIII | L7: IX | M7: X | N7: XI | O7: =II/XI
B9: Cochinchina | C9: 1932 | D9: 0.1 | E9: 9.5459652 | F9: 0.30510053 | G9: 100 | H9: 32.776082 | J9: 73.046032 | K9: 4.6795534 | L9: 5.4879482 | M9: 59.143729 | N9: 9.5459652 | O9: 1
B10: Cochinchina | C10: 1949 | D10: 0.1 | E10: 3.8566916 | F10: 0.12564435 | G10: 57.450218 | H10: 45.724473 | I10: 1.1775389 | J10: 78.622787 | K10: 3.1354467 | L10: 4.1101896 | M10: 32.667638 | N10: 6.7659569 | O10: 0.57001421
B12: South Africa | C12: 1932 | D12: 1 | E12: 19.77 | F12: 23.164846 | G12: 98 | H12: 4.2305482 | I12: 1 | J12: 30.230556 | K12: 1.0632178 | L12: 1.0632178 | M12: 6.9681315 | N12: 19.77 | O12: 1
B13: South Africa | C13: 1955 | D13: 1 | E13: 14.42 | F13: 20.307355 | G13: 98 | H13: 4.8258378 | I13: 1 | J13: 21.028 | K13: 1.6343081 | L13: 1.6343081 | M13: 8.5032393 | N13: 13.482095 | O13: 1.0695667
B14: Algeria | C14: 1932 | D14: 1 | E14: 22.208537 | F14: 15.709004 | G14: 90 | H14: 5.7291985 | I14: 1 | J14: 35.59 | K14: 1.1134099 | L14: 1.1134099 | M14: 7.2322356 | N14: 22.208537 | O14: 1
B15: Algeria | C15: 1955 | D15: 1 | E15: 16.271449 | F15: 12.653611 | G15: 90 | H15: 7.1125941 | I15: 1 | J15: 30.29 | K15: 0.8196741 | L15: 0.8196741 | M15: 6.3558145 | N15: 17.367167 | O15: 0.93690864
B16: Zimbabwe | C16: 1932 | D16: 0.1 | E16: 11.57 | F16: 4.2468423 | G16: 98 | H16: 2.3075969 | I16: 1 | J16: 17.705 | K16: 1.5725557 | L16: 1.5725557 | M16: 21.233577 | N16: 11.57 | O16: 1
B17: Zimbabwe | C17: 1955 | D17: 0.1 | E17: 6.81 | F17: 6.6287362 | G17: 98 | H17: 1.4784115 | I17: 1 | J17: 9.3 | K17: 2.0029506 | L17: 2.0029506 | M17: 20.152829 | N17: 6.9556481 | O17: 0.97906046
B18: Zambia | C18: 1943 | D18: 0.1 | E18: 8.54 | F18: 1.2935156 | G18: 98 | H18: 7.5762518 | I18: 1 | J18: 35.31 | K18: 1.663853 | L18: 1.663853 | M18: 27.598815 | N18: 8.54 | O18: 1
B19: Zambia | C19: 1955 | D19: 0.1 | E19: 4.65 | F19: 3.251976 | G19: 98 | H19: 3.0135524 | I19: 1 | J19: 21.028 | K19: 1.938114 | L19: 1.938114 | M19: 11.576617 | N19: 7.9885638 | O19: 0.5820821
E24: Top percentile share | F24: Observed top p% share | G24: Share of Europeans in population | H24: Observed top income to metropole | I24: Metropole average income to colony | J24: Metropole top q% share | L24: Predicted top p% share | O24: Predicted top p% share | R24: Expected top income to metropole | S24: Theta q | T24: Theta | U24: Share Europeans in top percentile | V24: Top Europeans
M26: Theta q / | P26: Theta q / | W26: 1/Delta | X26: Delta | Y26: 1/Deltap
K27: Coeff | M27: Theta | P27: Theta | S27: 0.85269636 | Z27: Closest share | AA27: Income share | AB27: B coefficient
S28: 0.76284721
C29: Cochinchina | D29: 1932 | E29: 0.1 | F29: 9.5459652 | G29: 0.30510053 | H29: 10.429032 | I29: 9.1532609 | J29: 73.046032 | K29: 0.15326 | L29: 9.5459652 | M29: 1 | N29: 1 | O29: 9.5459652 | P29: 1 | Q29: 1 | R29: 2.2286383 | S29: 4.6795534 | T29: 5.4879482 | U29: 100 | V29: 32.776082 | W29: 0.016907963 | X29: 59.143729 | Y29: 1 | Z29: 33 | AA29: 73.23 | AB29: 2.7067876 | AC29: 59.143729 | AD29: 9.5484196
C30: Cochinchina | D30: 1949 | E30: 0.1 | F30: 3.8566916 | G30: 0.12564435 | H30: 5.0454986 | I30: 7.6438265 | J30: 78.622787 | K30: 0.11280887 | L30: 6.7659569 | M30: 0.57001421 | N30: 0.57001421 | O30: 3.8566916 | P30: 1 | Q30: 1 | R30: 1.7194903 | S30: 3.1354467 | T30: 4.1101896 | U30: 57.450218 | V30: 45.724473 | W30: 0.030611335 | X30: 32.667638 | Y30: 0.84922884 | Z30: 46 | AA30: 78.85 | AB30: 2.0818605 | AC30: 32.667638 | AD30: 6.7728977
C31: Algeria | D31: 1932 | E31: 1 | F31: 22.208537 | G31: 15.709004 | H31: 6.766329 | I31: 3.2822135 | J31: 34.817044 | K31: 0.63786394 | L31: 22.208537 | M31: 1 | N31: 1 | O31: 22.208537 | P31: 1 | Q31: 1 | R31: 6.077123 | S31: 1.1134099 | T31: 1.1134099 | U31: 90 | V31: 5.7291985 | W31: 0.13826983 | X31: 7.2322356 | Y31: 1 | Z31: 6 | AA31: 35.59 | AB31: 2.1033125
C32: Algeria | D32: 1932 | E32: 0.1 | F32: 6.9869876 | G32: 15.709004 | H32: 21.287426 | I32: 3.2822135 | J32: 13.210508 | K32: 0.63786394 | L32: 6.9869876 | M32: 1 | N32: 1 | O32: 6.9869876 | P32: 1 | Q32: 1 | R32: 23.058213 | S32: 0.9232036 | T32: 1.1134099 | U32: 90 | V32: 0.57291985 | W32: 0.13826983 | X32: 7.2322356 | Y32: 1 | Z32: 0.6 | AA32: 13.46 | AB32: 2.4684372
C33: Algeria | D33: 1955 | E33: 1 | F33: 16.271449 | G33: 12.653611 | H33: 3.5205584 | I33: 4.6218375 | J33: 30.549096 | K33: 0.5685002 | L33: 17.367167 | M33: 0.93690864 | N33: 0.93690864 | O33: 11.978774 | P33: 1.3583568 | Q33: 1.3583568 | R33: 4.295071 | S33: 0.8196741 | T33: 0.8196741 | U33: 90 | V33: 7.1125941 | W33: 0.15733625 | X33: 6.3558145 | Y33: 1 | Z33: 7 | AA33: 30.29 | AB33: 1.8734263
C34: Algeria | D34: 1955 | E34: 0.1 | F34: 4.3037698 | G34: 12.653611 | H34: 9.3118153 | I34: 4.6218375 | J34: 9.3068253 | K34: 0.5685002 | L34: 4.5935853 | M34: 0.93690864 | N34: 0.93690864 | O34: 3.1683647 | P34: 1.3583568 | Q34: 1.3583568 | R34: 13.084994 | S34: 0.71164077 | T34: 0.8196741 | U34: 90 | V34: 0.71125941 | W34: 0.15733625 | X34: 6.3558145 | Y34: 1 | Z34: 0.7 | AA34: 9.23 | AB34: 1.9250708 | AC34: UK | AD34: 1932 | AE34: 1919 | AF34: 1937 | AG34: 1955
C35: South Africa | D35: 1932 | E35: 1 | F35: 19.77 | G35: 23.164846 | H35: 7.1869896 | I35: 2.750804 | J35: 28.597064 | K35: 0.69132972 | L35: 19.77 | M35: 1 | N35: 1 | O35: 19.77 | P35: 1 | Q35: 1 | R35: 6.759659 | S35: 1.0632178 | T35: 1.0632178 | U35: 98 | V35: 4.2305482 | W35: 0.1435105 | X35: 6.9681315 | Y35: 1 | Z35: 5 | AA35: 30.230556 | AB35: 3.0082609 | AC35: p95p100 | AD35: 30.230556 | AE35: 31.48 | AF35: 29.75 | AG35: 21.028
C36: South Africa | D36: 1932 | E36: 0.1 | F36: 6.57 | G36: 23.164846 | H36: 23.883926 | I36: 2.750804 | J36: 12.834066 | K36: 0.69132972 | L36: 6.57 | M36: 1 | N36: 1 | O36: 6.57 | P36: 1 | Q36: 1 | R36: 30.336651 | S36: 0.78729607 | T36: 1.0632178 | U36: 98 | V36: 0.42305482 | W36: 0.1435105 | X36: 6.9681315 | Y36: 1 | Z36: 0.5 | AA36: 13.797778 | AB36: 2.3079559 | AC36: p99.5p100 | AD36: 13.797778 | AE36: 15.69 | AF36: 13.07 | AG36: 6.48
C37: South Africa | D37: 1955 | E37: 1 | F37: 14.42 | G37: 20.307355 | H37: 6.9944592 | I37: 2.0616319 | J37: 20.653465 | K37: 0.65277641 | L37: 13.482095 | M37: 1.0695667 | N37: 1.0695667 | O37: 22.165471 | P37: 0.6505614 | Q37: 0.6505614 | R37: 4.2797678 | S37: 1.6343081 | T37: 1.6343081 | U37: 98 | V37: 4.8258378 | W37: 0.11760224 | X37: 8.5032393 | Y37: 1 | Z37: 5 | AA37: 21.028 | AB37: 1.972736 | AC37: p99p100 | AD37: 17.705 | AE37: 19.59 | AF37: 16.98 | AG37: 9.3
C38: South Africa | D38: 1955 | E38: 0.1 | F38: 3.59 | G38: 20.307355 | H38: 17.41339 | I38: 2.0616319 | J38: 6.353612 | K38: 0.65277641 | L38: 3.0711498 | M38: 1.1689433 | N38: 1.1689433 | O38: 5.5183108 | P38: 0.6505614 | Q38: 0.6505614 | R38: 13.165821 | S38: 1.3226209 | T38: 1.6343081 | U38: 98 | V38: 0.48258378 | W38: 0.11760224 | X38: 8.5032393 | Y38: 1 | Z38: 0.5 | AA38: 6.48 | AB38: 1.7999422 | AC38: p99.9p100 | AD38: 6.87 | AG38: 2.65
C39: Zimbabwe | D39: 1932 | E39: 0.1 | F39: 11.57 | G39: 4.2468423 | H39: 15.931729 | I39: 7.2622374 | J39: 23.37851 | K39: 0.49489895 | L39: 11.57 | M39: 1 | N39: 1 | O39: 11.57 | P39: 1 | Q39: 1 | R39: 10.131107 | S39: 1.5725557 | T39: 1.5725557 | U39: 98 | V39: 2.3075969 | W39: 0.04709522 | X39: 21.233577 | Y39: 1 | Z39: 1 | AA39: 17.705 | AB39: 3.0082609
C40: Zimbabwe | D40: 1955 | E40: 0.1 | F40: 6.81 | G40: 6.6287362 | H40: 15.36133 | I40: 4.4332098 | J40: 11.338456 | K40: 0.61345635 | L40: 6.9556481 | M40: 0.97906046 | N40: 0.97906046 | O40: 8.6738381 | P40: 0.78511957 | Q40: 0.78511957 | R40: 7.6693507 | S40: 2.0029506 | T40: 2.0029506 | U40: 98 | V40: 1.4784115 | W40: 0.049620824 | X40: 20.152829 | Y40: 1 | Z40: 1 | AA40: 9.3 | AB40: 1.972736 | AD40: 1943 | AE40: 1937 | AF40: 1949
C41: Zambia | D41: 1943 | E41: 0.1 | F41: 8.54 | G41: 1.2935156 | H41: 6.9199186 | I41: 12.341186 | J41: 31.509422 | K41: 0.27103004 | L41: 8.54 | M41: 1 | N41: 1 | O41: 8.54 | P41: 1 | Q41: 1 | R41: 4.1589724 | S41: 1.663853 | T41: 1.663853 | U41: 98 | V41: 7.5762518 | W41: 0.03623344 | X41: 27.598815 | Y41: 1 | Z41: 10 | AA41: 35.31 | AB41: 2.4373682 | AC41: p90p100 | AD41: 35.31 | AE41: 38.37 | AF41: 32.25
C42: Zambia | D42: 1955 | E42: 0.1 | F42: 4.65 | G42: 3.251976 | H42: 10.46245 | I42: 4.4444655 | J42: 16.267951 | K42: 0.49106147 | L42: 7.9885638 | M42: 0.5820821 | N42: 0.5820821 | O42: 5.4164822 | P42: 0.85849078 | Q42: 0.85849078 | R42: 5.3982638 | S42: 1.938114 | T42: 1.938114 | U42: 98 | V42: 3.0135524 | W42: 0.086381025 | X42: 11.576617 | Y42: 1 | Z42: 5 | AA42: 21.028 | AB42: 1.972736 | AC42: p95p100 | AD42: 26.57 | AE42: 29.75 | AF42: 23.39
C43: Tunisia | D43: 1946 | E43: 1 | F43: 13.086466 | G43: 8.8531757 | H43: 2.7759006 | I43: 4.7143134 | J43: 32.089559 | K43: 0.4078107 | L43: 13.086466 | M43: 1 | N43: 1 | O43: 13.086466 | P43: 1 | Q43: 1 | R43: 3.4326297 | S43: 0.82254597 | T43: 0.82254597 | U43: 82.762935 | V43: 9.3483895 | W43: 0.18579961 | X43: 5.3821425 | Y43: 0.90220615 | Z43: 9 | AA43: 31.42 | AB43: 1.8011639
C44: Tunisia | D44: 1955 | E44: 1 | F44: 14.980347 | G44: 7.9751081 | H44: 2.6767857 | I44: 5.5963938 | J44: 37.353085 | K44: 0.38296211 | L44: 14.304816 | M44: 1.047224 | N44: 1.047224 | O44: 13.591943 | P44: 1.102149 | Q44: 1.102149 | R44: 3.600286 | S44: 0.74631102 | T44: 0.74631102 | U44: 82.742008 | V44: 10.375033 | W44: 0.17351309 | X44: 5.763254 | Y44: 0.97811679 | Z44: 10 | AA44: 36.63 | AB44: 1.8834281
C45: French Cameroon | D45: 1945 | E45: 0.1 | F45: 8.504123 | G45: 0.14288777 | H45: 3.4217122 | I45: 24.853414 | J45: 93.53555 | K45: 0.0082129389 | L45: 8.504123 | M45: 1 | N45: 1 | O45: 8.504123 | P45: 1 | Q45: 1 | R45: 1.3514336 | S45: 2.5497059 | T45: 2.5497059 | U45: 98.89562 | V45: 69.212094 | W45: 0.01437227 | X45: 69.578429 | Y45: 0.36810901 | Z45: 70 | AA45: 93.91 | AB45: 2.8332345
C47: Cochinchina | D47: 1932 | E47: 0.1 | F47: 9.5459652 | G47: 0.12564435 | H47: 10.429032 | I47: 9.1532609 | J47: 82.53935 | K47: 0.11280887 | L47: 7.9396011 | M47: 1.202323 | N47: 1.202323 | O47: 7.9396011 | P47: 1.202323 | Q47: 1.202323 | R47: 1.805146 | S47: 4.6795534 | T47: 5.4879482 | U47: 57.450218 | V47: 45.724473 | W47: 0.01385105 | X47: 59.143729 | Y47: 0.84922884 | Z47: 46 | AA47: 82.72 | AB47: 2.7479372 | AC47: 72.196694 | AD47: 7.0282292 | AF47: 82.72 | AG47: 2.7479372
C48: Cochinchina | D48: 1932 | E48: 0.1 | F48: 9.5459652 | G48: 0.12564435 | H48: 10.429032 | I48: 9.1532609 | J48: 78.675186 | K48: 0.11280887 | L48: 7.5679006 | M48: 1.2613756 | N48: 1.2613756 | O48: 7.5679006 | P48: 1.2613756 | Q48: 1.2613756 | R48: 1.7206363 | S48: 4.6795534 | T48: 5.4879482 | U48: 57.450218 | V48: 45.724473 | W48: 0.013143703 | X48: 59.143729 | Y48: 0.84922884 | Z48: 46 | AA48: 78.85 | AB48: 2.7067876 | AC48: 76.082059 | AD48: 7.0282292
C49: Cochinchina | D49: 1932 | E49: 0.1 | F49: 9.5459652 | G49: 0.12564435 | H49: 10.429032 | I49: 9.1532609 | J49: 78.675186 | K49: 0.064302656 | L49: 4.3138109 | M49: 2.2128845 | N49: 2.2128845 | O49: 4.3138109 | P49: 2.2128845 | Q49: 2.2128845 | R49: 1.7206363 | S49: 4.6795534 | T49: 5.4879482 | U49: 57.450218 | V49: 45.724473 | W49: 0.013143703 | X49: 32.667638 | Y49: 0.84922884 | Z49: 46 | AA49: 78.85 | AB49: 2.7067876 | AC49: 76.082059 | AD49: 4.0061905
C50: Cochinchina | D50: 1932 | E50: 0.1 | F50: 9.5459652 | G50: 0.12564435 | H50: 10.429032 | I50: 9.1532609 | J50: 78.675186 | K50: 0.064302656 | L50: 3.8592619 | M50: 2.473521 | N50: 2.473521 | O50: 3.8592619 | P50: 2.473521 | Q50: 2.473521 | R50: 1.7206363 | S50: 3.1354467 | T50: 4.1101896 | U50: 57.450218 | V50: 45.724473 | W50: 0.011626184 | X50: 32.667638 | Y50: 0.84922884 | Z50: 46 | AA50: 78.85 | AB50: 2.7067876 | AC50: 86.012744 | AD50: 4.0061905
C52: Cochinchina | D52: 1932 | E52: 0.1 | F52: 9.5459652 | G52: 0.12564435 | H52: 10.429032 | I52: 9.1532609 | J52: 78.675186 | K52: 0.11280887 | L52: 7.5679006 | M52: 1.2613756 | N52: 1.2613756 | O52: 7.5679006 | P52: 1.2613756 | Q52: 1.2613756 | R52: 1.7206363 | S52: 4.6795534 | T52: 5.4879482 | U52: 57.450218 | V52: 45.724473 | W52: 0.013143703 | X52: 59.143729 | Y52: 0.84922884 | Z52: 46 | AA52: 78.85 | AB52: 2.7067876 | AC52: 76.082059 | AD52: 7.0282292
C53: Cochinchina | D53: 1932 | E53: 0.1 | F53: 9.5459652 | G53: 0.12564435 | H53: 10.429032 | I53: 9.1532609 | J53: 78.675186 | K53: 0.11280887 | L53: 6.7704662 | M53: 1.4099421 | N53: 1.4099421 | O53: 6.7704662 | P53: 1.4099421 | Q53: 1.4099421 | R53: 1.7206363 | S53: 3.1354467 | T53: 4.1101896 | U53: 57.450218 | V53: 45.724473 | W53: 0.011626184 | X53: 59.143729 | Y53: 0.84922884 | Z53: 46 | AA53: 78.85 | AB53: 2.7067876 | AC53: 86.012744 | AD53: 7.0282292
C54: Cochinchina | D54: 1932 | E54: 0.1 | F54: 9.5459652 | G54: 0.12564435 | H54: 10.429032 | I54: 9.1532609 | J54: 78.675186 | K54: 0.064302656 | L54: 3.8592619 | M54: 2.473521 | N54: 2.473521 | O54: 3.8592619 | P54: 2.473521 | Q54: 2.473521 | R54: 1.7206363 | S54: 3.1354467 | T54: 4.1101896 | U54: 57.450218 | V54: 45.724473 | W54: 0.011626184 | X54: 32.667638 | Y54: 0.84922884 | Z54: 46 | AA54: 78.85 | AB54: 2.7067876 | AC54: 86.012744 | AD54: 4.0061905
L56: 0.83172324 | S56: 0.89462937

Sheet Figure D1
J1: Back
A37: Top 0.01% income share in the French and the British colonial empires, 1920-1960

Sheet Figure D2
I1: Back
A37: The top 0.01% income share in the five colonies of French Indochina

Sheet Figure D3
M1: Back
A31: Tunisia | H31: South Africa
A34: Ethnic composition of the top 1% group in Tunisia and South Africa

Sheet Figure D4
T1: Back
A36: Tunisia | J36: Cochinchina
A38: Top income share among autochthons in Tunisia and Cochinchina

Sheet Table A1A
A1: Table A1.A. Algeria. Data sources of the distribution of income from the income tax | C1: Back
A4: 1932 | B4: République Française. Gouvernement Général de l'Algérie. Direction des Services Économiques. Service Central de Statistique. Annuaire Statistique de l'Algérie année 1933
A5: 1933 | B5: République Française. Gouvernement Général de l'Algérie. Direction des Services Économiques. Service Central de Statistique. Annuaire Statistique de l'Algérie année 1934
A6: 1934 | B6: République Française. Gouvernement Général de l'Algérie. Direction des Services Économiques. Service Central de Statistique. Annuaire Statistique de l'Algérie année 1935
A7: 1935 | B7: République Française. Gouvernement Général de l'Algérie. Direction des Services Économiques. Service Central de Statistique. Annuaire Statistique de l'Algérie année 1936
A8: 1936 | B8: République Française. Gouvernement Général de l'Algérie. Direction des Services Économiques. Service Central de Statistique. Annuaire Statistique de l'Algérie année 1937
A9: 1937 | B9: République Française. Gouvernement Général de l'Algérie. Direction des Services Économiques. Service Central de Statistique. Annuaire Statistique de l'Algérie année 1938
A10: 1938 | B10: Gouvernement Général de l'Algérie. Direction Général de l'Algérie. Direction Générale des Finances. Service de Statistique Générale. Annuaire Statistique de l'Algérie. 1939-1947. Nouvelle Série. Premier Volume. Années 1939-1947.
A11: 1939 | B11: Gouvernement Général de l'Algérie. Direction Général de l'Algérie. Direction Générale des Finances. Service de Statistique Générale. Annuaire Statistique de l'Algérie. Années 1939-1947. Nouvelle Série. Premier Volume. Années 1939-1947.
A12: 1940 | B12: Gouvernement Général de l'Algérie. Direction Général de l'Algérie. Direction Générale des Finances. Service de Statistique Générale. Annuaire Statistique de l'Algérie. Années 1939-1947. Nouvelle Série. Premier Volume. Années 1939-1947.
A13: 1941 | B13: Gouvernement Général de l'Algérie. Direction Général de l'Algérie. Direction Générale des Finances. Service de Statistique Générale. Annuaire Statistique de l'Algérie. Années 1939-1947. Nouvelle Série. Premier Volume. Années 1939-1947.
A14: 1942
A15: 1943
A16: 1944
A17: 1945
A18: 1946 | B18: Gouvernement Général de l'Algérie. Direction Général de l'Algérie. Direction Générale des Finances. Service de Statistique Générale. Annuaire Statistique de l'Algérie. Nouvelle Série. Premier Volume. Années 1939-1947.
A19: 1947 | B19: Gouvernement Général de l'Algérie. Direction Générale des Finances. Service de Statistique Générale. Annuaire Statistique de l'Algérie. Nouvelle Série. Deuxième Volume. 1948-1949.
A20: 1948 | B20: Gouvernement Général de l'Algérie. Direction Générale des Finances. Service de Statistique Générale. Annuaire Statistique de l'Algérie. Nouvelle Série. Deuxième Volume. 1948-1949. P. 271. Tableau XXVI
A21: 1949 | B21: Gouvernement Général de l'Algérie. Direction Générale des Finances. Service de Statistique Générale. Annuaire Statistique de l'Algérie. Nouvelle Série. Troisième Volume. 1950.
A22: 1950 | B22: Gouvernement Général de l'Algérie. Direction Générale des Finances. Service de Statistique Générale. Annuaire Statistique de l'Algérie. Nouvelle Série. Quatrième Volume. 1951.
A23: 1951 | B23: Gouvernement Général de l'Algérie. Direction Générale des Finances. Service de Statistique Générale. Annuaire Statistique de l'Algérie. Nouvelle Série. Cinquième Volume. 1952.
A24: 1952 | B24: Gouvernement Général de l'Algérie. Direction Générale des Finances. Service de Statistique Générale. Annuaire Statistique de l'Algérie. Nouvelle Série. Sixième Volume. 1953.
A25: 1953 | B25: Gouvernement Général de l'Algérie. Direction Générale des Finances. Service de Statistique Générale. Annuaire Statistique de l'Algérie. Nouvelle Série. Septième Volume. 1954.
A26: 1954 | B26: Ministère de l'Algérie. Direction Générale des Affaires Économiques et de l'Industrialisation. Service de la Statistique Générale. Annuaire Statistique de l'Algérie. Nouvelle Série. Neuvième Volume. 1956-1957.
A27: 1955 | B27: Délégation Générale du Gouvernement de l'Algérie. Secrétariat Général Adjoint pour les Affaires Économiques. Service de la Statistique Générale. Annuaire Statistique de l'Algérie. Nouvelle Série. Dixième Volume. 1958.
A28: 1956
A29: 1957 | B29: Délégation Générale du Gouvernement de l'Algérie. Secrétariat Général Adjoint pour les Affaires Économiques. Service de la Statistique Générale. Annuaire Statistique de l'Algérie. Nouvelle Série. Onzième Volume. 1959.

Sheet Table A1B
A1: Table A1.B. Tunisia. Data sources of the distribution of income from the income tax | C1: Back
A4: 1946 | B4: Régence de Tunis. Protectorat Français. Secrétariat Général du Gouvernement Tunisien. Service Tunisien des Statistiques. Annuaire Statistique de la Tunisie. Année 1948. p. 134.
A5: 1947 | B5: Régence de Tunis. Protectorat Français. Secrétariat Général du Gouvernement Tunisien. Service Tunisien des Statistiques. Annuaire Statistique de la Tunisie. Année 1948. p. 134.
A6: 1948 | B6: Régence de Tunis. Protectorat Français. Secrétariat Général du Gouvernement Tunisien. Service Tunisien des Statistiques. Annuaire Statistique de la Tunisie. Année 1949/50. p. 128.
A7: 1949
A8: 1950
A9: 1951
A10: 1952 | B10: Royaume de Tunis. Protectorat Français. Présidence du Conseil. Service Tunisien des Statistiques. Annuaire Statistique de la Tunisie 1953. Nouvelle série. Sixième volume. p. 129.
A11: 1953 | B11: Royaume de Tunis. Protectorat Français. Présidence du Conseil. Service Tunisien des Statistiques. Annuaire Statistique de la Tunisie 1954. Édition 1955. p. 121.
A12: 1954 | B12: Royaume de Tunisie. Présidence du Conseil. Service Tunisien des Statistiques. Annuaire Statistique de la Tunisie 1955. Édition 1956. p. 130.
A13: 1955 | B13: République Tunisienne. Secrétariat d'État à la Présidence. Sous-Secrétariat d'État au Plan. Service des Statistiques. Annuaire Statistique de la Tunisie 1956. Édition 1957. p. 146.
A14: 1956 | B14: République Tunisienne. Secrétariat d'État à la Présidence. Sous-Secrétariat d'État au Plan. Service des Statistiques. Annuaire Statistique de la Tunisie 1957-1958. p. 159.

Sheet Table A1C
A1: Table A1.C. Cameroon. Data sources of the distribution of income from the income tax | C1: Back
A4: 1945 | B4: Ministère de la France d'Outre Mer. Service Colonial des Statistiques. Annuaire Statistique du Cameroun. Volume I. 1936-1945.

Sheet Table A1D
A1: Table A1.D. Indochina. Data sources of the distribution of income from the income tax | C1: Back
A4: 1920 | B4: Gouvernement Général de l'Indochine. Direction des Affaires Économiques. Service de la Statistique Générale. Annuaire Statistique de l'Indochine. Premier Volume. Recueil de Statistiques relatives aux années 1913 à 1922. Imprimerie d'Exrême-Orient-Éditeur. Hanoi 1927. | C4: distribution of number of tax-payers only (frequencies)
A5: 1921 | B5: Gouvernement Général de l'Indochine. Direction des Affaires Économiques. Service de la Statistique Générale. Annuaire Statistique de l'Indochine. Premier Volume. Recueil de Statistiques relatives aux années 1913 à 1922. Imprimerie d'Exrême-Orient-Éditeur. Hanoi 1927. | C5: distribution of number of tax-payers only (frequencies)
A6: 1922 | B6: Gouvernement Général de l'Indochine. Direction des Affaires Économiques. Service de la Statistique Générale. Annuaire Statistique de l'Indochine. Premier Volume. Recueil de Statistiques relatives aux années 1913 à 1922. Imprimerie d'Exrême-Orient-Éditeur. Hanoi 1927. | C6: distribution of number of tax-payers only (frequencies)
A7: 1923
A8: 1924 | B8: Gouvernement Général de l'Indochine. Inspection Générale des Mines et de l'Industrie. Service de la Statistique Générale de l'Indochine. Annuaire Statistique de l'Indochine. Deuxième Volume. 1923 à 1929. Imprimerie d'Exrême-Orient. Hanoi 1931.
A9: 1925 | B9: Gouvernement Général de l'Indochine. Inspection Générale des Mines et de l'Industrie. Service de la Statistique Générale de l'Indochine. Annuaire Statistique de l'Indochine. Deuxième Volume. 1923 à 1929. Imprimerie d'Exrême-Orient. Hanoi 1931.
A10: 1926 | B10: Gouvernement Général de l'Indochine. Inspection Générale des Mines et de l'Industrie. Service de la Statistique Générale de l'Indochine. Annuaire Statistique de l'Indochine. Deuxième Volume. 1923 à 1929. Imprimerie d'Exrême-Orient. Hanoi 1931.
A11: 1927 | B11: Gouvernement Général de l'Indochine. Inspection Générale des Mines et de l'Industrie. Service de la Statistique Générale de l'Indochine. Annuaire Statistique de l'Indochine. Deuxième Volume. 1923 à 1929. Imprimerie d'Exrême-Orient. Hanoi 1931.
A12: 1928 | B12: Gouvernement Général de l'Indochine. Inspection Générale des Mines et de l'Industrie. Service de la Statistique Générale de l'Indochine. Annuaire Statistique de l'Indochine. Deuxième Volume. 1923 à 1929. Imprimerie d'Exrême-Orient. Hanoi 1931.
A13: 1929 | B13: Gouvernement Général de l'Indochine. Inspection Générale des Mines et de l'Industrie. Service de la Statistique Générale de l'Indochine. Annuaire Statistique de l'Indochine. Deuxième Volume. 1923 à 1929. Imprimerie d'Exrême-Orient. Hanoi 1931.
A14: 1930 | B14: Gouvernement Général de l'Indochine. Inspection Générale des Mines et de l'Industrie. Service de la Statistique Générale. Annuaire Statistique de l'Indochine. Troisième Volume. Recueil de Statistiques. 1930-1931. Imprimerie d'Exrême-Orient-Éditeur. Hanoi 1932.
A15: 1931 | B15: Gouvernement Général de l'Indochine. Direction des Affaires Économiques et Administratives. Bureau de la Statistique Générale. Annuaire Statistique de l'Indochine. Quatrième Volume 1931-1932. Imprimerie d'Exrême-Orient. Hanoi 1933.
A16: 1932 | B16: Gouvernement Général de l'Indochine. Direction des Affaires Économiques et Administratives. Bureau de la Statistique Générale. Annuaire Statistique de l'Indochine. Quatrième Volume 1931-1932. Imprimerie d'Exrême-Orient. Hanoi 1933.
A17: 1933 | B17: Gouvernement Général de l'Indochine. Direction des Affaires Économiques et Administratives. Bureau de la Statistique Générale. Annuaire Statistique de l'Indochine. Quatrième Volume 1931-1932. Imprimerie d'Exrême-Orient. Hanoi 1933.
A18: 1934 | B18: Gouvernement Général de l'Indochine. Direction des Affaires Économiques et Administratives. Bureau de la Statistique Générale. Annuaire Statistique de l'Indochine. Sixième Volume. 1934-1935-1936. Imprimerie d'Exrême-Orient-Éditeur. Hanoi 1937.
A19: 1935 | B19: Gouvernement Général de l'Indochine. Direction des Affaires Économiques et Administratives. Bureau de la Statistique Générale. Annuaire Statistique de l'Indochine. Sixième Volume. 1934-1935-1936. Imprimerie d'Exrême-Orient-Éditeur. Hanoi 1937.
... A32: 1948 | B32: Gouvernement Général de l'Indochine. Direction des Services Économiques. Service de la Statistique Générale. Annuaire Statistique de l'Indochine.Douzième Volume 1947-1948. Imprimerie d'Exrême-Orient. Hanoi.
B34: Vietnam
A35: 1949 | B35: Institut de la Statistique et des Études Économiques du Viêtnam. État du Viêtnam. Ministère de l'Économie Nationale. Annuaire Statistique du Viêtnam. Premier volume. 1949-1950. pp.274-275.
A36: 1950 | B36: Institut de la Statistique et des Études Économiques du Viêtnam. État du Viêtnam. Ministère de l'Économie Nationale. Annuaire Statistique du Viêtnam. Premier volume. 1949-1950. pp.274-275.

Sheet Table A1E
A1: Availability of tax tabulations, coverage, and reporting of taxable income | AO1: Back
A3: Year 19.. | B3: 19 | C3: 20 | D3: 21 | E3: =D3+1 -> 22 | F3: =E3+1 -> 23 | G3: =F3+1 -> 24 | H3: =G3+1 -> 25 | I3: =H3+1 -> 26 | J3: =I3+1 -> 27 | K3: =J3+1 -> 28 | L3: =K3+1 -> 29 | ... AN3: =AM3+1 -> 57
A4: Algeria
A5: Tunisia
A6: Cameroon
A7: Cochinchina | E7: Saigon only
A8: Annam
A9: Tonkin
A10: Cambodia
A11: Laos
A12: Black : All taxpayers; dark grey: Only Europeans and Chinese; light grey : Only Europeans; blank : no data
A14: Year 19.. | B14: 19 | C14: 20 | D14: 21 | E14: =D14+1 -> 22 | F14: =E14+1 -> 23 | G14: =F14+1 -> 24 | H14: =G14+1 -> 25 | I14: =H14+1 -> 26 | J14: =I14+1 -> 27 | K14: =J14+1 -> 28 | L14: =K14+1 -> 29 | ... AN14: =AM14+1 -> 57
A15: Algeria
A16: Tunisia
A17: Cameroon
A18: Cochinchina
A19: Annam
A20: Tonkin
A21: Cambodia
A22: Laos
A23: Black : Income totals for each income bracket; dark grey: Total amount of declared income is known; light grey : No income totals; blank : no data
A25: Year 19.. | B25: 19 | C25: 20 | D25: 21 | E25: =D25+1 -> 22 | F25: =E25+1 -> 23 | G25: =F25+1 -> 24 | H25: =G25+1 -> 25 | I25: =H25+1 -> 26 | J25: =I25+1 -> 27 | K25: =J25+1 -> 28 | L25: =K25+1 -> 29 | ... AN25: =AM25+1 -> 57
A26: Algeria
A27: Tunisia
A28: Cameroon
A29: Cochinchina
A30: Annam
A31: Tonkin
A32: Cambodia
A33: Laos
A34: Black : Chargeable income, no deductions for family charges; grey = Chargeable income with deductions for family charges; blank : no data

Sheet Table B1A
A1: Table B1.A. Algeria. Income control, population control and price index 1932-1957 | Y1: Back
B3: # Taxpayers in statistics | D3: Tax units (control population) | N3: Taxpayers/Tax units | P3: Total income | T3: Average income per tax unit | X3: Price index
D4: North Algeria | I4: All Algeria (including South territories) | P4: North Algeria | R4: All Algeria | T4: North Algeria | V4: All Algeria
D5: Europeans | E5: Muslims | F5: Total | G5: Europeans in Total | I5: Europeans | J5: Muslims | K5: Total | L5: Europeans in Total
D6: (000) | E6: (000) | F6: (000) | G6: (%) | I6: (000) | J6: (000) | K6: (000) | L6: (%) | N6: (%) | P6: million current francs | R6: million current francs | T6: 1937 francs | V6: 1937 francs | X6: 1937=100
D7: Estimated as 60% of population aged 15+ to reflect the population of married couples and single adults
B8: (1) | D8: (2) | E8: (3) | F8: (4) | G8: (5)=(2)/(4) | I8: (6) | J8: (7) | K8: (8) | L8: (9)=(6)/(8) | N8: (10)=(1)/(4) | P8: (11) | R8: (12) | T8: (13) | V8: (14) | X8: (15)
A10: 1932 | B10: 70448 | D10: 365.72524 | E10: 1962.3998 | F10: 2328.125 | G10: 15.709004 | I10: 368.38189 | J10: 2187.4187 | K10: 2555.8006 | L10: 14.413561 | N10: 3.0259544 | P10: 6315.8584 | R10: 6615.101 | T10: 2979.2089 | V10: 2842.3947 | X10: 91.059473
A11: 1933 | B11: 71069 | D11: 370.74762 | E11: 2003.5678 | F11: 2374.3154 | G11: 15.614927 | I11: 373.61556 | J11: 2233.4186 | K11: 2607.0341 | L11: 14.331057 | N11: 2.9932417 | P11: 6268.0451 | R11: 6568.1224 | T11: 3020.3867 | V11: 2882.4606 | X11: 87.403968 | Y11: -0.040144148
A12: 1934 | B12: 63366 | D12: 375.83898 | E12: 2045.5995 | F12: 2421.4385 | G12: 15.52131 | I12: 378.92358 | J12: 2280.3858 | K12: 2659.3094 | L12: 14.248947 | N12: 2.6168742 | P12: 6038.1743 | R12: 6330.2276 | T12: 2900.0216 | V12: 2768.3404 | X12: 85.986639 | Y12: -0.016215842
A13: 1935 | B13: 54784 | D13: 381.00024 | E13: 2088.513 | F13: 2469.5132 | G13: 15.428152 | I13: 384.30702 | J13: 2328.3407 | K13: 2712.6477 | L13: 14.167229 | N13: 2.2184129 | P13: 5635.8254 | R13: 5911.1948 | T13: 2745.6075 | V13: 2621.6466 | X13: 83.12042 | Y13: -0.033333305
A14: 1936 | B14: 56120 | D14: 386.23239 | E14: 2132.3267 | F14: 2518.5591 | G14: 15.335451 | I14: 389.76694 | J14: 2377.3041 | K14: 2767.071 | L14: 14.085903 | N14: 2.2282582 | P14: 5793.1504 | R14: 6079.0556 | T14: 2791.7209 | V14: 2666.3991 | X14: 82.393064 | Y14: -0.0087506349
A15: 1937 | B15: 62273 | D15: 387.39806 | E15: 2146.348 | F15: 2533.7461 | G15: 15.289538 | I15: 390.96271 | J15: 2397.1774 | K15: 2788.1401 | L15: 14.022348 | N15: 2.4577443 | P15: 7095.4771 | R15: 7451.8441 | T15: 2800.39 | V15: 2672.6935 | X15: 100 | Y15: 0.2136944
A16: 1938 | B16: 72854 | D16: 388.56725 | E16: 2160.4615 | F16: 2549.0288 | G16: 15.243737 | I16: 392.16215 | J16: 2417.2169 | K16: 2809.3791 | L16: 13.959033 | N16: 2.8581082 | P16: 8409.1192 | R16: 8838.8369 | T16: 2839.5018 | V16: 2708.0155 | X16: 116.1806 | Y16: 0.16180604
A17: 1939 | B17: 71840 | D17: 389.73996 | E17: 2174.6678 | F17: 2564.4078 | G17: 15.198049 | I17: 393.36527 | J17: 2437.424 | K17: 2830.7892 | L17: 13.895958 | N17: 2.8014265 | P17: 8966.3368 | R17: 9432.433 | T17: 2708.5499 | V17: 2581.2203 | X17: 129.08956 | Y17: 0.11111111
A18: 1940 | B18: 74856 | D18: 390.91622 | E18: 2188.9675 | F18: 2579.8838 | G18: 15.152474 | I18: 394.57208 | J18: 2457.7999 | K18: 2852.372 | L18: 13.833121 | N18: 2.9015261 | P18: 9759.7304 | R18: 10275.718 | T18: 2421.9278 | V18: 2306.373 | X18: 156.19837 | Y18: 0.21
A19: 1941 | B19: 102428 | D19: 392.09602 | E19: 2203.3613 | F19: 2595.4573 | G19: 15.107011 | I19: 395.78259 | J19: 2478.3462 | K19: 2874.1288 | L19: 13.770524 | N19: 3.9464336 | P19: 11003.997 | R19: 11595.571 | T19: 2507.1144 | V19: 2385.7421 | X19: 169.10732 | Y19: 0.082644628
A20: 1942 | D20: 393.27939 | E20: 2217.8497 | F20: 2611.1291 | G20: 15.06166 | I20: 396.99682 | J20: 2499.0642 | K20: 2896.061 | L20: 13.708165 | P20: 14318.504 | R20: 15101.089 | T20: 2346.9272 | V20: 2231.6745 | X20: 233.6521 | Y20: 0.38167939
A21: 1943 | D21: 394.46632 | E21: 2232.4334 | F21: 2626.8997 | G21: 15.016421 | I21: 398.21477 | J21: 2519.9555 | K21: 2918.1702 | L21: 13.646043 | P21: 19375.203 | R21: 20451.607 | T21: 2164.2515 | V21: 2056.4671 | X21: 340.79644 | Y21: 0.45856354
A22: 1944 | D22: 395.65684 | E22: 2247.1129 | F22: 2642.7698 | G22: 14.971294 | I22: 399.43646 | J22: 2541.0213 | K22: 2940.4578 | L22: 13.584159 | P22: 28902.599 | R22: 30534.459 | T22: 2265.2432 | V22: 2150.862 | X22: 482.79495 | Y22: 0.41666667
A23: 1945 | D23: 396.85095 | E23: 2261.889 | F23: 2658.74 | G23: 14.926279 | I23: 400.6619 | J23: 2562.2633 | K23: 2962.9252 | L23: 13.522511 | P23: 38326.989 | R23: 40525.823 | T23: 2302.4806 | V23: 2184.632 | X23: 626.08436 | Y23: 0.29679144
A24: 1946 | B24: 73895 | D24: 398.04867 | E24: 2276.7623 | F24: 2674.811 | G24: 14.881376 | I24: 401.89109 | J24: 2583.6829 | K24: 2985.574 | L24: 13.4611 | N24: 2.4750685 | P24: 59467.861 | R24: 62933.935 | T24: 2578.2299 | V24: 2444.4968 | X24: 862.31826 | Y24: 0.37731959
A25: 1947 | B25: 57944 | D25: 399.25 | E25: 2291.7333 | F25: 2690.9833 | G25: 14.836584 | I25: 403.12406 | J25: 2605.2815 | K25: 3008.4055 | L25: 13.399924 | N25: 1.9260701 | P25: 89332.658 | R25: 94621.511 | T25: 2670.434 | V25: 2530.0907 | X25: 1243.1325 | Y25: 0.44161677
A26: 1948 | B26: 95690 | D26: 400.45496 | E26: 2306.8028 | F26: 2707.2578 | G26: 14.791903 | I26: 404.36081 | J26: 2627.0607 | K26: 3031.4215 | L26: 13.338984 | N26: 3.1566049 | P26: 156034.37 | R26: 165416.4 | T26: 2811.5709 | V26: 2661.8933 | X26: 2049.9422 | Y26: 0.6490135
A27: 1949 | B27: 95638 | D27: 404.36124 | E27: 2357.004 | F27: 2761.3652 | G27: 14.643526 | I27: 408.55097 | J27: 2671.9124 | K27: 3080.4633 | L27: 13.262647 | N27: 3.1046628 | P27: 198074.45 | R27: 209722.43 | T27: 2858.362 | V27: 2712.9479 | X27: 2509.501 | Y27: 0.22418136
A28: 1950 | B28: 85168 | D28: 408.30562 | E28: 2408.2976 | F28: 2816.6033 | G28: 14.496384 | I28: 412.78455 | J28: 2717.5298 | K28: 3130.3144 | L28: 13.18668 | N28: 2.7207491 | P28: 208234.48 | R28: 220200 | T28: 2921.9971 | V28: 2780.2392 | X28: 2530.1554 | Y28: 0.0082304527
A29: 1951 | B29: 85274 | D29: 412.28848 | E29: 2460.7076 | F29: 2872.996 | G29: 14.350472 | I29: 417.06199 | J29: 2763.9261 | K29: 3180.9881 | L29: 13.111083 | N29: 2.6807393 | P29: 237667.98 | R29: 251000 | T29: 2901.1767 | V29: 2767.2615 | X29: 2851.4218 | Y29: 0.126975
A30: 1952 | B30: 112608 | D30: 416.31019 | E30: 2514.258 | F30: 2930.5682 | G30: 14.205784 | I30: 421.38376 | J30: 2811.1146 | K30: 3232.4983 | L30: 13.035854 | N30: 3.4836213 | P30: 281357.96 | R30: 296750 | T30: 3252.1565 | V30: 3109.6857 | X30: 2952.1331 | Y30: 0.035319645
A31: 1953 | B31: 106619 | D31: 420.37114 | E31: 2568.9739 | F31: 2989.345 | G31: 14.062316 | I31: 425.75032 | J31: 2859.1086 | K31: 3284.859 | L31: 12.960992 | N31: 3.245771 | P31: 290184.58 | R31: 305650 | T31: 3369.3691 | V31: 3229.6687 | X31: 2881.0427 | Y31: -0.024081003
A32: 1954 | B32: 123165 | D32: 424.47169 | E32: 2624.8804 | F32: 3049.3521 | G32: 13.920061 | I32: 430.16212 | J32: 2907.9221 | K32: 3338.0842 | L32: 12.886497 | N32: 3.6896912 | P32: 308262.94 | R32: 324250 | T32: 3589.7307 | V32: 3449.2989 | X32: 2816.1246 | Y32: -0.022532852
A33: 1955 | B33: 144932 | D33: 427.77268 | E33: 2701.1811 | F33: 3128.9538 | G33: 13.671428 | I33: 433.50737 | J33: 2992.4503 | K33: 3425.9577 | L33: 12.653611 | N33: 4.2304083 | P33: 328221.16 | R33: 345400 | T33: 3815.8397 | V33: 3667.4402 | X33: 2749.0162 | Y33: -0.023830064
A34: 1956 | D34: 431.09935 | E34: 2779.6998 | F34: 3210.7991 | G34: 13.426544 | I34: 436.87863 | J34: 3079.4357 | K34: 3516.3143 | L34: 12.424334 | P34: 364070.37 | R34: 383300 | T34: 4140.1817 | V34: 3980.1399 | X34: 2738.7526 | Y34: -0.0037335649
A35: 1957 | B35: 179003 | D35: 434.45188 | E35: 2841.8611 | F35: 3276.313 | G35: 13.26039 | I35: 440.2761 | J35: 3148.2999 | K35: 3588.576 | L35: 12.268825 | N35: 4.9881346 | P35: 423254.54 | R35: 445750 | T35: 4317.0287 | V35: 4150.8583 | X35: 2992.4803 | Y35: 0.092643534

Sheet Table B1B
A1: Table B.1B. Tunisia. Income control, population control and price index 1937-1956 | Y1: Back
B3: # Taxpayers in statistics | G3: Tax Units (control population) | L3: Taxpayers/Tax units | P3: Total income | T3: Average income | X3: Price index
B5: Tunisians-non Europeans | C5: Europeans | D5: Total | E5: Europeans in Total | G5: Tunisians-non Europeans | H5: Europeans | I5: Total | J5: Europeans in Total | L5: Tunisians-non Europeans | M5: Europeans | N5: Total | P5: Tunisians-non Europeans | Q5: Europeans | R5: Total | T5: Tunisians-non Europeans | U5: Europeans | V5: Total
E6: % | G6: (000) | H6: (000) | I6: (000) | J6: % | L6: % | M6: % | N6: % | P6: million current francs | Q6: million current francs | R6: million current francs | T6: 1937 francs | U6: 1937 francs | V6: 1937 francs | X6: 1937=100
G7: Estimated as 60% of population aged 15+ to reflect the population of married couples and single adults
B8: (1) | C8: (2) | D8: (3) | E8: (4)=(2)/(3) | G8: (5) | H8: (6) | I8: (7) | J8: (8)=(6)/(7) | L8: (9)=(1)/(5) | M8: (10)=(2)/(6) | N8: (11)=(3)/(7) | P8: (12) | Q8: (13) | R8: (14) | T8: (15) | U8: (16) | V8: (17) | X8: (18)
A10: 1920
A11: 1921
A12: 1922
A13: 1923
A14: 1924
A15: 1925
A16: 1926
A17: 1927
A18: 1928
A19: 1929
A20: 1930
A21: 1931
... A26: 1936
A27: 1937 | G27: 893.05783 | H27: 91.64233 | I27: 984.70016 | J27: 9.3066228 | R27: 2150.0903 | V27: 2183.4975 | X27: 100
A28: 1938 | G28: 908.97124 | H28: 92.834894 | I28: 1001.8061 | J28: 9.2667524 | R28: 2650.8476 | V28: 2277.5475 | X28: 116.1806 | Y28: 0.16180604
A29: 1939 | G29: 925.16867 | H29: 94.086622 | I29: 1019.2553 | J29: 9.2309182 | R29: 2654.0505 | V29: 2134.535 | X29: 121.98963 | Y29: 0.05
A30: 1940 | G30: 941.65519 | H30: 95.07974 | I30: 1036.7349 | J30: 9.1710752 | R30: 2965.7086 | V30: 2018.2143 | X30: 141.74034 | Y30: 0.16190476
A31: 1941 | G31: 958.43598 | H31: 96.116003 | I31: 1054.552 | J31: 9.1143921 | R31: 3605.7662 | V31: 1773.7696 | X31: 192.76686 | Y31: 0.36
A32: 1942 | G32: 975.51631 | H32: 97.196446 | I32: 1072.7128 | J32: 9.0608083 | R32: 5107.7449 | V32: 1768.0669 | X32: 269.30664 | Y32: 0.39705882
A33: 1943 | G33: 992.90152 | H33: 98.322137 | I33: 1091.2237 | J33: 9.0102644 | R33: 5008.9291 | V33: 1280.0211 | X33: 358.60305 | Y33: 0.33157895
A34: 1944 | G34: 1010.5971 | H34: 99.49417 | I34: 1110.0912 | J34: 8.962702 | R34: 7974.5607 | V34: 1614.0797 | X34: 445.06466 | Y34: 0.24110672
A35: 1945 | G35: 1028.6085 | H35: 100.71367 | I35: 1129.3222 | J35: 8.9180639 | R35: 10859.099 | V35: 1858.6156 | X35: 517.35223 | Y35: 0.16242038
A36: 1946 | B36: 5010 | C36: 20082 | D36: 25092 | E36: 80.033477 | G36: 1046.9415 | H36: 101.6904 | I36: 1148.6319 | J36: 8.8531757 | L36: 0.47853677 | M36: 19.748177 | N36: 2.1845119 | P36: 13056.24 | Q36: 7074.5264 | R36: 20130.766 | T36: 1532.8171 | U36: 8550.9046 | V36: 2154.1407 | X36: 813.58953 | Y36: 0.57260274
A37: 1947 | B37: 8402 | C37: 34265 | D37: 42667 | E37: 80.307966 | G37: 1064.9461 | H37: 102.1368 | I37: 1167.0829 | J37: 8.7514606 | L37: 0.78896009 | M37: 33.548142 | N37: 3.655867 | P37: 18656.393 | Q37: 10108.971 | R37: 28765.364 | T37: 1598.9213 | U37: 9033.41 | V37: 2249.5477 | X37: 1095.6528 | Y37: 0.3466899
A38: 1948 | B38: 6194 | C38: 27544 | D38: 33738 | E38: 81.64088 | G38: 1083.2604 | H38: 102.58517 | I38: 1185.8456 | J38: 8.6508032 | L38: 0.57179233 | M38: 26.849885 | N38: 2.8450585 | P38: 30169 | Q38: 16347.079 | R38: 46516.079 | T38: 1699.7175 | U38: 9725.329 | V38: 2393.9974 | X38: 1638.5183 | Y38: 0.49547219
A39: 1949 | G39: 1101.8896 | H39: 103.0355 | I39: 1204.9251 | J39: 8.5511951 | P39: 39602.95 | Q39: 21458.867 | R39: 61061.818 | T39: 1688.2084 | U39: 9782.6501 | V39: 2380.3799 | X39: 2128.9399 | Y39: 0.29930796
A40: 1950 | G40: 1120.8392 | H40: 103.48781 | I40: 1224.3271 | J40: 8.4526278 | P40: 42580.016 | Q40: 23071.991 | R40: 65652.008 | T40: 1746.066 | U40: 10246.937 | V40: 2464.6129 | X40: 2175.7142 | Y40: 0.021970706
A41: 1951 | G41: 1140.1147 | H41: 103.9421 | I41: 1244.0568 | J41: 8.3550928 | P41: 50136.184 | Q41: 27166.302 | R41: 77302.486 | T41: 1734.1989 | U41: 10307.07 | V41: 2450.4703 | X41: 2535.7346 | Y41: 0.16547231
A42: 1952 | B42: 9123 | C42: 33053 | D42: 42176 | E42: 78.369215 | G42: 1159.7217 | H42: 104.39839 | I42: 1264.1201 | J42: 8.2585817 | L42: 0.78665424 | M42: 31.660449 | N42: 3.3363919 | P42: 59671.142 | Q42: 32332.822 | R42: 92003.964 | T42: 1915.6135 | U42: 11530.473 | V42: 2709.6646 | X42: 2685.9794 | Y42: 0.059250978
A43: 1953 | B43: 9936 | C43: 34156 | D43: 44092 | E43: 77.4653 | G43: 1179.6659 | H43: 104.85668 | I43: 1284.5226 | J43: 8.1630862 | L43: 0.8422724 | M43: 32.573985 | N43: 3.4325594 | P43: 61290 | Q43: 33210 | R43: 94500 | T43: 1953.9089 | U43: 11910.952 | V43: 2766.7109 | X43: 2659.0487 | Y43: -0.010026385
A44: 1954 | B44: 10020 | C44: 35242 | D44: 45262 | E44: 77.862224 | G44: 1199.953 | H44: 105.31699 | I44: 1305.27 | J44: 8.0685978 | L44: 0.83503269 | M44: 33.462788 | N44: 3.467635 | P44: 64479.074 | Q44: 34938 | R44: 99417.074 | T44: 2089.8918 | U44: 12902.352 | V44: 2962.3057 | X44: 2571.1697 | Y44: -0.033049041
A45: 1955 | B45: 14239 | C45: 39702 | D45: 53941 | E45: 73.60264 | G45: 1220.5891 | H45: 105.77931 | I45: 1326.3684 | J45: 7.9751081 | L45: 1.1665679 | M45: 37.532859 | N45: 4.066819 | P45: 71625.688 | Q45: 38810.395 | R45: 110436.08 | T45: 2235.4497 | U45: 13976.965 | V45: 3171.8482 | X45: 2625.031 | Y45: 0.020948181
A46: 1956 | B46: 22719 | C46: 37235 | D46: 59954 | E46: 62.105948 | G46: 1241.58 | H46: 106.24366 | I46: 1347.8236 | J46: 7.8826088 | L46: 1.8298459 | M46: 35.046796 | N46: 4.4482081 | P46: 78824.848 | Q46: 42711.262 | R46: 121536.11 | T46: 2174.3416 | U46: 13768.248 | V46: 3088.2438 | X46: 2919.8509 | Y46: 0.11231102
A47: 1957 | V47: #DIV/0!
A48: 1958 | V48: #DIV/0!
A49: 1959 | V49: #DIV/0!
A50: 1960 | V50: #DIV/0!

Sheet Table B1C
A1: Table B.1C. Cameroon. Income control and population control 1945 | X1: Back
B3: # Taxpayers in statistics | G3: Tax units (control population) | L3: Taxpayers/Tax units | P3: Total income | T3: Average income per tax unit | W3: Price index
B5: Non-Europeans | C5: Europeans | D5: Total | E5: Europeans in Total | G5: Non-Europeans | H5: Europeans | I5: Total | J5: Europeans in Total | L5: Non-Europeans among Non-Europeans | M5: Europeans among Europeans | N5: Total | P5: Non-Europeans | Q5: Europeans | R5: Total | T5: Non-Europeans | U5: Europeans | V5: Total
E6: (%) | G6: (000) | H6: (000) | I6: (000) | J6: (%) | L6: (%) | M6: (%) | N6: (%) | P6: million current francs | Q6: million current francs | R6: million current francs | T6: 1937 francs | U6: 1937 francs | V6: 1937 francs | W6: 1937=100
G7: Estimated as 60% of population aged 15+ to reflect the population of married couples and single adults
B8: (1) | C8: (2) | D8: (3) | E8: (4)=(2)/(3) | G8: (5) | H8: (6) | I8: (7) | J8: (8)=(6)/(7) | L8: (9)=(1)/(5) | M8: (10)=(2)/(6) | N8: (11)=(3)/(7) | P8: (12) | Q8: (13) | R8: (14) | T8: (15) | U8: (16) | V8: (17) | W8: (18)
A10: 1945 | B10: 9697 | C10: 1203 | D10: 10900 | E10: 11.036697 | G10: 1193.944 | H10: 1.706 | I10: 1195.65 | J10: 0.1426839 | L10: 0.81218215 | M10: 70.515826 | N10: 0.91163802 | P10: 2320.5531 | Q10: 230.34852 | R10: 2550.9016 | T10: 559.1352 | U10: 38843.26 | V10: 614.63747 | W10: 347.60877

Sheet Table B1D
A1: Table B.1D. Vietnam. Income control, population control and price index 1920-1948 | U1: Back
B3: # Taxpayers in statistics | E3: Tax Units (control population) | J3: Taxpayers/Tax units | M3: Total income | P3: Average income | T3: Price index
B5: Europeans | C5: Total | E5: Non Europeans | F5: Europeans | G5: Total | H5: Europeans/Total | J5: Europeans among Europeans | K5: Total | M5: Total | N5: Europeans | P5: Total | Q5: Europeans | R5: Non Europeans
E6: (000) | F6: (000) | G6: (000) | H6: % | J6: % | K6: % | M6: million current piasters | N6: million current piasters | P6: 1937 francs | Q6: 1937 francs | R6: 1937 francs | T6: 1937=100
E7: Estimated as 60% of population aged 15+ to reflect the population of married couples and single adults
B8: (1) | C8: (2) | E8: (3) | F8: (4) | G8: (5) | H8: (6)=(4)/(5) | J8: (7) | K8: (8) | M8: (9) | N8: (10) | P8: (11) | Q8: (12) | R8: (13) | T8: (18)
A10: 1920 | E10: 7077.9934 | F10: 6.9688401 | G10: 7084.9623 | H10: 0.098361005 | M10: 430.58393 | P10: 697.95535 | T10: 87.07483
A11: 1921 | B11: 7815 | C11: 7815 | E11: 7144.5434 | F11: 7.5504 | G11: 7152.0938 | H11: 0.10556909 | J11: 103.50445 | K11: 0.1092687 | M11: 445.99486 | N11: 37.889171 | P11: 654.76575 | Q11: 52690.758 | R11: 599.77377 | T11: 95.238095
A12: 1922 | E12: 7217.2627 | F12: 8.0519147 | G12: 7225.3146 | H12: 0.11144033 | M12: 432.54294 | P12: 633.10391 | T12: 94.557823
A13: 1923 | E13: 7295.3656 | F13: 8.5689757 | G13: 7303.9346 | H13: 0.11731999 | M13: 450.19237 | P13: 666.22309 | T13: 92.517007
A14: 1924 | E14: 7378.1622 | F14: 9.1018176 | G14: 7387.264 | H14: 0.12320959 | M14: 443.73121 | P14: 639.84474 | T14: 93.877551
A15: 1925 | E15: 7469.3685 | F15: 9.6505264 | G15: 7479.019 | H15: 0.12903466 | M15: 460.20114 | P15: 646.089 | T15: 95.238095
A16: 1926 | B16: 9195 | C16: 9195 | E16: 7563.7991 | F16: 10.215002 | G16: 7574.0141 | H16: 0.13486907 | J16: 90.014665 | K16: 0.12140194 | M16: 454.69771 | N16: 42.758329 | P16: 604.45105 | Q16: 42145.066 | R16: 548.34995 | T16: 99.319728
A17: 1927 | B17: 9517 | C17: 9517 | E17: 7660.9684 | F17: 10.794913 | G17: 7671.7633 | H17: 0.14070968 | J17: 88.161894 | K17: 0.12405231 | M17: 518.25121 | N17: 45.834528 | P17: 628.50014 | Q17: 39503.344 | R17: 573.72239 | T17: 107.48299
A18: 1928 | B18: 10670 | C18: 10670 | E18: 7760.5476 | F18: 11.389639 | G18: 7771.9372 | H18: 0.14654826 | J18: 93.681636 | K18: 0.13728881 | M18: 504.80446 | N18: 52.025441 | P18: 589.38112 | Q18: 41448.435 | R18: 529.415 | T18: 110.20408
A19: 1929 | B19: 10902 | C19: 10902 | E19: 7862.1958 | F19: 11.9982 | G19: 7874.194 | H19: 0.15237369 | J19: 90.86363 | K19: 0.13845227 | M19: 528.8421 | N19: 55.419135 | P19: 570.67801 | Q19: 39247.76 | R19: 511.65438 | T19: 117.68707
A20: 1930 | B20: 11272 | C20: 11272 | E20: 7911.5021 | F20: 12.010119 | G20: 7923.5122 | H20: 0.1515757 | J20: 93.854189 | K20: 0.14226015 | M20: 497.35855 | N20: 60.49811 | P20: 501.4774 | Q20: 40243.338 | R20: 441.14695 | T20: 125.17007
A21: 1931 | B21: 11132 | C21: 11132 | E21: 7969.4018 | F21: 11.849721 | G21: 7981.2516 | H21: 0.14846946 | J21: 93.943138 | K21: 0.13947687 | M21: 407.68255 | N21: 56.808891 | P21: 421.84068 | Q21: 39591.824 | R21: 363.59875 | T21: 121.08844
A22: 1932 | B22: 10469 | C22: 10469 | E22: 8036.6594 | F22: 11.759851 | G22: 8048.4192 | H22: 0.1461138 | J22: 89.023234 | K22: 0.13007523 | M22: 366.66406 | N22: 51.806401 | P22: 405.87391 | Q22: 39247.769 | R22: 349.0375 | T22: 112.2449
A23: 1933 | B23: 10634 | C23: 10634 | E23: 8104.9458 | F23: 11.664443 | G23: 8116.6103 | H23: 0.14371077 | J23: 91.165948 | K23: 0.13101528 | M23: 348.11381 | N23: 50.256882 | P23: 423.13371 | Q23: 42507.21 | R23: 362.56732 | T23: 101.36054
A24: 1934 | B24: 10005 | C24: 10005 | E24: 8166.2036 | F24: 11.563767 | G24: 8177.7674 | H24: 0.14140494 | J24: 86.52025 | K24: 0.12234391 | M24: 332.48971 | N24: 46.374133 | P24: 429.97776 | Q24: 42411.049 | R24: 370.53039 | T24: 94.557823
A25: 1935 | B25: 10185 | C25: 10185 | E25: 8274.5508 | F25: 11.45808 | G25: 8286.0089 | H25: 0.13828225 | J25: 88.889242 | K25: 0.12291804 | M25: 354.29827 | N25: 43.969099 | P25: 487.24935 | Q25: 43728.377 | R25: 427.37174 | T25: 87.755102
A26: 1936 | E26: 8370.1258 | F26: 11.347623 | G26: 8381.4734 | H26: 0.13538936 | M26: 386.79398 | P26: 534.16195 | T26: 86.394558
A27: 1937 | B27: 11015 | C27: 11551 | E27: 8462.208 | F27: 10.8702 | G27: 8473.0782 | H27: 0.12829104 | J27: 101.33208 | K27: 0.1363259 | M27: 532.5677 | N27: 47.587192 | P27: 628.54099 | Q27: 43777.66 | R27: 573.11343 | T27: 100
A28: 1938 | B28: 11152 | C28: 11744 | E28: 8551.122 | F28: 10.969586 | G28: 8562.0916 | H28: 0.12811806 | J28: 101.66291 | K28: 0.13716275 | M28: 647.22939 | N28: 50.959342 | P28: 673.45991 | Q28: 41387.289 | R28: 621.23123 | T28: 112.2449
A29: 1939 | B29: 11272 | C29: 12039 | E29: 8638.8593 | F29: 11.069764 | G29: 8649.9291 | H29: 0.1279752 | J29: 101.82692 | K29: 0.13918033 | M29: 736.9515 | N29: 57.668985 | P29: 662.64647 | Q29: 40519.069 | R29: 611.57478 | T29: 128.57143
A30: 1940 | B30: 11901 | C30: 13461 | E30: 8797.9991 | F30: 11.164869 | G30: 8809.164 | H30: 0.12674152 | J30: 106.59328 | K30: 0.15280678 | M30: 780.17915 | N30: 58.544988 | P30: 605.53398 | Q30: 35852.131 | R30: 560.80522 | T30: 146.2585
A31: 1941 | E31: 8956.2071 | F31: 11.247426 | G31: 8967.4545 | H31: 0.12542496 | M31: 817.63633 | P31: 569.83059 | T31: 160.0093
A32: 1942 | B32: 10978 | C32: 11740 | E32: 9112.5136 | F32: 11.308003 | G32: 9123.8216 | H32: 0.12393932 | J32: 97.08169 | K32: 0.12867415 | M32: 965.50835 | N32: 43.11151 | P32: 516.17877 | Q32: 18596.372 | R32: 493.74249 | T32: 205.01192
A33: 1943 | E33: 9267.6995 | F33: 11.334763 | G33: 9279.0342 | H33: 0.12215456 | M33: 1205.1698 | P33: 483.24988 | T33: 268.76563
A34: 1944 | E34: 9422.5824 | F34: 11.312946 | G34: 9433.8954 | H34: 0.11991808 | M34: 1458.0782 | P34: 374.66279 | T34: 412.52398
A35: 1945 | E35: 9307.725 | F35: 11.224223 | G35: 9318.9492 | H35: 0.12044516 | M35: 1580.3089 | P35: 293.62823 | T35: 577.53358
A36: 1946 | E36: 9432.28 | F36: 10.578831 | G36: 9442.8589 | H36: 0.11202996 | M36: 6247.8341 | P36: 339.28615 | T36: 1950.1134
A37: 1947 | E37: 9498.4688 | F37: 9.7441864 | G37: 9508.213 | H37: 0.10248178 | M37: 10567.311 | P37: 354.20656 | T37: 3137.6824
A38: 1948 | E38: 9591.6617 | F38: 8.6705895 | G38: 9600.3323 | H38: 0.090315515 | M38: 14675.525 | P38: 361.78904 | T38: 4225.2457

Sheet Table C2
A1: Table C1. Samir Amin’s social table for Algeria and Tunisia for 1955 | F1: Back
B2: Algeria | D2: Tunisia
B3: Number (000) | C3: Income per head | D3: Number (000) | E3: Income per head
C4: (000 francs) | E4: (000 francs)
A5: Muslims
A6: Small farmers | B6: 210 | C6: 60 | D6: 80 | E6: 90
A7: Medium famers | B7: 210 | C7: 200 | D7: 105 | E7: 150
A8: Large farmers | B8: 50 | C8: 560 | D8: 45 | E8: 450
A9: Agricultural laborers
A10: Permanent | B10: 100 | C10: 100 | D10: 25 | E10: 120
A11: Non-permanent | B11: 500 | C11: 40-60 | D11: 110 | E11: 60-70
A12: Blue collars | B12: 225 | C12: 150 | D12: 118 | E12: 160
A13: Low rank white collars | B13: 90 | C13: 270 | D13: 35 | E13: 300
A14: Small business managers and middle-rank executives | B14: 135 | C14: 270 | D14: 53 | E14: 300
A15: Executives and managers | B15: 7-8 | C15: 1000-1500 | D15: 2-3 | E15: 1000-1500
A16: Non-muslims
A17: Non-muslim farmers | B17: 33 | C17: 2800 | D17: 6 | E17: 2800
A18: Blue collars | B18: 88 | C18: 400 | D18: 16 | E18: 400
A19: Low rank white collars | B19: 80 | C19: 530 | D19: 21 | E19: 530
A20: Small business managers and middle-rank executives | B20: 110 | C20: 1150 | D20: 31 | E20: 1150
A21: Executives and managers | B21: 27 | C21: 3000 | D21: 8 | E21: 3000
A22: Source: Samir Amin, 1966. L’économie du Maghreb, Paris : Editions de Minuit. Pages 130 & 136 for rural households, pages 155-157 & 166-167 for urban.

Sheet Table C3
A1: Table C2. Distribution of income among Tunisian Muslims according to household survey 1957 | N1: Back
B2: Rural | F2: Urban | J2: Total
A3: Income brackets (francs) | B3: N (thousands) | D3: Income (billions) | F3: N (000) | H3: Income (billions) | J3: N (thousands) | L3: Income (billions)
A4: 0 to 20000 | B4: 1666 | C4: 0.54 | D4: 21 | E4: 0.26 | F4: 348 | G4: 0.23 | H4: 6,3 | I4: 0.07 | J4: 2014 | K4: 0.43 | L4: 27,3 | M4: 0.15
A5: 20000 to 30000 | B5: 605 | C5: 0.73 | D5: 15 | E5: 0.44 | F5: 222 | G5: 0.37 | H5: 5,6 | I5: 0.13 | J5: 827 | K5: 0.61 | L5: 20,6 | M5: 0.27
A6: 30000 to 40000 | B6: 305 | C6: 0.83 | D6: 11 | E6: 0.57 | F6: 93 | G6: 0.43 | H6: 3,3 | I6: 0.16 | J6: 398 | K6: 0.7 | L6: 14,3 | M6: 0.35
A7: 40000 to 50000 | B7: 177 | C7: 0.89 | D7: 8 | E7: 0.67 | F7: 117 | G7: 0.51 | H7: 5,3 | I7: 0.22 | J7: 294 | K7: 0.76 | L7: 13,3 | M7: 0.43
A8: 50000 to 60000 | B8: 101 | C8: 0.92 | D8: 6 | E8: 0.74 | F8: 118 | G8: 0.59 | H8: 6,5 | I8: 0.28 | J8: 219 | K8: 0.81 | L8: 12,5 | M8: 0.5
A9: 60000 to 70000 | B9: 69 | C9: 0.94 | D9: 4 | E9: 0.79 | F9: 55 | G9: 0.62 | H9: 3,6 | I9: 0.32 | J9: 124 | K9: 0.84 | L9: 7,6 | M9: 0.54
A10: 70000 to 80000 | B10: 41 | C10: 0.96 | D10: 2 | E10: 0.82 | F10: 73 | G10: 0.67 | H10: 5,5 | I10: 0.38 | J10: 114 | K10: 0.86 | L10: 7,5 | M10: 0.58
A11: 80000 to 90000 | B11: 27 | C11: 0.96 | D11: 2 | E11: 0.84 | F11: 46 | G11: 0.7 | H11: 3,9 | I11: 0.42 | J11: 73 | K11: 0.88 | L11: 5,9 | M11: 0.62
A12: above 90000 | B12: 110 | C12: 1 | D12: 13 | E12: 1 | F12: 457 | G12: 1 | H12: 55 | I12: 1 | J12: 567 | K12: 1 | L12: 68 | M12: 1
A13: Total | B13: 3101 | D13: 82 | F13: 1529 | H13: 95 | J13: 4630 | L13: 177
A16: Source : Samir Amin, 1966. L’économie du Maghreb, Paris : Editions de Minuit. Page 122 for rural households, page 159 for urban households

Sheet Indochina_results
I1: Europeans | U1: Inequality among Non-Europeans
B2: Top 5% | C2: Top 1% | D2: Top 0.5% | E2: Top 0.1% | F2: Top 0.05% | G2: Top 0.01% | I2: Top 75% | J2: Top 50% | K2: Top 25% | L2: Top 10% | M2: Top 5% | N2: Top 1% | U2: Top 0.1% | V2: Top 0.05% | W2: Top 0.01% | Z2: Top 0.1% | AA2: Europeans | AB2: Indochinese | AC2: Chinese | AD2: Other Asians | AE2: Europeans | AF2: Indochinese | AG2: Chinese | AH2: Other Asians
A7: 1920 | E7: 6.3511465 | F7: 4.4820087 | G7: 2.0141213 | X7: 1920
A8: 1921 | E8: 6.1463629 | F8: 4.3297962 | G8: 1.9972526 | I8: 90.96895 | J8: 75.659389 | K8: 53.421432 | L8: 34.28223 | M8: 24.794255 | N8: 12.308504 | P8: 3802 | Q8: 3782.4 | R8: 1.0051819 | X8: 1921
A9: 1922 | X9: 1922
A10: 1923 | X10: 1923
A11: 1924 | X11: 1924
A12: 1925 | I12: Capped | X12: 1925
A13: 1926 | E13: 6.5584156 | F13: 4.723569 | G13: 2.2340479 | I13: 90.417718 | J13: 75.567915 | K13: 54.7416 | L13: 36.002011 | M13: 26.259603 | N13: 13.527756 | P13: 3978 | Q13: 5504.2555 | R13: 0.72271354 | X13: 1926
A14: 1927 | E14: 6.4225006 | F14: 4.6257647 | G14: 2.1403176 | I14: 90.487508 | J14: 76.82916 | K14: 55.774893 | L14: 36.365901 | M14: 26.094389 | N14: 13.509422 | P14: 4200 | Q14: 5888.079 | R14: 0.71330565 | X14: 1927
A15: 1928 | E15: 6.6198923 | F15: 4.7487393 | G15: 2.1518309 | I15: 90.853312 | J15: 75.178783 | K15: 53.144521 | L15: 34.25418 | M15: 24.483139 | N15: 12.448953 | P15: 5023 | Q15: 6287.196 | R15: 0.79892531 | X15: 1928
A16: 1929 | E16: 7.1310507 | F16: 5.0760731 | G16: 2.2897981 | I16: 90.986017 | J16: 76.341666 | K16: 53.556803 | L16: 34.535456 | M16: 24.47395 | N16: 12.722981 | P16: 4669 | Q16: 6702.6 | R16: 0.69659535 | X16: 1929
A17: 1930 | E17: 8.4227392 | F17: 5.7349626 | G17: 2.5115677 | I17: 91.460107 | J17: 76.521576 | K17: 52.75668 | L17: 32.332911 | M17: 22.653194 | N17: 11.413326 | P17: 5021 | Q17: 6671.3516 | R17: 0.7526211 | X17: 1930
A18: 1931 | E18: 9.1776239 | F18: 6.2299903 | G18: 2.7060353 | I18: 92.982439 | J18: 77.733566 | K18: 53.423243 | L18: 32.546113 | M18: 22.836407 | N18: 11.066001 | P18: 4922 | Q18: 6610.39 | R18: 0.74458542 | X18: 1931
A19: 1932 | E19: 9.5459652 | F19: 6.4665422 | G19: 2.8084972 | I19: 92.589677 | J19: 77.711546 | K19: 53.491146 | L19: 32.434655 | M19: 22.829579 | N19: 10.859211 | P19: 4776 | Q19: 6401.8116 | R19: 0.74603882 | X19: 1932
A20: 1933 | E20: 9.2944475 | F20: 6.427043 | G20: 2.8739221 | I20: 93.089903 | J20: 78.828419 | K20: 55.487509 | L20: 34.484244 | M20: 24.651552 | N20: 11.888527 | P20: 4681 | Q20: 6193.7731 | R20: 0.75575904 | X20: 1933
A21: 1934 | E21: 8.7331052 | F21: 5.9655842 | G21: 2.6397992 | I21: 92.375406 | J21: 77.35228 | K21: 53.895659 | L21: 33.080822 | M21: 23.512529 | N21: 11.087536 | P21: 4425 | Q21: 5986.3288 | R21: 0.73918425 | X21: 1934
A22: 1935 | E22: 8.3939532 | F22: 5.7024095 | G22: 2.4374135 | I22: 91.057785 | J22: 76.511405 | K22: 52.981441 | L22: 31.923904 | M22: 22.222354 | N22: 10.11941 | P22: 4613 | Q22: 5779.527 | R22: 0.7981622 | X22: 1935
A23: 1936 | X23: 1936
A24: 1937 | E24: 8.1074757 | F24: 5.7573957 | G24: 2.4646751 | J24: 87.461547 | K24: 67.766233 | L24: 42.344137 | M24: 29.411421 | N24: 12.250918 | P24: 4693 | Q24: 5121.6 | R24: 0.91631521 | W24: 1.6183128 | X24: 1937 | Z24: 8.1074757 | AA24: 5.6770906 | AB24: 2.1797389 | AC24: 0.17492529 | AD24: 0.075720873 | AE24: 0.70022913 | AF24: 0.26885544 | AG24: 0.021575802 | AH24: 0.0093396362
A25: 1938 | E25: 7.1229754 | F25: 5.0738085 | G25: 2.1746724 | J25: 86.133148 | K25: 67.057636 | L25: 42.448607 | M25: 29.880061 | N25: 12.260567 | P25: 4425 | Q25: 5407.4185 | R25: 0.81832023 | W25: 1.2621039 | X25: 1938 | Z25: 7.1229754 | AA25: 5.0649054 | AB25: 1.8464248 | AC25: 0.15318537 | AD25: 0.058459894 | AE25: 0.71106596 | AF25: 0.259221 | AG25: 0.021505812 | AH25: 0.0082072294
A26: 1939 | E26: 7.1007023 | F26: 5.0619129 | G26: 2.1860008 | J26: 83.148817 | K26: 64.094351 | L26: 41.412359 | M26: 29.465416 | N26: 12.167062 | P26: 4420 | Q26: 5689.605 | R26: 0.77685534 | W26: 1.2491669 | X26: 1939 | Z26: 7.1007023 | AA26: 4.8875552 | AB26: 1.6087794 | AC26: 0.44323216 | AD26: 0.16113558 | AE26: 0.68831996 | AF26: 0.22656624 | AG26: 0.06242089 | AH26: 0.022692907
A27: 1940 | E27: 9.2093285 | F27: 6.6810885 | G27: 2.8143382 | J27: 89.181452 | K27: 70.282988 | L27: 47.201402 | M27: 34.142532 | N27: 12.61081 | P27: 4888 | Q27: 5962.3576 | R27: 0.81980994 | V27: 4.5340975 | W27: 1.9904423 | X27: 1940 | Z27: 9.2093285 | AA27: 5.1608903 | AB27: 2.6686549 | AC27: 1.1401726 | AD27: 0.23961074 | AE27: 0.56039811 | AF27: 0.28977736 | AG27: 0.12380627 | AH27: 0.026018263
A28: 1941 | Q28: 6218.2763 | X28: 1941 | AA28: 3.2589291 | AB28: 1.8385412 | AC28: 0.59820025 | AD28: 0.13789756
A29: 1942 | E29: 2.4578077 | F29: 1.8833402 | G29: 0.99419916 | J29: 82.643031 | K29: 59.406455 | L29: 39.739912 | M29: 31.785136 | N29: 15.302616 | P29: 4141 | Q29: 6448.0023 | R29: 0.64221441 | W29: 0.82274009 | X29: 1942 | Z29: 2.4578077 | AA29: 1.356968 | AB29: 1.0084275 | AC29: 0.056227888 | AD29: 0.036184378 | AE29: 0.55210503 | AF29: 0.4102955 | AG29: 0.022877253 | AH29: 0.014722217
A30: 1943 | E30: 2.1137588 | F30: 1.6291849 | G30: 0.82654909 | J30: 83.007891 | K30: 60.228883 | L30: 40.956814 | M30: 32.786965 | N30: 14.545735 | P30: 4186 | Q30: 6639.7818 | R30: 0.63044241 | W30: 0.7391935 | X30: 1943 | Z30: 2.1137588 | AA30: 1.1202176 | AB30: 0.82832325 | AC30: 0.13306715 | AD30: 0.032150831 | AE30: 0.52996471 | AF30: 0.39187217 | AG30: 0.062952854 | AH30: 0.015210265
A31: 1944 | E31: 3.5265129 | F31: 2.9519441 | G31: 1.082468 | J31: 78.288453 | K31: 54.01246 | L31: 36.034775 | M31: 29.473366 | N31: 12.532335 | P31: 3754 | Q31: 6778.9363 | R31: 0.55377419 | W31: 1.154688 | X31: 1944 | Z31: 3.5265129 | AA31: 0.7290651 | AB31: 0.60994763 | AC31: 2.1574404 | AD31: 0.030059782 | AE31: 0.20673825 | AF31: 0.17296055 | AG31: 0.61177726 | AH31: 0.0085239393
A32: 1945 | E32: 4.608778 | F32: 4.0200754 | G32: 1.269274 | J32: 86.921012 | K32: 68.365926 | L32: 47.738507 | M32: 39.116669 | N32: 14.42725 | P32: 3086 | Q32: 6847.2235 | R32: 0.45069363 | V32: 4.7743611 | W32: 1.5093074 | X32: 1945 | Z32: 4.608778 | AA32: 0.43985684 | AB32: 0.7672987 | AC32: 3.2222671 | AD32: 0.17935532 | AE32: 0.095438931 | AF32: 0.16648637 | AG32: 0.69915868 | AH32: 0.038916024
A33: 1946 | J33: 88.960146 | K33: 70.100854 | L33: 50.354825 | M33: 37.369318 | N33: 16.851225 | P33: 1351 | Q33: 6834.131 | R33: 0.19768424 | X33: 1946 | AA33: 1.2782581 | AB33: 0.60374229 | AC33: 2.3334441 | AD33: 0.13460729 | AE33: 0.62928073 | AF33: 0.063371157 | AG33: 0.29587015 | AH33: 0.011477965
A34: 1947 | E34: 4.0913256 | F34: 2.5748656 | G34: 0.89682157 | J34: 65.602499 | K34: 42.023508 | L34: 23.265038 | M34: 14.711088 | N34: 4.0012456 | P34: 2780 | Q34: 6704.6354 | R34: 0.41463851 | U34: 3.2946745 | V34: 2.0438736 | W34: 0.70728505 | X34: 1947 | Z34: 4.0913256 | AA34: 2.1166594 | AB34: 0.44018587 | AC34: 1.4446211 | AD34: 0.089859254 | AE34: 0.51735295 | AF34: 0.10759004 | AG34: 0.35309365 | AH34: 0.021963359
A35: 1948 | J35: 73.521167 | K35: 47.459976 | L35: 25.397408 | M35: 15.144253 | N35: 4.0845396 | P35: 288 | Q35: 6425.9656 | R35: 0.044818167 | X35: 1948 | AA35: 2.2415908 | AB35: 0.3761665 | AC35: 1.2688284 | AD35: 0.087422919
A36: 1949 | E36: 3.8566916 | F36: 2.266686 | G36: 0.60716556 | J36: 63.592561 | K36: 37.729743 | L36: 17.632265 | M36: 10.093582 | N36: 3.8798677 | P36: 3186 | R36: 0.49580097 | U36: 3.0458108 | V36: 1.7604484 | W36: 0.49498318 | X36: 1949 | Z36: 3.8566916 | AA36: 2.3665222 | AB36: 0.31214713 | AC36: 1.0930356 | AD36: 0.084986584 | AE36: 0.61361459 | AF36: 0.080936503 | AG36: 0.28341277 | AH36: 0.022036137
A37: 1950 | X37: 1950
A38: 1951 | X38: 1951
A39: 1952 | X39: 1952
A40: 1953 | X40: 1953
A41: 1954 | X41: 1954
A42: 1955 | X42: 1955
A43: 1956 | X43: 1956
A44: 1957 | X44: 1957

Sheet Data Fig 3&4&5
A1: Tax payers average income | H1: Exch rate franc/piastre | J1: Europeans only | P1: Income per tax unit | V1: Ratio average income tax payers / average income | AA1: Ratio income per tax unit to metropolitan France | AD1: Maddison GDP per capita | AI1: Ratios Maddison | AN1: France | AQ1: R.fisc.moyen | AR1: Taux de conversion en francs de 1998 | AS1: R.fisc.moyen
B2: Algeria | C2: Tunisia | D2: Vietnam (f) | E2: Cameroon | G2: Indochina | K2: Algeria | L2: Tunisia | M2: Vietnam (f) | N2: Cameroon | P2: Algeria | Q2: Tunisia | R2: Vietnam (f) | S2: Cameroon | T2: France | V2: Algeria | W2: Tunisia | X2: Vietnam (f) | Y2: Cameroon | AA2: Algeria | AB2: Tunisia | AC2: Vietnam (f) | AD2: Algeria | AE2: Tunisia | AF2: Indochina (f) | AG2: Cameroon | AH2: France | AI2: Algeria | AJ2: Tunisia | AK2: Indochina (f) | AL2: Cameroon | AM2: France | AQ2: (par foyer) | AS2: (par habitant) | BE2: Revenu national | BF2: Revnat per capita in francs 1937
A3: 1920 | H3: 11.57 | J3: 1920 | O3: 1920 | R3: 703.15916 | T3: 6201.4607 | U3: 1920 | Z3: 1920 | AC3: 0.11338605 | AH3: 3226.921 | AN3: 1920 | AO3: 5516.174 | AP3: 2159.5498 | AQ3: 26407.939 | AR3: 4.7873652 | AS3: 10338.554 | AU3: 2.5543166 | AW3: 1918.85 | AX3: 3596.3575 | AY3: 0.5599578 | AZ3: 0.20888317 | BA3: 0.60048252 | BB3: 3596.3575 | BC3: 39000 | BD3: 84222442 | BE3: 135.1025 | BF3: 5768.9717 | BG3: 0.62339662 | BH3: 0.89823682
A4: 1921 | D4: 28357.612 | G4: 4127.7456 | H4: 6.87 | J4: 1921 | M4: 28357.612 | O4: 1921 | R4: 428.40388 | T4: 5488.3389 | U4: 1921 | X4: 66.19364 | Z4: 1921 | AC4: 0.07805711 | AH4: 3074.6258 | AN4: 1921 | AO4: 5616.0228 | AP4: 2219.4568 | AQ4: 30691.726 | AR4: 5.4650288 | AS4: 12129.395 | AT4: 0.17321977 | AU4: 2.5303591 | AW4: 16144.544 | AX4: 4219.3177 | AY4: 0.69146677 | AZ4: 0.18298165 | BA4: 0.52602268 | BB4: 4219.3177 | BC4: 39240 | BD4: 87091486 | BE4: 140.6459 | BF4: 6813.8663 | BG4: 0.61922521 | BH4: 1.1166644
A5: 1922 | H5: 6.7 | J5: 1922 | O5: 1922 | R5: 401.09502 | T5: 5448.0125 | U5: 1922 | Z5: 1922 | AC5: 0.073622265 | AH5: 3610.3923 | AN5: 1922 | AO5: 5774.786 | AP5: 2289.3684 | AQ5: 32840.137 | AR5: 5.6868145 | AS5: 13019.213 | AT5: 0.073360441 | AU5: 2.5224364 | AW5: 16600.945 | AX5: 4528.8487 | AY5: 0.61989697 | AZ5: 0.17584537 | BA5: 0.5055078 | BB5: 4528.8487 | BC5: 39420 | BD5: 90246901 | BE5: 147.9877 | BF5: 7426.4479 | BG5: 0.60982704 | BH5: 1.0165128
A6: 1923 | H6: 8.46 | J6: 1923 | O6: 1923 | R6: 521.44873 | T6: 6585.9704 | U6: 1923 | Z6: 1923 | AC6: 0.079175688 | AH6: 3753.5257 | AN6: 1923 | AO6: 6376.9393 | AP6: 2536.0528 | AQ6: 32670.695 | AR6: 5.1232563 | AS6: 12992.849 | AT6: -0.0020250634 | AU6: 2.5145136 | AW6: 18331.973 | AX6: 4519.6775 | AY6: 0.59156439 | AZ6: 0.19518836 | BA6: 0.56111366 | BB6: 4519.6775 | BC6: 39880 | BD6: 1.0113779e+08 | BE6: 172.2964 | BF6: 7699.6364 | BG6: 0.58699883 | BH6: 1.0077778
A7: 1924 | H7: 10.08 | J7: 1924 | O7: 1924 | R7: 605.47594 | T7: 7378.0084 | U7: 1924 | Z7: 1924 | AC7: 0.082064956 | AH7: 4179.4635 | AN7: 1924 | AO7: 7323.4143 | AP7: 2921.6632 | AQ7: 32940.938 | AR7: 4.4980301 | AS7: 13141.729 | AT7: 0.011458649 | AU7: 2.5065909 | AW7: 21052.832 | AX7: 4571.4669 | AY7: 0.54011225 | AZ7: 0.22231954 | BA7: 0.63910845 | BB7: 4571.4669 | BC7: 40310 | BD7: 1.1777224e+08 | BE7: 197.9339 | BF7: 7683.0352 | BG7: 0.59500794 | BH7: 0.90773957
A8: 1925 | H8: 11.95 | J8: 1925 | O8: 1925 | R8: 735.31082 | T8: 8057.6855 | U8: 1925 | Z8: 1925 | AC8: 0.091255835 | AH8: 4166.3782 | AN8: 1925 | AO8: 7874.2326 | AP8: 3151.3719 | AQ8: 33008.887 | AR8: 4.1920132 | AS8: 13210.593 | AT8: 0.0052400657 | AU8: 2.4986682 | AW8: 22636.286 | AX8: 4595.4217 | AY8: 0.53966987 | AZ8: 0.23854887 | BA8: 0.68576337 | BB8: 4595.4217 | BC8: 40610 | BD8: 1.2797721e+08 | BE8: 221.9702 | BF8: 7970.5336 | BG8: 0.57655133 | BH8: 0.93603092
A9: 1926 | D9: 79099.421 | G9: 4650.1717 | H9: 17.01 | J9: 1926 | M9: 79099.421 | O9: 1926 | R9: 1021.1769 | T9: 10032.777 | U9: 1926 | X9: 77.459079 | Z9: 1926 | AC9: 0.10178407 | AH9: 4249.4685 | AN9: 1926 | AO9: 9218.0557 | AP9: 3700.9225 | AQ9: 29701.93 | AR9: 3.2221469 | AS9: 11924.916 | AT9: -0.097321632 | AU9: 2.4907454 | AW9: 26499.413 | AX9: 4148.1878 | AY9: 0.4714523 | AZ9: 0.31035208 | BA9: 0.89217815 | BB9: 4148.1878 | BC9: 40870 | BD9: 1.512567e+08 | BE9: 268.5433 | BF9: 7364.7516 | BG9: 0.56324884 | BH9: 0.83702312
A10: 1927 | D10: 61645.683 | G10: 4816.069 | H10: 12.8 | J10: 1927 | M10: 61645.683 | O10: 1927 | R10: 864.67937 | T10: 10117.749 | U10: 1927 | X10: 71.293112 | Z10: 1927 | AC10: 0.085461631 | AH10: 4153.9705 | AN10: 1927 | AO10: 9256.6975 | AP10: 3723.765 | AQ10: 28569.386 | AR10: 3.0863476 | AS10: 11492.833 | AT10: -0.036233617 | AU10: 2.4858436 | AW10: 26610.497 | AX10: 3997.8839 | AY10: 0.46420945 | AZ10: 0.32400757 | BA10: 0.93143399 | BB10: 3997.8839 | BC10: 40940 | BD10: 1.5245094e+08 | BE10: 270.3526 | BF10: 7089.7453 | BG10: 0.5638967 | BH10: 0.82321718
A11: 1928 | D11: 62264.75 | G11: 4875.8614 | H11: 12.77 | J11: 1928 | M11: 62264.75 | O11: 1928 | R11: 829.43965 | T11: 11045.372 | U11: 1928 | X11: 75.068451 | Z11: 1928 | AC11: 0.075093862 | AH11: 4431.4653 | AN11: 1928 | AO11: 9895.383 | AP11: 3988.559 | AQ11: 30601.796 | AR11: 3.0925327 | AS11: 12334.749 | AT11: 0.07325574 | AU11: 2.4809419 | AW11: 28446.545 | AX11: 4290.7519 | AY11: 0.47083338 | AZ11: 0.32335955 | BA11: 0.92957112 | BB11: 4290.7519 | BC11: 41050 | BD11: 1.6373035e+08 | BE11: 295.8731 | BF11: 7753.7126 | BG11: 0.55338031 | BH11: 0.85083147
A12: 1929 | D12: 58255.668 | G12: 5083.3916 | H12: 11.46 | J12: 1929 | M12: 58255.668 | O12: 1929 | R12: 769.66994 | T12: 11978.558 | U12: 1929 | X12: 75.689155 | Z12: 1929 | AC12: 0.064253975 | AH12: 4709.998 | AN12: 1929 | AO12: 10689.132 | AP12: 4317.0271 | AQ12: 31126.639 | AR12: 2.9119894 | AS12: 12571.137 | AT12: 0.019164368 | AU12: 2.4760401 | AW12: 30728.359 | AX12: 4372.9814 | AY12: 0.44273789 | AZ12: 0.34340785 | BA12: 0.98720453 | BB12: 4372.9814 | BC12: 41230 | BD12: 1.7799103e+08 | BE12: 321.9877 | BF12: 7910.7709 | BG12: 0.55278828 | BH12: 0.80091765
A13: 1930 | D13: 53671.141 | G13: 5367.1141 | H13: 10 | J13: 1930 | M13: 53671.141 | O13: 1930 | R13: 627.6996 | T13: 11261.624 | U13: 1930 | X13: 85.504501 | Z13: 1930 | AC13: 0.055737929 | AH13: 4531.5584 | AN13: 1930 | AO13: 11000.286 | AP13: 4451.5057 | AQ13: 31778.488 | AR13: 2.8888783 | AS13: 12859.858 | AT13: 0.022967006 | AU13: 2.4711383 | AW13: 31622.842 | AX13: 4473.4157 | AY13: 0.46928685 | AZ13: 0.34615511 | BA13: 0.99510216 | BB13: 4473.4157 | BC13: 41610 | BD13: 1.8522715e+08 | BE13: 319.1877 | BF13: 7708.6932 | BG13: 0.58030792 | BH13: 0.80868592
A14: 1931 | D14: 51032.062 | G14: 5103.2062 | H14: 10 | J14: 1931 | M14: 51032.062 | O14: 1931 | R14: 510.80028 | T14: 10146.237 | U14: 1931 | X14: 99.906095 | Z14: 1931 | AC14: 0.050343814 | AH14: 4235.2605 | AN14: 1931 | AO14: 10219.546 | AP14: 4143.7817 | AQ14: 30721.149 | AR14: 3.0061169 | AS14: 12456.692 | AT14: -0.031350752 | AU14: 2.4662365 | AW14: 29378.425 | AX14: 4333.1708 | AY14: 0.47580495 | AZ14: 0.33265506 | BA14: 0.95629318 | BB14: 4333.1708 | BC14: 41860 | BD14: 1.734587e+08 | BE14: 280.5707 | BF14: 7008.935 | BG14: 0.61823526 | BH14: 0.76961794
A15: 1932 | B15: 29736.643 | D15: 49485.529 | G15: 4948.5529 | H15: 10 | J15: 1932 | K15: 29736.643 | M15: 49485.529 | O15: 1932 | P15: 2712.8531 | R15: 455.57276 | T15: 8904.1631 | U15: 1932 | V15: 10.961391 | X15: 108.62267 | Z15: 1932 | AA15: 0.30467244 | AC15: 0.051164018 | AH15: 3959.1229 | AN15: 1932 | AO15: 9159.2299 | AP15: 3722.0378 | AQ15: 30223.618 | AR15: 3.299799 | AS15: 12281.977 | AT15: -0.014025839 | AU15: 2.4608106 | AW15: 26330.305 | AX15: 4272.3944 | AY15: 0.51456255 | AZ15: 0.30304876 | BA15: 0.87118309 | BB15: 4272.3944 | BC15: 41860 | BD15: 1.558045e+08 | BE15: 235.4254 | BF15: 6455.7196 | BG15: 0.66179988 | BH15: 0.77751986
A16: 1933 | B16: 28316.34 | D16: 47260.562 | G16: 4726.0562 | H16: 10 | J16: 1933 | K16: 28316.34 | M16: 47260.562 | O16: 1933 | P16: 2639.9383 | R16: 428.89063 | T16: 8736.6672 | U16: 1933 | V16: 10.726137 | X16: 110.19257 | Z16: 1933 | AA16: 0.30216766 | AC16: 0.049090875 | AH16: 4239.1258 | AN16: 1933 | AO16: 8768.9759 | AP16: 3571.3247 | AQ16: 29892.415 | AR16: 3.4088833 | AS16: 12174.229 | AT16: -0.0087728011 | AU16: 2.4553846 | AW16: 25208.43 | AX16: 4234.9136 | AY16: 0.49570276 | AZ16: 0.2933512 | BA16: 0.84330523 | BB16: 4234.9136 | BC16: 41890 | BD16: 1.4960279e+08 | BE16: 227.8998 | BF16: 6451.3231 | BG16: 0.65644109 | BH16: 0.75513669
A17: 1934 | B17: 27479.563 | D17: 46350.958 | G17: 4635.0958 | H17: 10 | J17: 1934 | K17: 27479.563 | M17: 46350.958 | O17: 1934 | P17: 2493.6316 | R17: 406.57761 | T17: 8055.0401 | U17: 1934 | V17: 11.019897 | X17: 114.00273 | Z17: 1934 | AA17: 0.30957408 | AC17: 0.050474933 | AH17: 4191.7309 | AN17: 1934 | AO17: 8132.2783 | AP17: 3319.3532 | AQ17: 28937.356 | AR17: 3.5583333 | AS17: 11811.365 | AT17: -0.029805933 | AU17: 2.4499587 | AW17: 23378.097 | AX17: 4108.688 | AY17: 0.49852255 | AZ17: 0.28103045 | BA17: 0.80788641 | BB17: 4108.688 | BC17: 41950 | BD17: 1.3924687e+08 | BE17: 206.3268 | BF17: 6087.9822 | BG17: 0.67488502 | BH17: 0.73867775
A18: 1935 | B18: 24712.471 | D18: 43170.446 | G18: 4317.0446 | H18: 10 | J18: 1935 | K18: 24712.471 | M18: 43170.446 | O18: 1935 | P18: 2282.1607 | R18: 427.58616 | T18: 7814.0339 | U18: 1935 | V18: 10.828541 | X18: 100.96315 | Z18: 1935 | AA18: 0.29205922 | AC18: 0.054720285 | AH18: 4085.9312 | AN18: 1935 | AO18: 7794.2484 | AP18: 3188.4409 | AQ18: 30244.856 | AR18: 3.8804071 | AS18: 12372.449 | AT18: 0.04750372 | AU18: 2.4445328 | AW18: 22406.352 | AX18: 4303.866 | AY18: 0.53564523 | AZ18: 0.25770492 | BA18: 0.74083184 | BB18: 4303.866 | BC18: 41940 | BD18: 1.3372321e+08 | BE18: 203.6365 | BF18: 6554.017 | BG18: 0.65667605 | BH18: 0.81569174
A19: 1936 | B19: 25886.119 | H19: 10 | J19: 1936 | K19: 25886.119 | O19: 1936 | P19: 2300.1845 | R19: 461.48685 | T19: 8871.8954 | U19: 1936 | V19: 11.253932 | Z19: 1936 | AA19: 0.25926641 | AC19: 0.052016715 | AH19: 4243.9981 | AN19: 1936 | AO19: 8720.4849 | AP19: 3575.278 | AQ19: 31536.842 | AR19: 3.6164092 | AS19: 12929.668 | AT19: 0.045037111 | AU19: 2.4391068 | AW19: 25069.032 | AX19: 4497.6997 | AY19: 0.55217374 | AZ19: 0.27651738 | BA19: 0.79491256 | BB19: 4497.6997 | BC19: 41910 | BD19: 1.498399e+08 | BE19: 233.5338 | BF19: 7009.9146 | BG19: 0.64161975 | BH19: 0.86059342
A20: 1937 | B20: 32338.895 | D20: 46797.846 | G20: 4679.7846 | H20: 10 | J20: 1937 | K20: 32338.895 | M20: 17.363394 | O20: 1937 | P20: 2800.3901 | R20: 628.54099 | T20: 10790.269 | U20: 1937 | V20: 11.547997 | X20: 0.027624919 | Z20: 1937 | AA20: 0.25952921 | AC20: 0.058250722 | AH20: 4486.6367 | AN20: 1937 | AO20: 10470.249 | AP20: 4294.8687 | AQ20: 30099.129 | AR20: 2.8747291 | AS20: 12346.584 | AT20: -0.045096604 | AU20: 2.4378508 | AW20: 30099.129 | AX20: 4294.8687 | AY20: 0.51554487 | AZ20: 0.34785887 | BA20: 1 | BB20: 4294.8687 | BC20: 41930 | BD20: 1.8008384e+08 | BE20: 283.8798 | BF20: 6770.3267 | BG20: 0.63436653 | BH20: 0.81269242
A21: 1938 | B21: 43109.479 | D21: 48922.294 | G21: 4892.2294 | H21: 10 | J21: 1938 | K21: 43109.479 | M21: 18.533116 | O21: 1938 | P21: 3146.1888 | R21: 755.92439 | T21: 11677.818 | U21: 1938 | V21: 13.702127 | X21: 0.024517156 | Z21: 1938 | AA21: 0.2694158 | AC21: 0.064731644 | AH21: 4466.2115 | AN21: 1938 | AO21: 11604.803 | AP21: 4762.7135 | AQ21: 29366.782 | AR21: 2.5305714 | AS21: 12052.386 | AT21: -0.023828245 | AU21: 2.4365947 | AW21: 33360.664 | AX21: 4192.5295 | AY21: 0.51634089 | AZ21: 0.39516767 | BA21: 1.136 | BB21: 4192.5295 | BC21: 41960 | BD21: 1.9984346e+08 | BE21: 317.6766 | BF21: 6664.559 | BG21: 0.62907831 | BH21: 0.82078952
A22: 1939 | B22: 44891.413 | D22: 54904.057 | G22: 5490.4057 | H22: 10 | J22: 1939 | K22: 44891.413 | M22: 19.353625 | O22: 1939 | P22: 3332.0862 | R22: 851.97404 | T22: 12906.57 | U22: 1939 | V22: 13.472465 | X22: 0.022716215 | Z22: 1939 | AA22: 0.25816977 | AC22: 0.066010878 | AH22: 4793.3105 | AN22: 1939 | AO22: 12352.091 | AP22: 5072.0217 | AQ22: 29322.558 | AR22: 2.3738944 | AS22: 12040.444 | AT22: -0.00099091723 | AU22: 2.4353387 | AW22: 35508.914 | AX22: 4188.375 | AY22: 0.49547135 | AZ22: 0.42124874 | BA22: 1.210976 | BB22: 4188.375 | BC22: 41900 | BD22: 2.1251771e+08 | BG22: 0.61040689 | BH22: 0.86075563 | BI22: 0.52541117
A23: 1940 | B23: 49008.563 | D23: 58850.011 | G23: 5885.0011 | H23: 10 | J23: 1940 | K23: 49008.563 | M23: 14.043978 | O23: 1940 | P23: 3602.5182 | R23: 885.64494 | T23: 11706.653 | U23: 1940 | V23: 13.603974 | X23: 0.015857346 | Z23: 1940 | AA23: 0.30773254 | AC23: 0.075653128 | AH23: 4042.1679 | AN23: 1940 | AO23: 11198.413 | AP23: 4600.671 | AQ23: 22414.713 | AR23: 2.0015973 | AS23: 9208.6904 | AT23: -0.23518678 | AU23: 2.4340826 | AW23: 32192.404 | AX23: 3203.3246 | AY23: 0.48314252 | AZ23: 0.499601 | BA23: 1.4362175 | BB23: 3203.3246 | BC23: 41000 | BD23: 1.8862751e+08
A24: 1941 | B24: 45464.3 | G24: 4391.7954 | H24: 10 | J24: 1941 | K24: 45464.3 | O24: 1941 | P24: 4034.4657 | R24: 911.78196 | T24: 15070.655 | U24: 1941 | V24: 11.268977 | Z24: 1941 | AA24: 0.2677034 | AC24: 0.060500485 | AH24: 3309.3819 | AN24: 1941 | AO24: 14182.172 | AP24: 5829.504 | AQ24: 24200.339 | AR24: 1.7063915 | AS24: 9947.4163 | AT24: 0.080220513 | AU24: 2.4328266 | AW24: 40769.903 | AX24: 3460.2969 | AY24: 0.54030255 | AZ24: 0.58603198 | BA24: 1.6846832 | BB24: 3460.2969 | BC24: 39600 | BD24: 2.3084836e+08
A25: 1942 | D25: 43917.954 | H25: 10 | J25: 1942 | M25: 12.854538 | O25: 1942 | P25: 5214.3545 | R25: 1058.228 | T25: 20159.588 | U25: 1942 | X25: 0.01214723 | Z25: 1942 | AA25: 0.25865382 | AC25: 0.05249254 | AH25: 2981.4608 | AN25: 1942 | AO25: 19034.242 | AP25: 7827.9621 | AQ25: 27044.021 | AR25: 1.4208089 | AS25: 11122.038 | AT25: 0.11808314 | AU25: 2.4315705 | AW25: 54718.289 | AX25: 3868.8997 | AY25: 0.60018338 | AZ25: 0.7038244 | BA25: 2.0233045 | BB25: 3868.8997 | BC25: 39400 | BD25: 3.0842171e+08
A26: 1943 | H26: 10 | J26: 1943 | O26: 1943 | P26: 7008.3671 | R26: 1298.8096 | T26: 24112.41 | U26: 1943 | Z26: 1943 | AA26: 0.29065394 | AC26: 0.053864776 | AH26: 2860.1412 | AN26: 1943 | AO26: 23679.97 | AP26: 9743.5828 | AQ26: 27089.141 | AR26: 1.1439685 | AS26: 11146.352 | AT26: 0.0021860963 | AU26: 2.4303145 | AW26: 68073.5 | AX26: 3877.3575 | AY26: 0.60320757 | AZ26: 0.87414991 | BA26: 2.5129442 | BB26: 3877.3575 | BC26: 39000 | BD26: 3.7999973e+08
A27: 1944 | H27: 10 | J27: 1944 | O27: 1944 | P27: 10384.256 | R27: 1545.5738 | T27: 29652.921 | U27: 1944 | Z27: 1944 | AA27: 0.35019337 | AC27: 0.052122145 | AH27: 2421.7694 | AN27: 1944 | AO27: 29101.162 | AP27: 11980.429 | AQ27: 27220.616 | AR27: 0.93537902 | AS27: 11206.242 | AT27: 0.0053730214 | AU27: 2.4290584 | AW27: 83657.956 | AX27: 3898.1906 | AY27: 0.79282364 | AZ27: 1.0690853 | BA27: 3.0733307 | BB27: 3898.1906 | BC27: 38900 | BD27: 4.6603868e+08
A28: 1945 | E28: 29484.037 | H28: 10 | J28: 1945 | N28: 180755.61 | O28: 1945 | P28: 13677.64 | R28: 1695.8016 | S28: 2136.5337 | T28: 53100.158 | U28: 1945 | Y28: 84.602273 | Z28: 1945 | AA28: 0.25758191 | AC28: 0.031935905 | AH28: 2573.1416 | AN28: 1945 | AO28: 52259.509 | AP28: 21525.438 | AQ28: 32984.108 | AR28: 0.63115993 | AS28: 13585.994 | AT28: 0.21235951 | AU28: 2.4278024 | AW28: 150231.93 | AX28: 4726.0084 | AY28: 0.78448448 | AZ28: 1.5843845 | BA28: 4.5546761 | BB28: 4726.0084 | BC28: 39700 | BD28: 8.5455988e+08
A29: 1946 | B29: 190910.73 | C29: 147357.72 | H29: 10 | J29: 1946 | K29: 190910.73 | L29: 148466.29 | O29: 1946 | P29: 21079.349 | Q29: 17525.864 | R29: 6616.4646 | T29: 82622.413 | U29: 1946 | V29: 9.056766 | W29: 8.471268 | Z29: 1946 | AA29: 0.2551287 | AB29: 0.21211997 | AC29: 0.080080747 | AH29: 3855.1917 | AN29: 1946 | AO29: 81249.068 | AP29: 33483.42 | AQ29: 33604.952 | AR29: 0.41360415 | AS29: 13848.881 | AT29: 0.019349886 | AU29: 2.4265463 | AW29: 233569.06 | AX29: 4817.4561 | AY29: 0.60119342 | AZ29: 2.4177707 | BA29: 6.9504358 | BB29: 4817.4561 | BC29: 40287 | BD29: 1.3489465e+09
A30: 1947 | B30: 340768.1 | C30: 162563.57 | H30: 10 | J30: 1947 | K30: 340768.1 | L30: 163321.17 | O30: 1947 | P30: 31452.385 | Q30: 24647.232 | R30: 11113.877 | T30: 109034.48 | U30: 1947 | V30: 10.834412 | W30: 6.6263495 | Z30: 1947 | AA30: 0.28846274 | AB30: 0.22604989 | AC30: 0.10192993 | AH30: 4137.8979 | AN30: 1947 | AO30: 106590 | AP30: 43871.534 | AQ30: 29508.746 | AR30: 0.27684347 | AS30: 12145.548 | AT30: -0.12299429 | AU30: 2.4295936 | AW30: 306417.37 | AX30: 4224.9366 | AY30: 0.50087799 | AZ30: 3.6121494 | BA30: 10.383951 | BB30: 4224.9366 | BC30: 40679 | BD30: 1.7846501e+09
A31: 1948 | B31: 448587.66 | C31: 244531.39 | H31: 10 | J31: 1948 | K31: 448587.66 | L31: 247894.28 | O31: 1948 | P31: 54567.282 | Q31: 39226.085 | R31: 15286.476 | T31: 182129.65 | U31: 1948 | V31: 8.2208173 | W31: 6.3196284 | Z31: 1948 | AA31: 0.2996068 | AB31: 0.21537451 | AC31: 0.083931834 | AH31: 4393.3654 | AN31: 1948 | AO31: 179285 | AP31: 73699.738 | AQ31: 31314.752 | AR31: 0.17466465 | AS31: 12872.739 | AT31: 0.059873067 | AU31: 2.4326409 | AW31: 515395.8 | AX31: 4477.8965 | AY31: 0.47404158 | AZ31: 5.7252569 | BA31: 16.458562 | BB31: 4477.8965 | BC31: 41112 | BD31: 3.0299436e+09
A32: 1949 | B32: 640528.75 | H32: 10 | J32: 1949 | K32: 640528.75 | O32: 1949 | P32: 68081.462 | Q32: 50676.856 | T32: 230180.92 | U32: 1949 | V32: 9.4082696 | Z32: 1949 | AA32: 0.2957737 | AB32: 0.22016097 | AH32: 4946.3447 | AN32: 1949 | AO32: 226600.19 | AP32: 93033.331 | AQ32: 34963.819 | AR32: 0.1542974 | AS32: 14354.801 | AT32: 0.11513179 | AU32: 2.4356882 | AW32: 651414.16 | AX32: 4993.4447 | AY32: 0.50201469 | AZ32: 6.4809908 | BA32: 18.631093 | BB32: 4993.4447 | BC32: 41480 | BD32: 3.8590226e+09
A33: 1950 | B33: 603081.1 | H33: 10 | J33: 1950 | K33: 603081.1 | O33: 1950 | P33: 70344.381 | Q33: 53622.933 | T33: 267739.49 | U33: 1950 | V33: 8.5732661 | Z33: 1950 | AA33: 0.26273442 | AB33: 0.20028025 | AD33: 1364.7396 | AE33: 1114.5963 | AF33: 658.07579 | AG33: 670.95113 | AH33: 5185.8507 | AI33: 0.263166 | AJ33: 0.21493026 | AK33: 0.12689833 | AL33: 0.12938111 | AN33: 1950 | AO33: 262869.65 | AP33: 107789.32 | AQ33: 36872.821 | AR33: 0.14027036 | AS33: 15119.647 | AT33: 0.053281582 | AU33: 2.4387355 | AW33: 755679.04 | AX33: 5259.5033 | AY33: 0.49280264 | AZ33: 7.1290898 | BA33: 20.494202 | BB33: 5259.5033 | BC33: 41829 | BD33: 4.5087196e+09
A34: 1951 | B34: 717448.23 | H34: 10 | J34: 1951 | K34: 717448.23 | O34: 1951 | P34: 78906.302 | Q34: 62137.423 | T34: 338842.45 | U34: 1951 | V34: 9.0924073 | Z34: 1951 | AA34: 0.23287018 | AB34: 0.18338146 | AD34: 1346.9402 | AE34: 1106.1751 | AF34: 676.33117 | AG34: 687.40817 | AH34: 5461.1077 | AI34: 0.24664231 | AJ34: 0.20255507 | AK34: 0.12384505 | AL34: 0.12587339 | AN34: 1951 | AO34: 327181.12 | AP34: 133992.72 | AQ34: 39461.576 | AR34: 0.1206108 | AS34: 16160.969 | AT34: 0.068872073 | AU34: 2.4417828 | AW34: 940557.07 | AX34: 5621.7362 | AY34: 0.5027091 | AZ34: 8.2911315 | BA34: 23.834757 | BB34: 5621.7362 | BC34: 42156 | BD34: 5.6485969e+09
A35: 1952 | B35: 798827.81 | C35: 522738.05 | H35: 10 | J35: 1952 | K35: 798827.81 | L35: 543672.28 | O35: 1952 | P35: 91802.068 | Q35: 72781.031 | T35: 398833.24 | U35: 1952 | V35: 8.701632 | W35: 7.4699723 | Z35: 1952 | AA35: 0.23017657 | AB35: 0.18248487 | AD35: 1375.8602 | AE35: 1219.7995 | AF35: 693.75973 | AG35: 703.78072 | AH35: 5564.2599 | AI35: 0.24726742 | AJ35: 0.21922044 | AK35: 0.1246814 | AL35: 0.12648236 | AN35: 1952 | AO35: 382704.81 | AP35: 156536.36 | AQ35: 41249.628 | AR35: 0.10778445 | AS35: 16872.186 | AT35: 0.044008307 | AU35: 2.4448301 | AW35: 1100172.7 | AX35: 5869.1393 | AY35: 0.5162275 | AZ35: 9.2777761 | BA35: 26.671093 | BB35: 5869.1393 | BC35: 42460 | BD35: 6.6465339e+09
A36: 1953 | B36: 763234.2 | C36: 511113.13 | J36: 1953 | K36: 763234.2 | L36: 525149.31 | O36: 1953 | P36: 93048.162 | Q36: 73568.191 | T36: 405401.12 | U36: 1953 | V36: 8.2025715 | W36: 7.138266 | Z36: 1953 | AA36: 0.22952123 | AB36: 0.18147012 | AD36: 1368.7431 | AE36: 1243.5928 | AF36: 712.24117 | AG36: 720.03754 | AH36: 5683.9407 | AI36: 0.24080883 | AJ36: 0.21879061 | AK36: 0.12530764 | AL36: 0.12667928 | AN36: 1953 | AO36: 393338.43 | AP36: 160685.51 | AQ36: 43128.959 | AR36: 0.10964847 | AS36: 17618.921 | AT36: 0.044258358 | AU36: 2.4478775 | AW36: 1130741.4 | AX36: 6128.8978 | AY36: 0.52851323 | AZ36: 9.1200539 | BA36: 26.217684 | BB36: 6128.8978 | BC36: 42752 | BD36: 6.8696268e+09
A37: 1954 | B37: 773925.45 | C37: 527108.83 | J37: 1954 | K37: 773925.45 | L37: 546734.01 | O37: 1954 | P37: 97136.561 | Q37: 76165.908 | T37: 432973.73 | U37: 1954 | V37: 7.967396 | W37: 7.1781986 | Z37: 1954 | AA37: 0.22434747 | AB37: 0.17591346 | AD37: 1436.9901 | AE37: 1248.9238 | AF37: 732.08307 | AG37: 736.77791 | AH37: 5915.1796 | AI37: 0.24293263 | AJ37: 0.21113878 | AK37: 0.12376346 | AL37: 0.12455715 | AN37: 1954 | AO37: 418299.18 | AP37: 170669.94 | AQ37: 45683.134 | AR37: 0.10921163 | AS37: 18639.142 | AT37: 0.057904862 | AU37: 2.4509248 | AW37: 1202496.8 | AX37: 6483.7908 | AY37: 0.53578078 | AZ37: 9.1565341 | BA37: 26.322555 | BB37: 6483.7908 | BC37: 43057 | BD37: 7.3485356e+09
A38: 1955 | B38: 811734.39 | C38: 574572.22 | J38: 1955 | K38: 811734.39 | L38: 608432.82 | O38: 1955 | P38: 100818.55 | Q38: 83262 | T38: 465966.94 | U38: 1955 | V38: 8.0514393 | W38: 7.3074491 | Z38: 1955 | AA38: 0.21636416 | AB38: 0.1786865 | AD38: 1445.2239 | AE38: 1164.0486 | AF38: 750.08843 | AG38: 753.93775 | AH38: 6198.7878 | AI38: 0.23314621 | AJ38: 0.18778649 | AK38: 0.12100566 | AL38: 0.12162664 | AN38: 1955 | AO38: 449832.33 | AP38: 183638.97 | AQ38: 48688.723 | AR38: 0.10823749 | AS38: 19876.621 | AT38: 0.066391442 | AU38: 2.4495472 | AW38: 1293146.1 | AX38: 6914.259 | AY38: 0.54493982 | AZ38: 9.238943 | BA38: 26.559458 | BB38: 6914.259 | BC38: 43428 | BD38: 7.9750733e+09
A39: 1956 | C39: 445142.29 | J39: 1956 | L39: 542878.49 | O39: 1956 | P39: 109006.19 | Q39: 90172.116 | T39: 500794.43 | U39: 1956 | W39: 6.0204696 | Z39: 1956 | AA39: 0.21766654 | AB39: 0.18005815 | AD39: 1553.0615 | AE39: 1223.3681 | AF39: 763.61001 | AG39: 770.83098 | AH39: 6448.4627 | AI39: 0.24084213 | AJ39: 0.18971469 | AK39: 0.11841737 | AL39: 0.11953717 | AN39: 1956 | AO39: 493391.53 | AP39: 201534.86 | AQ39: 51250.923 | AR39: 0.10387475 | AS39: 20934.383 | AT39: 0.05321638 | AU39: 2.4481697 | AW39: 1418367 | AX39: 7282.2108 | AY39: 0.54817863 | AZ39: 9.6269786 | BA39: 27.674955 | BB39: 7282.2108 | BC39: 43843 | BD39: 8.8358928e+09
A40: 1957 | B40: 906579.79 | J40: 1957 | K40: 906579.79 | O40: 1957 | P40: 124213.65 | T40: 567305.3 | U40: 1957 | V40: 7.298552 | Z40: 1957 | AA40: 0.2189538 | AD40: 1693.2608 | AE40: 1158.9596 | AF40: 775.41827 | AG40: 788.03055 | AH40: 6761.7824 | AI40: 0.25041634 | AJ40: 0.17139853 | AK40: 0.11467661 | AL40: 0.11654184 | AN40: 1957 | AO40: 548837.91 | AP40: 224309.17 | AQ40: 55349.904 | AR40: 0.10084927 | AS40: 22621.416 | AT40: 0.080586707 | AU40: 2.4467922 | AW40: 1577760.3 | AX40: 7869.0602 | AY40: 0.56266579 | AZ40: 9.9157879 | BA40: 28.505204 | BB40: 7869.0602 | BC40: 44311 | BD40: 9.9393635e+09
A41: 1958 | J41: 1958 | O41: 1958 | U41: 1958 | Z41: 1958 | AD41: 1718.8795 | AE41: 1291.3321 | AF41: 784.94876 | AG41: 805.46226 | AH41: 6855.1715 | AI41: 0.25074201 | AJ41: 0.18837342 | AK41: 0.11450461 | AL41: 0.11749703 | AN41: 1958 | AO41: 624606.66 | AP41: 255419.53 | AQ41: 54727.305 | AR41: 0.08761883 | AS41: 22379.561 | AT41: -0.010691447 | AU41: 2.4454146 | AW41: 1795574.9 | AX41: 7784.9286 | AY41: 0.54468063 | AZ41: 11.413072 | BA41: 32.80949 | BB41: 7784.9286 | BC41: 44789 | BD41: 1.1439986e+10
A42: 1959 | J42: 1959 | O42: 1959 | U42: 1959 | Z42: 1959 | AD42: 1993.5108 | AE42: 1216.9759 | AF42: 791.61352 | AG42: 822.47361 | AH42: 6978.7769 | AI42: 0.28565332 | AJ42: 0.17438241 | AK42: 0.11343156 | AL42: 0.11785355 | AN42: 1959 | AO42: 663131.03 | AP42: 271326.09 | AQ42: 54762.266 | AR42: 0.082581366 | AS42: 22406.479 | AT42: 0.0012028188 | AU42: 2.4440371 | AW42: 1906322.1 | AX42: 7794.2924 | AY42: 0.53426412 | AZ42: 12.109269 | BA42: 34.810869 | BB42: 7794.2924 | BC42: 45240 | BD42: 1.2274792e+10
AD43: 2088.1031 | AE43: 1342.6107 | AF43: 799.11469 | AG43: 832.00088 | AH43: 7397.5829 | AI43: 0.28226829 | AJ43: 0.18149316 | AK43: 0.10802376 | AL43: 0.11246929 | AN43: 1960 | AO43: 730620.13 | AP43: 299108.46 | AQ43: 58182.844 | AR43: 7.9634876 | AS43: 23819.465 | AT43: 0.063061479 | AU43: 2.4426596 | AW43: 2100335 | AX43: 828581.2 | AY43: #DIV/0! | AZ43: 12.557312 | BA43: 36.098871 | BB43: 828581.2 | BC43: 45684 | BD43: 1.3664471e+10
AX44: 1921-1957 | AY44: 0.54094833
A45: GDP per capita in francs 1937 | Q45: IPC base 1937 | X45: Income per tax unit in francs 1937 | AI45: 1.0016426 | AJ45: 1.0731476 | AL45: #REF!
A46: Year | B46: Algeria | C46: Tunisia | D46: Vietnam | E46: Cameroon | F46: France | Q46: Year | R46: Algeria | S46: Tunisia | T46: Indochina | U46: Cameroon | V46: France | X46: Year | Y46: Algeria | Z46: Tunisia | AA46: Vietnam | AB46: Cameroon | AC46: France | AD46: Algeria | AE46: Tunisia | AF46: Vietnam | AG46: French Cameroon | AH46: France | AI46: 1.0591408 | AJ46: 1.1045559
A47: 1920 | B47: 2187.4466 | C47: 1476.5502 | D47: 484.62581 | E47: 458.70546 | F47: 6422.551 | Q47: 1920 | R47: 0.6365982 | S47: 0.6365982 | T47: 0.8707483 | U47: 0.60149949 | V47: 0.60048252 | X47: 1920 | AI47: 1.074251 | AJ47: 1.2013075
A48: 1921 | B48: 2026.8664 | C48: 1568.6543 | D48: 441.9085 | E48: 459.94214 | F48: 6101.982 | Q48: 1921 | R48: 0.53694032 | S48: 0.53694032 | T48: 0.95238095 | U48: 0.52697944 | V48: 0.52602268 | X48: 1921 | AA48: 449.82407 | AC48: 10433.654 | AF48: 7.805711 | AI48: 1.0491789 | AJ48: 1.2056563
A49: 1922 | B49: 2071.6948 | C49: 1604.6436 | D49: 412.73047 | E49: 461.18215 | F49: 7305.8088 | Q49: 1922 | R49: 0.55524269 | S49: 0.55524269 | T49: 0.94557823 | U49: 0.50653186 | V49: 0.5055078 | X49: 1922 | AA49: 424.17962 | AC49: 10777.306 | AI49: 1.082841 | AJ49: 1.2002423
A50: 1923 | B50: 2175.4827 | C50: 1532.2861 | D50: 430.4552 | E50: 479.22633 | F50: 7640.2123 | Q50: 1923 | R50: 0.62302415 | S50: 0.62302415 | T50: 0.92517007 | U50: 0.5624219 | V50: 0.56111366 | X50: 1923 | AA50: 563.62473 | AC50: 11737.32 | AI50: 1.0775639 | AJ50: 1.0509272
A51: 1924 | B51: 2219.6522 | C51: 1517.8482 | D51: 417.27286 | E51: 508.54663 | F51: 8463.9201 | Q51: 1924 | R51: 0.70876914 | S51: 0.70876914 | T51: 0.93877551 | U51: 0.64057708 | V51: 0.63910845 | X51: 1924 | AA51: 644.9635 | AC51: 11544.22 | AI51: 1.1064729 | AJ51: 1.0536302
A52: 1925 | B52: 2235.1539 | C52: 1530.9317 | D52: 423.39195 | E52: 559.46422 | F52: 8515.2461 | Q52: 1925 | R52: 0.7686579 | S52: 0.7686579 | T52: 0.95238095 | U52: 0.68715211 | V52: 0.68576337 | X52: 1925 | AA52: 772.07636 | AC52: 11749.95 | AI52: 1.1436949
A53: 1926 | B53: 2250.7014 | C53: 1533.3239 | D53: 412.88083 | E53: 585.58654 | F53: 8798.7433 | Q53: 1926 | R53: 0.91939977 | S53: 0.91939977 | T53: 0.99319728 | U53: 0.89389981 | V53: 0.89217815 | X53: 1926 | AA53: 1028.1712 | AC53: 11245.263 | AF53: 10.178407
A54: 1927 | B54: 2250.1788 | C54: 1594.0478 | D54: 436.99015 | E54: 602.14824 | F54: 8612.2417 | Q54: 1927 | R54: 0.97147295 | S54: 0.97147295 | T54: 1.0748299 | U54: 0.93297739 | V54: 0.93143399 | X54: 1927 | AA54: 804.48017 | AC54: 10862.551 | AF54: 8.5461631
A55: 1928 | B55: 2349.6054 | C55: 1567.5519 | D55: 397.95783 | E55: 604.79551 | F55: 9113.1004 | Q55: 1928 | R55: 0.95183327 | S55: 0.95183327 | T55: 1.1020408 | U55: 0.93115983 | V55: 0.92957112 | X55: 1928 | AA55: 752.63969 | AC55: 11882.224 | AF55: 7.5093862
A56: 1929 | B56: 2423.7222 | C56: 1601.9286 | D56: 397.65566 | E56: 585.7224 | F56: 9877.1339 | Q56: 1929 | R56: 0.98261285 | S56: 0.98261285 | T56: 1.1768707 | U56: 0.98886743 | V56: 0.98720453 | X56: 1929 | AA56: 653.997 | AC56: 12133.815 | AF56: 6.4253975
A57: 1930 | B57: 2418.2498 | C57: 1752.2655 | D57: 343.14667 | E57: 578.70669 | F57: 9532.3697 | Q57: 1930 | R57: 0.98879529 | S57: 0.98879529 | T57: 1.2517007 | U57: 0.99625128 | V57: 0.99510216 | X57: 1930 | AA57: 501.4774 | AC57: 11317.053 | AF57: 5.5737929
A58: 1931 | B58: 2333.4757 | C58: 1716.1218 | D58: 284.88576 | E58: 534.45857 | F58: 9107.0317 | Q58: 1931 | R58: 0.95892173 | S58: 0.95892173 | T58: 1.2108844 | U58: 0.95717369 | V58: 0.95629318 | X58: 1931 | AA58: 421.84068 | AC58: 10609.965 | AF58: 5.0343814
A59: 1932 | B59: 2201.4118 | C59: 1713.1169 | D59: 270.23044 | E59: 486.86107 | F59: 8302.9642 | Q59: 1932 | R59: 0.91059473 | S59: 0.91059473 | T59: 1.122449 | U59: 0.87152107 | V59: 0.87118309 | X59: 1932 | Y59: 2979.2102 | AA59: 405.87391 | AC59: 10220.771 | AD59: 30.467244 | AF59: 5.1164018
A60: 1933 | B60: 2232.3131 | C60: 1628.2226 | D60: 283.92281 | E60: 489.35014 | F60: 8543.252 | Q60: 1933 | R60: 0.87403968 | S60: 0.87403968 | T60: 1.0136054 | U60: 0.84357605 | V60: 0.84330523 | X60: 1933 | Y60: 3020.3872 | AA60: 423.13371 | AC60: 10360.03 | AD60: 30.216766 | AF60: 4.9090875
A61: 1934 | B61: 2143.8095 | C61: 1599.0749 | D61: 286.44491 | E61: 473.80059 | F61: 8241.7295 | Q61: 1934 | R61: 0.85986639 | S61: 0.85986639 | T61: 0.94557823 | U61: 0.80824719 | V61: 0.80788641 | X61: 1934 | Y61: 2900.0222 | AA61: 429.97776 | AC61: 9970.5108 | AD61: 30.957408 | AF61: 5.0474933
A62: 1935 | B62: 2030.0929 | C62: 1541.3758 | D62: 317.40455 | E62: 495.2909 | F62: 8034.9189 | Q62: 1935 | R62: 0.8312042 | S62: 0.8312042 | T62: 0.87755102 | U62: 0.74122458 | V62: 0.74083184 | X62: 1935 | Y62: 2745.6077 | AA62: 487.24935 | AC62: 10547.649 | AD62: 29.205922 | AF62: 5.4720285
A63: 1936 | B63: 2064.6295 | C63: 1537.1515 | D63: 353.78407 | E63: 446.45054 | F63: 8145.4429 | Q63: 1936 | R63: 0.82393064 | S63: 0.82393064 | T63: 0.86394558 | U63: 0.79518346 | V63: 0.79491256 | X63: 1936 | Y63: 2791.721 | AA63: 534.16195 | AC63: 11160.844 | AD63: 25.926641
A64: 1937 | B64: 2044.1205 | C64: 1560.7468 | D64: 434.77068 | E64: 567.84125 | F64: 8330.7369 | Q64: 1937 | R64: 1 | S64: 1 | T64: 1 | U64: 1 | V64: 1 | X64: 1937 | Y64: 2800.3901 | AA64: 628.54099 | AC64: 10790.269 | AD64: 25.952921 | AF64: 5.8250722
A65: 1938 | B65: 2045.7287 | C65: 1627.8599 | D65: 470.28729 | E65: 571.22065 | F65: 8119.6931 | Q65: 1938 | R65: 1.161806 | S65: 1.161806 | T65: 1.122449 | U65: 1.1359764 | V65: 1.136 | X65: 1938 | Y65: 2708.0156 | AA65: 673.45991 | AC65: 10279.77 | AD65: 26.94158 | AF65: 6.4731644
A66: 1939 | B66: 1926.0199 | C66: 1525.5475 | D66: 492.80787 | E66: 565.8007 | F66: 8453.3142 | Q66: 1939 | R66: 1.2908956 | S66: 1.2198963 | T66: 1.2857143 | U66: 1.1646405 | V66: 1.210976 | X66: 1939 | Y66: 2581.2205 | AA66: 662.64647 | AC66: 10657.99 | AD66: 25.816977 | AF66: 6.6010878
A67: 1940 | B67: 1711.8239 | C67: 1442.263 | D67: 464.62414 | E67: 520.13113 | F67: 6630.1856 | Q67: 1940 | R67: 1.5619837 | S67: 1.4174034 | T67: 1.462585 | U67: 1.3290423 | V67: 1.4362175 | X67: 1940 | Y67: 2306.3738 | AA67: 605.53398 | AC67: 8151.0308 | AD67: 30.773254 | AF67: 7.5653128
A68: 1941 | B68: 1761.1368 | C68: 1267.4518 | D68: 441.12464 | E68: 503.39159 | F68: 6404.369 | Q68: 1941 | R68: 1.6910732 | S68: 1.9276686 | T68: 1.600093 | U68: 1.4993488 | V68: 1.6846832 | X68: 1941 | Y68: 2385.7428 | AA68: 569.83059 | AC68: 8945.6912 | AD68: 26.77034
A69: 1942 | B69: 1638.2799 | C69: 1263.259 | D69: 403.28923 | E69: 479.46883 | F69: 6446.196 | Q69: 1942 | R69: 2.336521 | S69: 2.6930664 | T69: 2.0501192 | U69: 1.7329101 | V69: 2.0233045 | X69: 1942 | Y69: 2231.6746 | AA69: 516.17877 | AC69: 9963.6949 | AF69: 5.249254
A70: 1943 | B70: 1501.1208 | C70: 914.47661 | D70: 381.68164 | E70: 488.90032 | F70: 6427.8992 | Q70: 1943 | R70: 3.4079644 | S70: 3.5860305 | T70: 2.6876563 | U70: 2.0710862 | V70: 2.5129442 | X70: 1943 | Y70: 2056.4672 | AA70: 483.24988 | AC70: 9595.2829 | AF70: 5.3864776
A71: 1944 | B71: 1560.9657 | C71: 1153.0403 | D71: 297.60231 | E71: 500.09471 | F71: 4916.8445 | Q71: 1944 | R71: 4.8279495 | S71: 4.4506466 | T71: 4.1252398 | U71: 2.4371981 | V71: 3.0733307 | X71: 1944 | Y71: 2150.8626 | AC71: 9648.464 | AF71: 5.2122145
A72: 1945 | B72: 1576.1503 | C72: 1327.6246 | D72: 236.01427 | E72: 420.41205 | F72: 6024.3491 | Q72: 1945 | R72: 6.2608436 | S72: 5.1735223 | T72: 5.7753358 | U72: 3.4760877 | V72: 4.5546761 | X72: 1945 | Y72: 2184.6322 | AB72: 614.63747 | AC72: 11658.383 | AF72: 3.1935905 | AG72: 4.0883158
A73: 1946 | B73: 1750.0023 | C73: 1538.5468 | D73: 272.85353 | E73: 322.07944 | F73: 8013.1552 | Q73: 1946 | R73: 8.6231826 | S73: 8.1358953 | T73: 19.501134 | U73: 4.1017835 | V73: 6.9504358 | X73: 1946 | Y73: 2444.4976 | Z73: 2154.1407 | AC73: 11887.372 | AD73: 25.51287 | AE73: 21.211997 | AF73: 8.0080747
A74: 1947 | B74: 1797.2785 | C74: 1603.3529 | D74: 286.35191 | E74: 493.29272 | F74: 8435.0613 | Q74: 1947 | R74: 12.431325 | S74: 10.956528 | T74: 31.376824 | U74: 5.865898 | V74: 10.383951 | X74: 1947 | Y74: 2530.0912 | Z74: 2249.5477 | AC74: 10500.288 | AD74: 28.846274 | AE74: 22.604989 | AF74: 10.192993
A75: 1948 | B75: 1876.2916 | C75: 1702.678 | D75: 295.08847 | E75: 561.66933 | F75: 9446.2103 | Q75: 1948 | R75: 20.499422 | S75: 16.385183 | T75: 42.252457 | U75: 8.3773714 | V75: 16.458562 | X75: 1948 | Y75: 2661.8937 | Z75: 2393.9974 | AC75: 11065.951 | AD75: 29.96068 | AE75: 21.537451 | AF75: 8.3931834
A76: 1949 | B76: 1913.5519 | C76: 1689.3072 | D76: 323.04217 | E76: 595.80697 | F76: 9946.8099 | Q76: 1949 | R76: 25.09501 | S76: 21.289399 | T76: 51.628002 | U76: 12.131546 | V76: 18.631093 | X76: 1949 | Y76: 2712.9482 | Z76: 2380.3799 | AC76: 12354.666 | AD76: 29.57737
A77: 1950 | B77: 1962.3261 | C77: 1745.1956 | D77: 326.25577 | E77: 702.33372 | F77: 10672.636 | Q77: 1950 | R77: 25.301554 | S77: 21.757142 | T77: 53.693122 | U77: 14.460525 | V77: 20.494202 | X77: 1950 | Y77: 2780.2396 | Z77: 2464.6129 | AC77: 13064.158 | AD77: 26.273442
A78: 1951 | B78: 1954.4768 | C78: 1731.2438 | D78: 356.74063 | E78: 738.85356 | F78: 11182.881 | Q78: 1951 | R78: 28.514218 | S78: 25.357346 | T78: 56.274522 | U78: 17.380438 | V78: 23.834757 | X78: 1951 | Y78: 2767.2616 | Z78: 2450.4703 | AC78: 14216.317 | AD78: 23.287018
A79: 1952 | B79: 2197.8053 | C79: 1909.9366 | D79: 350.19436 | E79: 766.1305 | F79: 11369.289 | Q79: 1952 | R79: 29.521331 | S79: 26.859794 | T79: 63.502442 | U79: 19.744178 | V79: 26.671093 | X79: 1952 | Y79: 3109.686 | Z79: 2709.6646 | AC79: 14953.764 | AD79: 23.017657 | AE79: 18.248487
A80: 1953 | B80: 2284.1476 | C80: 1945.5566 | D80: 302.86402 | E80: 796.73895 | F80: 11596.489 | Q80: 1953 | R80: 28.810427 | S80: 26.590487 | T80: 77.958282 | U80: 20.928829 | V80: 26.217684 | X80: 1953 | Y80: 3229.6696 | Z80: 2766.7109 | AC80: 15462.888 | AD80: 22.952123 | AE80: 18.147012
A81: 1954 | B81: 2441.1337 | C81: 2078.1145 | D81: 269.23199 | E81: 815.26257 | F81: 12101.574 | Q81: 1954 | R81: 28.161246 | S81: 25.711697 | T81: 89.832723 | U81: 21.214051 | V81: 26.322555 | X81: 1954 | Y81: 3449.2991 | Z81: 2962.3057 | AC81: 16448.773 | AD81: 22.434747 | AE81: 17.591346
A82: 1955 | B82: 2594.1951 | C82: 2219.704 | D82: 205.27503 | E82: 834.25035 | F82: 12688.115 | Q82: 1955 | R82: 27.490162 | S82: 26.25031 | T82: 99.545886 | U82: 21.501281 | V82: 26.559458 | X82: 1955 | Y82: 3667.4409 | Z82: 3171.8482 | AC82: 17544.294 | AD82: 21.636416 | AE82: 17.86865
A83: 1956 | B83: 2813.9757 | C83: 2155.8654 | D83: 263.01268 | E83: 852.94312 | F83: 13284.376 | Q83: 1956 | R83: 27.387526 | S83: 29.198509 | T83: 104.65512 | U83: 22.669272 | V83: 27.674955 | X83: 1956 | Y83: 3980.1402 | Z83: 3088.2438 | AC83: 18095.582 | AE83: 18.005815
A84: 1957 | B84: 2933.6775 | C84: 2093.8628 | D84: 253.61944 | E84: 871.97486 | F84: 13985.318 | Q84: 1957 | R84: 29.924803 | S84: 29.34025 | T84: 104.71127 | U84: 24.353934 | V84: 28.505204 | X84: 1957 | Y84: 4150.8595 | AC84: 19901.815 | AD84: 21.89538
A85: 1958 | B85: 3070.2369 | C85: 2140.2917 | D85: 305.90211 | E85: 891.26347 | F85: 14292.648 | Q85: 1958 | R85: 33.646152 | S85: 30.459998 | T85: 106.28334 | U85: 27.496283 | V85: 32.80949 | X85: 1958
A86: 1959 | B86: 3401.948 | C86: 2187.7502 | D86: 345.42234 | E86: 892.26347 | F86: 14588.837 | Q86: 1959 | R86: 35.765762 | S86: 29.326076 | T86: 100.50036 | U86: 29.349914 | V86: 34.810869 | X86: 1959
A87: 1960 | B87: 3396.7023 | C87: 2236.261 | D87: 319.53461 | E87: 893.26347 | Q87: 1960 | X87: 1960
A88: PPP adjustor | B88: 1 | C88: 1.050758 | D88: 1.612321 | E88: 1.2195122
B90: Algeria | C90: Tunisia | D90: Vietnam | E90: French Cameroon | F90: France
A91: 1910
A92: 1911
A93: 1912
A94: 1913
A95: 1914
A96: 1915
A97: 1916
A98: 1917
A99: 1918
A100: 1919
A101: 1920
...

Sheet Results
B1: Vietnam | K1: Cochinchina | Q1: Tonkin | W1: French Cameroon | Z1: Algeria | AA1: Maddison 1950 | AB1: 1365 | AC1: 0.25896414 | AD1: 0.26273442 | AJ1: French Cameroon | AK1: Maddison 1950 | AL1: 671 | AM1: 0.12730032 | AN1: 0.04023592 | AP1: France | AQ1: France | AR1: Maddison 1950 | AS1: 5271 | BA1: UK | BB1: Maddison 1950 | BC1: 6939 | BD1: 1.3164485 | BJ1: Tunisia | BK1: Maddison 1950 | BL1: 1115 | BN1: 0.21153481 | BO1: 0.18248487 | BR1: Ghana | BS1: Maddison 1950 | BT1: 1358.0574 | BU1: 0.1957137 | BV1: 0.28854437 | BW1: 1122 | BZ1: Kenya | CA1: Maddison 1950 | CB1: 636.95424 | CC1: 0.091793377 | CD1: 0.13533269 | CE1: 651 | CH1: Tanzania | CI1: Maddison 1950 | CJ1: 370.48063 | CK1: 0.053391069 | CL1: 0.078715451 | CM1: 424 | CP1: Uganda | CQ1: Maddison 1950 | CR1: 623.89753 | CS1: 0.089911735 | CT1: 0.13255855 | CU1: 687 | CX1: Zambia | CY1: Maddison 1950 | CZ1: 487.40786 | DA1: 0.070241801 | DB1: 0.1035588 | DC1: 661 | DF1: Zimbabwe | DG1: Maddison 1950 | DH1: 948.15096 | DI1: 0.13664086 | DJ1: 0.20145218 | DK1: 701 | DN1: South Africa | DP1: Maddison 1950 | DS1: 2535 | DT1: 0.36532642 | DU1: 0.53860756 | DV1: 1602 | EE1: Nigeria | EF1: Maddison 1950 | EG1: 494.28036 | EH1: 0.071232217 | EI1: 0.10501899 | EJ1: 753 | EK1: Malawi | EL1: Maddison 1950 | EM1: 333.67483 | EN1: 0.048086876 | EO1: 0.07089538 | EP1: 324 | EQ1: Zanzibar | ER1: Maddison 1950 | ET1: 505.6035 | EU1: 0.072864029 | EV1: 0.1074248 | EW1: 324 | FA1: India
H2: (Europeans only) | N2: (Europeans only) | T2: " (Europeans only) | AC2: 0.19671422 | AD2: 0.20507189 | AS2: 6869 | BC2: 9441 | BD2: 1.3744359 | BL2: 1619 | BN2: 0.23569661 | BT2: 2322 | BU2: 0.24594852 | CH2: Tanganyika | DH2: 1967 | DI2: 0.20834657 | DS2: 5278 | DT2: 0.55905095 | DU2: 0.67827941 | DV2: 1.2 | EG2: 1503 | EH2: 0.15919924 | FC2: Nominal million Rupees | FD2: 0
B3: Top 1% | C3: Top 0.1% | D3: Top 0.01% | E3: Fiscal income nominal | F3: Number tax units | H3: Top 1% | I3: Top 0.1% | J3: Top 0.01% | K3: Top 1% | L3: Top 0.1% | M3: Top 0.01% | N3: Top 1% | O3: Top 0.1% | P3: Top 0.01% | Q3: Top 1% | R3: Top 0.1% | S3: Top 0.01% | T3: Top 1% | U3: Top 0.1% | V3: Top 0.01% | W3: Top 1% | X3: Top 0.1% | Y3: Top 0.01% | Z3: Top 5% | AA3: Top 1% | AB3: Top 0.5% | AC3: Top 0.1% | AD3: Top 0.05% | AE3: Top 0.01% | AF3: Top 0.1 / Top 1 | AG3: Fiscal income nominal | AH3: Number of tax units | AI3: Income of 0.1% in F average income | AJ3: Top 1% | AK3: Top 0.1% | AL3: Top 0.01% | AM3: Fiscal income nominal | AN3: Number of tax units | AO3: Income of 0.1% in F average income | AP3: Top 10% | AQ3: Top 5% | AR3: Top 1% | AS3: Top 0.5% | AT3: Top 0.1% | AU3: Top 0.05% | AV3: Top 0.01% | AW3: Fiscal income nominal | AX3: Number of tax units | AY3: Mean income | AZ3: Income of 0.1% in F average income | BA3: Top 1% | BB3: Top 0.1% | BC3: Top 0.01% | BD3: Top 0.1 / Top 1 | BE3: Top 0.01 / Top 0.1 | BF3: Fiscal income nominal | BG3: Number of tax units-married couples & single adults | BI3: Income of 0.1% in F average income | BJ3: Top 1% | BK3: Top 0.5% | BL3: Top 0.1% | BM3: Top 0.01% | BN3: Fiscal income control (Current million £) | BO3: Number of tax units | BP3: Income of 0.1% in UK average income | BR3: Top 1% | BS3: Top 0.5% | BT3: Top 0.1% | BU3: corrected | BV3: Fiscal income control (Current million £) | BW3: Number of tax units | BX3: Income of 0.1% in UK average income | BZ3: Top 1% | CA3: Top 0.5% | CB3: Top 0.1% | CC3: corrected | CD3: Fiscal income control (Current million £) | CE3: Number of tax units | CF3: Income of 0.1% in UK average income | CH3: Top 1% | CI3: Top 0.5% | CJ3: Top 0.1% | CK3: corrected | CP3: Top 1% | CQ3: Top 0.5% | CR3: Top 0.1% | CS3: corrected | CT3: Fiscal income control (Current million £) | CU3: Number of tax units | CV3: Income of 0.1% in UK average income | CX3: Top 1% | CY3: Top 0.5% | CZ3: Top 0.1% | DA3: corrected | DB3: Fiscal income control (millions £ until 1967, millions Kuacha from 1968) | DC3: Number of tax units | DD3: Income of 0.1% in UK average income | DF3: Top 1% | DG3: Top 0.5% | DH3: Top 0.1% | DI3: corrected | DJ3: Fiscal income control (millions £ until 1967, millions $Z from 1968) | DK3: Number of tax units | DL3: Income of 0.1% in UK average income | DN3: Top 1% corrected | DO3: Top 1% | DP3: corrected | DS3: Top 0.1% | DT3: corrected | DU3: Top 0.01% | DV3: corrected | DW3: Fiscal income nominal | DX3: Tax units | DY3: Income of 0.1% in UK average income | EC3: Maddison | EE3: Top 0.1% | EF3: corrected | EG3: Fiscal income nominal (Current million £) | EH3: Tax units | EI3: Income of 0.1% in UK average income | EK3: Top 0.1% | EL3: corrected | EM3: Fiscal income nominal (Current million £) | EN3: Tax units | EO3: Income of 0.1% in UK average income | EQ3: Top 0.5% income share | ER3: Top 0.1% income share | ES3: corrected | ET3: Top 0.05% income share | EU3: Top 0.01% income share | EV3: Top 0.25% income share | EW3: Top 0.005% income share | EX3: Fiscal income control | EY3: Number of tax units | FA3: Top 1% | FB3: Top 0.1% | FC3: Income control | FD3: Tax units
A4: 1915 | AP4: 49.1 | AQ4: 37.18 | AR4: 20.08 | AS4: 15.47 | AT4: 8.32 | AU4: 6.27 | AV4: 3.2 | AW4: 47.92718 | AX4: 15249.09 | AY4: 2061.6423 | AZ4: 83.2 | BB4: 10.77 | BC4: 4.07 | BF4: 2164.139 | BG4: 23480.37 | BH4: 92.168011 | DU4: 2.66 | DV4: 2.66 | DW4: 238.99623 | DX4: 2735.139 | DZ4: 87.379921 | EA4: 92.168011 | EB4: 0.47402521 | ED4: 0.37922017
A5: 1916 | AP5: 51.23 | AQ5: 39 | AR5: 22.99 | AS5: 18.66 | AT5: 10.91 | AU5: 8.45 | AV5: 4.48 | AW5: 55.35499 | AX5: 15204.62 | AY5: 2388.1224 | AZ5: 109.1 | BB5: 10.47 | BC5: 4 | BF5: 2483.373 | BG5: 23600.82 | BH5: 105.22401 | DU5: 2.84 | DV5: 2.84 | DW5: 271.63547 | DX5: 2776.541 | DZ5: 97.832328 | EA5: 105.22401 | EB5: 0.46487643 | ED5: 0.37190115
A6: 1917 | AP6: 51 | AQ6: 38.72 | AR6: 22.58 | AS6: 18.41 | AT6: 10.66 | AU6: 8.13 | AV6: 4.14 | AW6: 70.14343 | AX6: 15160.14 | AY6: 3035.0032 | AZ6: 106.6 | BB6: 9.26 | BC6: 3.52 | BF6: 2981.952 | BG6: 23685.94 | BH6: 125.89545 | DJ6: 15.56223 | DK6: 411.634 | DU6: 3.34 | DV6: 3.34 | DW6: 303.66462 | DX6: 2817.751 | DZ6: 107.76844 | EA6: 125.89545 | EB6: 0.42800768 | ED6: 0.34240615
A7: 1918 | AP7: 47.78 | AQ7: 35.86 | AR7: 19.82 | AS7: 16.08 | AT7: 9.02 | AU7: 6.81 | AV7: 3.3 | AW7: 84.39117 | AX7: 15115.67 | AY7: 3662.2246 | AZ7: 90.2 | BA7: 19.24 | BB7: 8.68 | BC7: 3.21 | BF7: 3646.292 | BG7: 23705.06 | BH7: 153.81914 | DJ7: 12.79656 | DK7: 418.549 | DU7: 2.54 | DV7: 2.54 | DW7: 343.64387 | DX7: 2858.769 | DZ7: 120.20694 | EA7: 153.81914 | EB7: 0.39074115 | ED7: 0.31259292
A8: 1919 | AP8: 48.66 | AQ8: 36.71 | AR8: 20.84 | AS8: 16.41 | AT8: 9 | AU8: 6.58 | AV8: 3.05 | AW8: 108.9497 | AX8: 15071.19 | AY8: 4741.9161 | AZ8: 90 | BA8: 19.59 | BB8: 8.98 | BC8: 3.32 | BF8: 3773.417 | BG8: 23713.93 | BH8: 159.12238 | DJ8: 13.63971 | DK8: 425.581 | DU8: 2.27 | DV8: 2.27 | DW8: 441.19325 | DX8: 2835.113 | DZ8: 155.61752 | EA8: 159.12238 | EB8: 0.4889869 | ED8: 0.39118952
A9: 1920 | L9: 6.3511465 | M9: 2.0141213 | P9: 2.0141213 | V9: 0 | AP9: 47.03 | AQ9: 35.37 | AR9: 19.56 | AS9: 15.6 | AT9: 8.54 | AU9: 6.36 | AV9: 3.09 | AW9: 142.0636 | AX9: 15026.72 | AY9: 6201.4607 | AZ9: 85.4 | BA9: 19.445 | BB9: 8.03 | BC9: 2.94 | BE9: 0.36612702 | BF9: 4343.114 | BG9: 23896.27 | BH9: 181.74862 | BI9: 80.3 | DJ9: 13.39781 | DK9: 432.73 | DN9: 20.31 | DO9: 20.31 | DP9: 29.943412 | DQ9: 24.372 | DS9: 6.34 | DT9: 6.34 | DU9: 2.04 | DV9: 2.04 | DW9: 367.27605 | DX9: 2875.883 | DY9: 22.274581 | DZ9: 127.70897 | EA9: 181.74862 | EB9: 0.35133409 | ED9: 0.28106727
A10: 1921 | C10: 7.0680203 | D10: 1.4081947 | E10: 4.4599486e+08 | F10: 7152093.8 | G10: 5.5170924 | J10: 1.4081947 | L10: 6.1463629 | M10: 1.9972526 | P10: 1.9972526 | R10: 11.423264 | S10: 2.5416847 | V10: 2.5416847 | AP10: 45.91 | AQ10: 34.21 | AR10: 18.59 | AS10: 14.66 | AT10: 8.02 | AU10: 5.95 | AV10: 2.73 | AW10: 128.2073 | AX10: 15323.12 | AY10: 5488.3389 | AZ10: 80.2 | BB10: 8.08 | BC10: 2.9 | BE10: 0.35891089 | BF10: 3769.732 | BG10: 22525.21 | BH10: 167.35613 | BI10: 80.8 | DJ10: 13.72555 | DK10: 440 | DN10: 21.82 | DO10: 21.82 | DP10: 32.169634 | DQ10: 26.184 | DS10: 6.61 | DT10: 6.61 | DU10: 2.07 | DV10: 2.07 | DW10: 313.7927 | DX10: 2919.818 | DY10: 21.223494 | DZ10: 107.46995 | EA10: 167.35613 | EB10: 0.32108161 | ED10: 0.25686529
A11: 1922 | E11: 4.3254294e+08 | F11: 7225314.6 | R11: 11.827857 | S11: 2.6149157 | AP11: 47.66 | AQ11: 35.88 | AR11: 20.6 | AS11: 16.35 | AT11: 8.85 | AU11: 6.55 | AV11: 2.96 | AW11: 128.34 | AX11: 15452.52 | AY11: 5448.0125 | AZ11: 88.5 | BB11: 9.07 | BC11: 3.23 | BE11: 0.35611907 | BF11: 3473.512 | BG11: 22778.25 | BH11: 152.49249 | BI11: 90.7 | DJ11: 14.42777 | DK11: 447.392 | DN11: 19.22 | DO11: 19.22 | DP11: 28.336405 | DQ11: 23.064 | DS11: 5.85 | DT11: 5.85 | DU11: 1.7 | DV11: 1.7 | DW11: 370.11902 | DX11: 3005.931 | DY11: 23.617821 | DZ11: 123.12958 | EA11: 152.49249 | EB11: 0.40372343 | ED11: 0.32297874 | FA11: 12.723612 | FB11: 5.66124 | FC11: 23230.2 | FD11: 124160 | FE11: 1.1711245 | FF11: 5.2107978
A12: 1923 | E12: 4.5019237e+08 | F12: 7303934.6 | R12: 12.438948 | S12: 2.7189843 | AP12: 49.68 | AQ12: 37.89 | AR12: 23.05 | AS12: 18.52 | AT12: 10.09 | AU12: 7.42 | AV12: 3.36 | AW12: 156.714 | AX12: 15608.58 | AY12: 6585.9704 | AZ12: 100.9 | BB12: 9.29 | BC12: 3.34 | BE12: 0.35952637 | BF12: 3434.121 | BG12: 22996.55 | BH12: 149.33201 | BI12: 92.9 | DJ12: 14.57081 | DK12: 454.909 | DN12: 19.53 | DO12: 19.53 | DP12: 28.793444 | DQ12: 23.436 | DS12: 6.03 | DT12: 6.03 | DU12: 1.95 | DV12: 1.95 | DW12: 395.17269 | DX12: 3097.792 | DY12: 25.755446 | DZ12: 127.56592 | EA12: 149.33201 | EB12: 0.42712183 | ED12: 0.34169746 | FA12: 13.391992 | FB12: 5.9058011 | FC12: 21644 | FD12: 125440 | FE12: 1.1608166 | FF12: 5.1191428
A13: 1924 | E13: 4.4373121e+08 | F13: 7387264 | R13: 11.789741 | S13: 2.48071 | AP13: 47.71 | AQ13: 36.13 | AR13: 21.2 | AS13: 16.78 | AT13: 8.97 | AU13: 6.53 | AV13: 2.86 | AW13: 177.7445 | AX13: 15802.74 | AY13: 7378.0084 | AZ13: 89.7 | BB13: 9.05 | BC13: 3.23 | BE13: 0.35690608 | BF13: 3552.635 | BG13: 23262.48 | BH13: 152.71953 | BI13: 90.5 | DJ13: 12.50818 | DK13: 462.551 | DN13: 19.97 | DO13: 19.97 | DP13: 29.442144 | DQ13: 23.964 | DS13: 6.22 | DT13: 6.22 | DU13: 2.07 | DV13: 2.07 | DW13: 409.38753 | DX13: 3188.678 | DY13: 26.145067 | DZ13: 128.38786 | EA13: 152.71953 | EB13: 0.42033869 | EC13: 0.4128782 | ED13: 0.33627096 | FA13: 11.458494 | FB13: 5.3736286 | FC13: 24285.1 | FD13: 126680 | FE13: 1.0790328 | FF13: 5.0602824
A14: 1925 | E14: 4.6020114e+08 | F14: 7479019 | R14: 10.101848 | S14: 2.1776277 | AP14: 46.89 | AQ14: 35.29 | AR14: 20.42 | AS14: 15.94 | AT14: 8.29 | AU14: 6 | AV14: 2.65 | AW14: 196.5531 | AX14: 16000.92 | AY14: 8057.6855 | AZ14: 82.9 | BB14: 8.79 | BC14: 3.13 | BE14: 0.35608646 | BF14: 3635.4 | BG14: 23436.24 | BH14: 155.11874 | BI14: 87.9 | DJ14: 12.03618 | DK14: 470.322 | DN14: 20.61 | DO14: 20.61 | DP14: 30.385708 | DQ14: 24.732 | DS14: 6.43 | DT14: 6.43 | DU14: 1.98 | DV14: 1.98 | DW14: 421.29247 | DX14: 3279.006 | DY14: 26.629205 | DZ14: 128.48176 | EA14: 155.11874 | EB14: 0.41414004 | EC14: 0.41890694 | ED14: 0.33131203 | FA14: 12.380735 | FB14: 5.3883875 | FC14: 24056.2 | FD14: 127960 | FE14: 1.1256537 | FF14: 4.8991101
A15: 1926 | C15: 8.7634582 | D15: 2.4554284 | E15: 4.5469771e+08 | F15: 7574014.1 | G15: 8.9198041 | J15: 2.4554284 | L15: 6.5584156 | M15: 2.2340479 | P15: 2.2340479 | R15: 13.434851 | S15: 2.8899721 | V15: 2.8899721 | AP15: 45.12 | AQ15: 34.7 | AR15: 19.95 | AS15: 15.62 | AT15: 8.16 | AU15: 5.95 | AV15: 2.76 | AW15: 246.9597 | AX15: 16146.57 | AY15: 10032.777 | AZ15: 81.6 | BB15: 8.67 | BC15: 3.07 | BE15: 0.35409458 | BF15: 3628.488 | BG15: 23626.29 | BH15: 153.57841 | BI15: 86.7 | DJ15: 14.16021 | DK15: 478.223 | DN15: 20.2 | DO15: 20.2 | DP15: 29.781237 | DQ15: 24.24 | DS15: 6.36 | DT15: 6.36 | DU15: 1.9 | DV15: 1.9 | DW15: 443.50316 | DX15: 3370.887 | DY15: 27.242658 | DZ15: 131.56868 | EA15: 153.57841 | EB15: 0.42834368 | EC15: 0.44584036 | ED15: 0.34267495 | FA15: 12.894017 | FB15: 5.5732809 | FC15: 23945.6 | FD15: 129280 | FE15: 1.1666009 | FF15: 5.0424895
A16: 1927 | C16: 8.1689128 | D16: 2.2900213 | E16: 5.1825121e+08 | F16: 7671763.3 | G16: 6.9812862 | J16: 2.2900213 | L16: 6.4225006 | M16: 2.1403176 | P16: 2.1403176 | R16: 9.8036653 | S16: 2.0782584 | V16: 2.0782584 | AP16: 46.65 | AQ16: 36.09 | AR16: 20.79 | AS16: 16.42 | AT16: 8.78 | AU16: 6.44 | AV16: 2.97 | AW16: 250.7028 | AX16: 16253.64 | AY16: 10117.749 | AZ16: 87.8 | BB16: 8.49 | BC16: 3.01 | BE16: 0.35453475 | BF16: 3760.857 | BG16: 23811.86 | BH16: 157.9405 | BI16: 84.9 | DJ16: 16.40224 | DK16: 492.331 | DN16: 19.99 | DO16: 19.99 | DP16: 29.47163 | DQ16: 23.988 | DS16: 6.27 | DT16: 6.27 | DU16: 1.81 | DV16: 1.81 | DW16: 480.28407 | DX16: 3461.783 | DY16: 27.538634 | DZ16: 138.73893 | EA16: 157.9405 | EB16: 0.43921266 | EC16: 0.42005382 | ED16: 0.35137012 | FA16: 13.321407 | FB16: 5.8229543 | FC16: 23618 | FD16: 130560 | FE16: 1.144615 | FF16: 5.0032559
A17: 1928 | C17: 9.1186613 | D17: 2.465014 | E17: 5.0480446e+08 | F17: 7771937.2 | G17: 6.8475549 | J17: 2.465014 | L17: 6.6198923 | M17: 2.1518309 | P17: 2.1518309 | R17: 11.287219 | S17: 2.3889445 | V17: 2.3889445 | AP17: 46.55 | AQ17: 36.1 | AR17: 20.93 | AS17: 16.56 | AT17: 8.87 | AU17: 6.51 | AV17: 3.02 | AW17: 275.2603 | AX17: 16347.02 | AY17: 11045.372 | AZ17: 88.7 | BB17: 8.54 | BC17: 3.04 | BE17: 0.3559719 | BF17: 3846.438 | BG17: 24013.96 | BH17: 160.17508 | BI17: 85.4 | DH17: 9.5 | DI17: 14.006027 | DJ17: 16.52024 | DK17: 506.855 | DL17: 19.331309 | DN17: 20.08 | DO17: 20.08 | DP17: 29.604319 | DQ17: 24.096 | DS17: 6.31 | DT17: 6.31 | DU17: 1.9 | DV17: 1.9 | DW17: 480.99481 | DX17: 3554.662 | DY17: 26.653024 | DZ17: 135.3138 | EA17: 160.17508 | EB17: 0.42239341 | EC17: 0.44643357 | ED17: 0.33791472 | FA17: 13.623379 | FB17: 5.918071 | FC17: 23647.4 | FD17: 131880 | FE17: 1.1441006 | FF17: 4.9700359
A18: 1929 | C18: 9.2355862 | D18: 2.4212435 | E18: 5.288421e+08 | F18: 7874194 | G18: 5.9342313 | J18: 2.4212435 | L18: 7.1310507 | M18: 2.2897981 | P18: 2.2897981 | R18: 11.619241 | S18: 2.2788759 | V18: 2.2788759 | AP18: 45.04 | AQ18: 34.52 | AR18: 19.49 | AS18: 15.38 | AT18: 8.12 | AU18: 5.94 | AV18: 2.77 | AW18: 300.4715 | AX18: 16454.1 | AY18: 11978.558 | AZ18: 81.2 | BB18: 8.33 | BC18: 2.93 | BE18: 0.3517407 | BF18: 3896.416 | BG18: 24164 | BH18: 161.2488 | BI18: 83.3 | DB18: 4.9085 | DC18: 736.293 | DJ18: 16.52024 | DK18: 521.807 | DN18: 20.15 | DO18: 20.15 | DP18: 29.707521 | DQ18: 24.18 | DS18: 6.19 | DT18: 6.19 | DU18: 1.8 | DV18: 1.8 | DW18: 456.29652 | DX18: 3647.829 | DY18: 24.009153 | DZ18: 125.08715 | EA18: 161.2488 | EB18: 0.38787001 | EC18: 0.42235772 | ED18: 0.31029601 | FA18: 13.065678 | FB18: 5.7736306 | FC18: 22923.6 | FD18: 133240 | FE18: 1.0458117 | FF18: 4.621368
A19: 1930 | C19: 10.618683 | D19: 2.6527149 | E19: 4.9735855e+08 | F19: 7923512.2 | G19: 5.9186338 | J19: 2.6527149 | L19: 8.4227392 | M19: 2.5115677 | P19: 2.5115677 | R19: 12.954758 | S19: 2.6152023 | V19: 2.6152023 | Z19: Computation of the impact of deduction for family charges | AP19: 42.26 | AQ19: 31.27 | AR19: 16.27 | AS19: 12.4 | AT19: 6.3 | AU19: 4.5 | AV19: 2.03 | AW19: 284.2361 | AX19: 16555.93 | AY19: 11261.624 | AZ19: 63 | BB19: 7.81 | BC19: 2.71 | BE19: 0.34699104 | BF19: 3832.864 | BG19: 24372.89 | BH19: 157.25932 | BI19: 78.1 | DB19: 4.99448 | DC19: 753.416 | DJ19: 15.45823 | DK19: 537.2 | DN19: 20.53 | DO19: 20.53 | DP19: 30.267762 | DQ19: 24.636 | DS19: 6.23 | DT19: 6.23 | DU19: 1.77 | DV19: 1.77 | DW19: 418.62718 | DX19: 3742.136 | DY19: 22.158968 | DZ19: 111.86851 | EA19: 157.25932 | EB19: 0.35568166 | EC19: 0.4029585 | ED19: 0.28454533 | FA19: 14.525563 | FB19: 6.3930194 | FC19: 18166.4 | FD19: 134560 | FE19: 0.93549041 | FF19: 4.1172988
A20: 1931 | C20: 12.34962 | D20: 3.063264 | E20: 4.0768255e+08 | F20: 7981251.6 | G20: 6.2172699 | J20: 3.063264 | L20: 9.1776239 | M20: 2.7060353 | P20: 2.7060353 | R20: 16.422519 | S20: 3.4159996 | V20: 3.4159996 | AP20: 42.19 | AQ20: 30.72 | AR20: 15.45 | AS20: 11.61 | AT20: 5.76 | AU20: 4.14 | AV20: 1.83 | AW20: 258.7573 | AX20: 16728.73 | AY20: 10146.237 | AZ20: 57.6 | BB20: 7.17 | BC20: 2.44 | BE20: 0.34030683 | BF20: 3693.934 | BG20: 24582.68 | BH20: 150.26572 | BI20: 71.7 | DB20: 5.08228 | DC20: 776.247 | DH20: 8.32 | DI20: 12.266331 | DJ20: 10.38415 | DK20: 553.048 | DL20: 10.396126 | DN20: 20.34 | DO20: 20.34 | DP20: 29.987642 | DQ20: 24.408 | DS20: 6.18 | DT20: 6.18 | DU20: 1.69 | DV20: 1.69 | DW20: 385.93304 | DX20: 3838.014 | DY20: 20.677783 | DZ20: 100.5554 | EA20: 150.26572 | EB20: 0.33459196 | EC20: 0.40275362 | ED20: 0.26767357 | FA20: 16.093433 | FB20: 6.9370781 | FC20: 15948.1 | FD20: 136400 | FE20: 0.93940575 | FF20: 4.0493108
A21: 1932 | C21: 12.923516 | D21: 3.2513015 | E21: 3.6666406e+08 | F21: 8048419.2 | G21: 6.61219 | J21: 3.2513015 | L21: 9.5459652 | M21: 2.8084972 | P21: 2.8084972 | R21: 16.953857 | S21: 3.6601853 | V21: 3.6601853 | Z21: 2.6724632 | AA21: 22.208537 | AB21: 15.437227 | AC21: 6.9869876 | AD21: 4.8556378 | AE21: 1.8262014 | AF21: 0.31460819 | AG21: 6315.8584 | AH21: 2328.124 | AI21: 21.287426 | AP21: 44.69 | AQ21: 32.35 | AR21: 15.91 | AS21: 11.84 | AT21: 5.79 | AU21: 4.14 | AV21: 1.78 | AW21: 227.6037 | AX21: 16767.24 | AY21: 8904.1631 | AZ21: 57.9 | BB21: 6.87 | BC21: 2.32 | BE21: 0.33770015 | BF21: 3594.464 | BG21: 24670.47 | BH21: 145.69905 | BI21: 68.7 | DB21: 5.72384 | DC21: 789.752 | DH21: 11.57 | DI21: 17.057867 | DJ21: 11.44617 | DK21: 570.524 | DL21: 15.931729 | DN21: 19.77 | DO21: 19.77 | DP21: 29.14728 | DQ21: 23.724 | DS21: 6.57 | DT21: 6.57 | DU21: 2.05 | DV21: 2.05 | DW21: 417.02801 | DX21: 3936.753 | DY21: 23.883926 | DZ21: 105.93197 | EA21: 145.69905 | EB21: 0.36353008 | EC21: 0.3865279 | ED21: 0.29082406 | FA21: 16.143201 | FB21: 7.0275133 | FC21: 15409.8 | FD21: 138320 | FE21: 0.92600818 | FF21: 4.0311303
A22: 1933 | C22: 13.171652 | D22: 3.3793896 | E22: 3.4811381e+08 | F22: 8116610.3 | G22: 6.466079 | J22: 3.3793896 | L22: 9.2944475 | M22: 2.8739221 | P22: 2.8739221 | R22: 17.963361 | S22: 3.7739184 | V22: 3.7739184 | Z22: 2.7462763 | AA22: 22.361234 | AB22: 15.384382 | AC22: 7.0914644 | AD22: 4.4530139 | AE22: 1.7058531 | AF22: 0.31713207 | AG22: 6268.0451 | AH22: 2374.315 | AI22: 21.428112 | AP22: 46.83 | AQ22: 34.04 | AR22: 16.82 | AS22: 12.55 | AT22: 6.17 | AU22: 4.44 | AV22: 1.96 | AW22: 223.8971 | AX22: 16810.4 | AY22: 8736.6672 | AZ22: 61.7 | BB22: 6.75 | BC22: 2.24 | BE22: 0.33185185 | BF22: 3584.296 | BG22: 24709.8 | BH22: 145.05565 | BI22: 67.5 | DB22: 6.68709 | DC22: 786.134 | DH22: 10.98 | DI22: 16.188019 | DJ22: 13.09819 | DK22: 588.552 | DL22: 16.845897 | DN22: 19.46 | DO22: 19.46 | DP22: 28.690241 | DQ22: 23.352 | DS22: 6.83 | DT22: 6.83 | DU22: 2.42 | DV22: 2.42 | DW22: 494.14355 | DX22: 4033.653 | DY22: 28.841023 | DZ22: 122.50522 | EA22: 145.05565 | EB22: 0.42226974 | EC22: 0.41735945 | ED22: 0.33781579 | FA22: 17.112525 | FB22: 7.3918026 | FC22: 14592.2 | FD22: 140280 | FE22: 0.9206071 | FF22: 3.9765879
A23: 1934 | C23: 13.068331 | D23: 3.3500949 | E23: 3.3248971e+08 | F23: 8177767.4 | G23: 6.5962312 | J23: 3.3500949 | L23: 8.7331052 | M23: 2.6397992 | P23: 2.6397992 | R23: 18.675682 | S23: 4.0809126 | V23: 4.0809126 | Z23: 2.9074062 | AA23: 19.891386 | AB23: 14.555013 | AC23: 6.5246507 | AD23: 4.3770903 | AE23: 1.6444558 | AF23: 0.32801387 | AG23: 6038.1743 | AH23: 2421.438 | AI23: 20.198627 | AP23: 47.31 | AQ23: 34.06 | AR23: 16.57 | AS23: 12.29 | AT23: 5.99 | AU23: 4.3 | AV23: 1.86 | AW23: 206.7507 | AX23: 16836.61 | AY23: 8055.0401 | AZ23: 59.9 | BB23: 6.78 | BC23: 2.23 | BE23: 0.32890855 | BF23: 3730.84 | BG23: 24732.79 | BH23: 150.8459 | BI23: 67.8 | DB23: 8.13937 | DC23: 776.886 | DH23: 10.52 | DI23: 15.509832 | DJ23: 15.69423 | DK23: 607.151 | DL23: 18.027086 | DN23: 18.54 | DO23: 18.54 | DP23: 27.333868 | DQ23: 22.248 | DS23: 6.17 | DT23: 6.17 | DU23: 1.99 | DV23: 1.99 | DW23: 530.74677 | DX23: 4133.423 | DY23: 26.260268 | DZ23: 128.40369 | EA23: 150.8459 | EB23: 0.42561213 | EC23: 0.43519746 | ED23: 0.3404897 | FA23: 16.896169 | FB23: 7.2831465 | FC23: 15366.4 | FD23: 142240 | FE23: 0.90776819 | FF23: 3.9129633
A24: 1935 | C24: 11.528631 | D24: 2.9369826 | E24: 3.5429827e+08 | F24: 8286008.9 | G24: 6.3084998 | I24: 11.528631 | J24: 2.9369826 | L24: 8.3939532 | M24: 2.4374135 | O24: 8.3939532 | P24: 2.4374135 | R24: 14.268547 | S24: 3.1513163 | V24: 3.1513163 | Z24: 3.176814 | AA24: 17.305075 | AB24: 12.430045 | AC24: 5.3065178 | AD24: 3.5812203 | AE24: 1.3225779 | AF24: 0.30664517 | AG24: 5635.8254 | AH24: 2469.513 | AI24: 15.498175 | AP24: 48.55 | AQ24: 35.31 | AR24: 17.53 | AS24: 13.08 | AT24: 6.4 | AU24: 4.61 | AV24: 2.08 | AW24: 201.0099 | AX24: 16873.98 | AY24: 7814.0339 | AZ24: 64 | BB24: 6.96 | BC24: 2.35 | BE24: 0.33764368 | BF24: 3780.09 | BG24: 24781.85 | BH24: 152.53462 | BI24: 69.6 | DB24: 8.45733 | DC24: 773.294 | DH24: 10.04 | DI24: 14.80216 | DJ24: 17.11025 | DK24: 626.337 | DL24: 17.980989 | DN24: 18.87 | DO24: 18.87 | DP24: 27.820393 | DQ24: 22.644 | DS24: 6.27 | DT24: 6.27 | DU24: 2.07 | DV24: 2.07 | DW24: 584.40781 | DX24: 4234.356 | DY24: 28.365979 | DZ24: 138.01575 | EA24: 152.53462 | EB24: 0.45240795 | EC24: 0.46574465 | ED24: 0.36192636 | FA24: 17.326381 | FB24: 7.3352911 | FC24: 15276.1 | FD24: 144240 | FE24: 0.90247685 | FF24: 3.8207231
A25: 1936 | E25: 3.8679398e+08 | F25: 8381473.4 | R25: 14.110875 | S25: 3.1992472 | Z25: 3.1519211 | AA25: 18.289107 | AB25: 13.328511 | AC25: 5.9726398 | AD25: 4.062517 | AE25: 1.5684975 | AF25: 0.32656814 | AG25: 5793.1504 | AH25: 2518.559 | AI25: 15.485049 | AP25: 45.38 | AQ25: 33.27 | AR25: 16.25 | AS25: 12.11 | AT25: 5.97 | AU25: 4.32 | AV25: 1.96 | AW25: 228.4253 | AX25: 16888.97 | AY25: 8871.8954 | AZ25: 59.7 | BB25: 7.03 | BC25: 2.35 | BE25: 0.33428165 | BF25: 3984.127 | BG25: 24835.71 | BH25: 160.41929 | BI25: 70.3 | CD25: 30.33709 | CE25: 1863.254 | DB25: 8.97194 | DC25: 786.434 | DH25: 9.74 | DI25: 14.359864 | DJ25: 19.70629 | DK25: 646.129 | DL25: 18.517741 | DN25: 18.49 | DO25: 18.49 | DP25: 27.260152 | DQ25: 22.188 | DS25: 6.18 | DT25: 6.18 | DU25: 1.95 | DV25: 1.95 | DW25: 655.48203 | DX25: 4336.886 | DY25: 29.112846 | DZ25: 151.14117 | EA25: 160.41929 | EB25: 0.47108166 | EC25: 0.48967044 | ED25: 0.37686533 | FA25: 15.584561 | FB25: 6.733367 | FC25: 16044 | FD25: 146280 | FE25: 0.79934731 | FF25: 3.4536096
A26: 1937 | C26: 9.526047 | D26: 2.9436297 | E26: 5.325677e+08 | F26: 8473078.2 | G26: 5.5489912 | I26: 8.5091176 | J26: 2.5265102 | L26: 8.1074757 | M26: 2.4646751 | O26: 6.2827463 | P26: 1.9758213 | R26: 11.545541 | S26: 2.810654 | V26: 1.9758213 | Z26: 2.5889251 | AA26: 19.849609 | AB26: 14.073906 | AC26: 5.934334 | AD26: 4.0237279 | AE26: 1.498572 | AF26: 0.29896478 | AG26: 7095.4771 | AH26: 2533.746 | AI26: 15.40133 | AP26: 44.99 | AQ26: 32.67 | AR26: 16.51 | AS26: 12.51 | AT26: 6.3 | AU26: 4.57 | AV26: 2.14 | AW26: 277.9879 | AX26: 16899.31 | AY26: 10790.269 | AZ26: 63 | BA26: 16.98 | BB26: 6.59 | BC26: 2.18 | BD26: 0.38810365 | BE26: 0.33080425 | BF26: 4242.987 | BG26: 24889.05 | BH26: 170.47605 | BI26: 65.9 | DB26: 15.76752 | DC26: 799.418 | DH26: 9.05 | DI26: 13.342584 | DJ26: 22.65633 | DK26: 660.99 | DL26: 18.196165 | DN26: 17.76 | DO26: 17.76 | DP26: 26.1839 | DQ26: 21.312 | DS26: 5.62 | DT26: 5.62 | DU26: 1.74 | DV26: 1.74 | DW26: 665.96548 | DX26: 4444.993 | DY26: 24.695827 | DZ26: 149.82374 | EA26: 170.47605 | EB26: 0.43942753 | EC26: 0.50620229 | ED26: 0.35154202 | FA26: 15.542895 | FB26: 6.7080539 | FC26: 16330.3 | FD26: 148360 | FE26: 0.75286259 | FF26: 3.2492292
A27: 1938 | C27: 8.292491 | D27: 2.6229089 | E27: 6.4722939e+08 | F27: 8562091.6 | G27: 5.3678658 | I27: 7.4834733 | J27: 2.3710918 | L27: 7.1229754 | M27: 2.1746724 | O27: 5.6916865 | P27: 1.8960397 | R27: 10.174936 | S27: 2.6427102 | V27: 1.8960397 | Z27: 3.1784487 | AA27: 19.830414 | AB27: 14.720978 | AC27: 7.1378492 | AD27: 4.9166397 | AE27: 1.6088913 | AF27: 0.35994454 | AG27: 8838.8369 | AH27: 2809.379 | AI27: 19.230494 | AP27: 43.74 | AQ27: 31.07 | AR27: 15.3 | AS27: 11.41 | AT27: 5.57 | AU27: 3.98 | AV27: 1.82 | AW27: 301.1403 | AX27: 16915.41 | AY27: 11677.818 | AZ27: 55.7 | BB27: 6.57 | BC27: 2.21 | BE27: 0.33637747 | BF27: 4319.541 | BG27: 24936.63 | BH27: 173.22072 | BI27: 65.7 | DB27: 9.8 | DC27: 806.721 | DH27: 9.07 | DI27: 13.37207 | DJ27: 24.42636 | DK27: 676.193 | DL27: 18.914529 | DN27: 17.09 | DO27: 17.09 | DP27: 25.196106 | DQ27: 20.508 | DS27: 5.35 | DT27: 5.35 | DU27: 1.62 | DV27: 1.62 | DW27: 703.67259 | DX27: 4553.992 | DY27: 23.861751 | DZ27: 154.51775 | EA27: 173.22072 | EB27: 0.44601405 | EC27: 0.48166982 | ED27: 0.35681124 | EK27: 8.01 | EL27: 11.809293 | EM27: 7.56456 | EN27: 777.884 | EO27: 4.4967786 | FA27: 17.817254 | FB27: 7.6263058 | FC27: 16423.4 | FD27: 150440 | FE27: 0.84238482 | FF27: 3.6056534
A28: 1939 | C28: 8.3006927 | D28: 2.678439 | E28: 7.369515e+08 | F28: 8649929.1 | G28: 5.4793602 | I28: 7.4070185 | J28: 2.4471026 | L28: 7.1007023 | M28: 2.1860008 | O28: 5.7569263 | P28: 1.9698574 | R28: 10.180555 | S28: 2.7502171 | V28: 1.9698574 | Z28: 3.0011228 | AA28: 18.795959 | AB28: 13.994299 | AC28: 6.8429966 | AD28: 4.7374974 | AE28: 1.5821021 | AF28: 0.36406743 | AG28: 9432.433 | AH28: 2830.789 | AI28: 17.666548 | AP28: 40.68 | AQ28: 29.86 | AR28: 15.54 | AS28: 11.96 | AT28: 6.17 | AU28: 4.51 | AV28: 2.07 | AW28: 318.205 | AX28: 16172.29 | AY28: 12906.57 | AZ28: 61.7 | BB28: 6.35 | BC28: 2.13 | BE28: 0.33543307 | BF28: 4436.295 | BG28: 25140.89 | BH28: 176.45736 | BI28: 63.5 | DB28: 13.74357 | DC28: 819.419 | DH28: 8.53 | DI28: 12.575938 | DJ28: 25.37037 | DK28: 691.745 | DL28: 17.729237 | DN28: 16.02 | DO28: 16.02 | DP28: 23.618585 | DQ28: 19.224 | DS28: 4.94 | DT28: 4.94 | DU28: 1.61 | DV28: 1.61 | DW28: 771.35201 | DX28: 4664.319 | DY28: 23.148431 | DZ28: 165.37291 | EA28: 176.45736 | EB28: 0.46859171 | EC28: 0.50555818 | ED28: 0.37487337 | FA28: 16.107121 | FB28: 7.3845654 | FC28: 18515.7 | FD28: 152560 | FE28: 0.83108884 | FF28: 3.8102588
A29: 1940 | C29: 9.7790924 | D29: 3.5413199 | E29: 7.8017915e+08 | F29: 8809164 | G29: 7.3981892 | I29: 7.3385068 | J29: 2.8836013 | L29: 9.2093285 | M29: 2.8143382 | O29: 6.6207967 | P29: 2.3827848 | R29: 10.605392 | S29: 3.6971987 | V29: 2.3827848 | Z29: 2.7758361 | AA29: 21.514093 | AB29: 16.419582 | AC29: 8.1734359 | AD29: 5.515545 | AE29: 1.724226 | AF29: 0.37991078 | AG29: 10275.718 | AH29: 2852.371 | AI29: 25.152322 | AP29: 41.75 | AQ29: 30.88 | AR29: 15.96 | AS29: 12.26 | AT29: 6.35 | AU29: 4.61 | AV29: 1.97 | AW29: 289.6357 | AX29: 16229.11 | AY29: 11706.653 | AZ29: 63.5 | BB29: 5.67 | BC29: 1.84 | BE29: 0.32451499 | BF29: 4849.451 | BG29: 25222.88 | BH29: 192.26397 | BI29: 56.7 | DB29: 17.41318 | DC29: 831.961 | DH29: 8.57 | DI29: 12.634911 | DJ29: 26.75926 | DK29: 707.655 | DL29: 16.855259 | DW29: 847.15296 | DX29: 4774.677 | DZ29: 177.42623 | EA29: 192.26397 | EB29: 0.46141312 | EC29: 0.48208117 | ED29: 0.36913049 | FA29: 16.148373 | FB29: 7.527078 | FC29: 20105.4 | FD29: 154720 | FE29: 0.81877956 | FF29: 3.8164944
A30: 1941 | E30: 8.1763633e+08 | F30: 8967454.5 | R30: 11.773655 | S30: 4.0813848 | Z30: 2.4786429 | AA30: 22.585799 | AB30: 16.998973 | AC30: 8.2586833 | AD30: 5.5453988 | AE30: 1.6929443 | AF30: 0.36565823 | AG30: 11595.571 | AH30: 2874.128 | AI30: 22.108776 | AP30: 41.67 | AQ30: 30.64 | AR30: 15.81 | AS30: 11.94 | AT30: 5.77 | AU30: 4.08 | AV30: 1.7 | AW30: 353.0838 | AX30: 15368.13 | AY30: 15070.655 | AZ30: 57.7 | BB30: 5 | BC30: 1.57 | BE30: 0.314 | BF30: 5381.694 | BG30: 25173.92 | BH30: 213.78053 | BI30: 50 | DB30: 15.91338 | DC30: 844.346 | DJ30: 28.88889 | DK30: 723.931 | DW30: 948.86545 | DX30: 4886.805 | DZ30: 194.16888 | EA30: 213.78053 | EB30: 0.45413134 | EC30: 0.45324239 | ED30: 0.36330507 | FA30: 14.063098 | FB30: 6.8456522 | FC30: 24405.5 | FD30: 156680 | FE30: 0.76869995 | FF30: 3.7418871
A31: 1942 | C31: 5.2401922 | D31: 1.9760805 | E31: 9.6550835e+08 | F31: 9123821.6 | G31: 2.75071 | I31: 4.414948 | J31: 1.7136795 | L31: 2.4578077 | M31: 0.99419916 | O31: 1.7415256 | P31: 0.67007917 | R31: 10.458503 | S31: 3.357542 | V31: 0.67007917 | AG31: 15101.089 | AH31: 2896.061 | AP31: 38.06 | AQ31: 28.06 | AR31: 14.47 | AS31: 10.83 | AT31: 5.07 | AU31: 3.52 | AV31: 1.39 | AW31: 472.4279 | AX31: 15371.96 | AY31: 20159.588 | AZ31: 50.7 | BB31: 4.44 | BC31: 1.37 | BE31: 0.30855856 | BF31: 6038.497 | BG31: 25223.99 | BH31: 239.395 | BI31: 44.4 | DB31: 17.26244 | DC31: 856.575 | DJ31: 29.81481 | DK31: 752.454 | DW31: 1023.6996 | DX31: 4998.094 | DZ31: 204.81799 | EA31: 239.395 | EB31: 0.42778251 | EC31: 0.44843266 | ED31: 0.34222601 | FC31: 35063 | FD31: 158520 | FE31: 0 | FF31: 0
A32: 1943 | E32: 1.2051698e+09 | F32: 9279034.2 | L32: 2.1137588 | M32: 0.82654909 | O32: 1.4560003 | P32: 0.57493927 | R32: 8.4335045 | S32: 2.9556875 | V32: 0.57493927 | AG32: 20451.607 | AH32: 2918.17 | AP32: 33.18 | AQ32: 23.54 | AR32: 10.94 | AS32: 7.81 | AT32: 3.3 | AU32: 2.23 | AV32: 0.88 | AW32: 561.5553 | AX32: 15276.62 | AY32: 24112.41 | AZ32: 33 | BB32: 4.23 | BC32: 1.28 | BE32: 0.30260047 | BF32: 6384.413 | BG32: 25382.99 | BH32: 251.52328 | BI32: 42.3 | BT32: 3 | BU32: 4.422956 | BV32: 73.89912 | BW32: 1555.914 | BX32: 5.6649586 | CB32: 5.44 | CC32: 8.0202936 | CD32: 63.49612 | CE32: 2129.732 | CF32: 6.4482659 | CZ32: 8.54 | DA32: 12.590681 | DB32: 17.59379 | DC32: 863.253 | DD32: 6.9199186 | DJ32: 30.55556 | DK32: 782.101 | DW32: 1102.401 | DX32: 5112.033 | DZ32: 215.64827 | EA32: 251.52328 | EB32: 0.4286845 | EC32: 0.44320458 | ED32: 0.3429476 | FA32: 10.316121 | FB32: 4.8439152 | FC32: 48845.3 | FD32: 160360 | FE32: 0.93720549 | FF32: 4.4006307
A33: 1944 | E33: 1.4580782e+09 | F33: 9433895.4 | L33: 3.5265129 | M33: 1.082468 | O33: 1.2939861 | P33: 0.46528762 | V33: 0.46528762 | AG33: 30534.459 | AH33: 2940.457 | AP33: 30.55 | AQ33: 21.21 | AR33: 9.18 | AS33: 6.43 | AT33: 2.65 | AU33: 1.77 | AV33: 0.65 | AW33: 682.0872 | AX33: 15088.56 | AY33: 29652.921 | AZ33: 26.5 | BB33: 4.13 | BC33: 1.22 | BE33: 0.29539952 | BF33: 6579.016 | BG33: 25458.19 | BH33: 258.42434 | BI33: 41.3 | BW33: 1594.7 | CD33: 65.79116 | CE33: 2167.8 | CZ33: 10.24 | DA33: 15.097023 | DB33: 15.64053 | DC33: 875.196 | DD33: 7.0812949 | DJ33: 32.5 | DK33: 812.916 | DN33: 18.24 | DO33: 18.24 | DP33: 26.891573 | DQ33: 21.888 | DS33: 5.8 | DT33: 5.8 | DU33: 1.67 | DV33: 1.67 | DW33: 1173.1744 | DX33: 5226.447 | DY33: 25.189561 | DZ33: 224.46882 | EA33: 258.42434 | EB33: 0.43430278 | EC33: 0.47000199 | ED33: 0.34744222 | FA33: 11.128818 | FB33: 5.0967873 | FC33: 48804.7 | FD33: 162240 | FE33: 0.97182753 | FF33: 4.4507853
A34: 1945 | E34: 1.5803089e+09 | F34: 9318949.2 | L34: 4.608778 | M34: 1.269274 | O34: 0.72700492 | P34: 0.32704037 | V34: 0.32704037 | W34: #REF! | X34: 8.504123 | Y34: 2.2428421 | AG34: 40525.823 | AH34: 2962.925 | AJ34: #REF! | AK34: 8.504123 | AL34: 2.2428421 | AM34: 2550.9016 | AN34: 1193.944 | AO34: 3.4217122 | AP34: 30.27 | AQ34: 20 | AR34: 7.78 | AS34: 5.21 | AT34: 2.03 | AU34: 1.35 | AV34: 0.53 | AW34: 1225.462 | AX34: 15138.38 | AY34: 53100.158 | AZ34: 20.3 | BB34: 4.23 | BC34: 1.23 | BE34: 0.29078014 | BF34: 6501.818 | BG34: 25496.68 | BH34: 255.00646 | BI34: 42.3 | BW34: 1634.452 | CD34: 65.79116 | CE34: 2205.868 | CZ34: 11.45 | DA34: 16.880949 | DB34: 14.5522 | DC34: 881.64 | DD34: 7.4112537 | DF34: 32.28 | DG34: 23.99 | DH34: 11.37 | DI34: 16.763003 | DJ34: 36.38889 | DK34: 844.944 | DL34: 18.034292 | DN34: 20.44 | DO34: 20.44 | DP34: 30.135074 | DQ34: 24.528 | DS34: 7 | DT34: 7 | DU34: 2.04 | DV34: 2.04 | DW34: 1255.3565 | DX34: 5343.092 | DY34: 32.247148 | DZ34: 234.94945 | EA34: 255.00646 | EB34: 0.46067354 | EC34: 0.49587122 | ED34: 0.36853883 | EK34: 7.3 | EL34: 10.762526 | EM34: 12.24739 | EN34: 901.512 | EO34: 3.8890517 | FA34: 11.410628 | FB34: 5.2125011 | FC34: 48183.1 | FD34: 164160 | FE34: 0.98527078 | FF34: 4.5008261
A35: 1946 | E35: 6.2478341e+09 | F35: 9442858.9 | V35: 0.73836582 | AA35: 17.94137 | AB35: 13.100308 | AC35: 6.2186429 | AD35: 4.5738345 | AE35: 2.183787 | AF35: 0.34660914 | AG35: 62933.935 | AH35: 2985.573 | AI35: 15.865543 | AP35: 33.3 | AQ35: 22.69 | AR35: 9.44 | AS35: 6.52 | AT35: 2.71 | AU35: 1.84 | AV35: 0.75 | AW35: 2082.807 | AX35: 16535.85 | AY35: 82622.413 | AZ35: 27.1 | BB35: 4.48 | BC35: 1.27 | BE35: 0.28348214 | BF35: 6916.376 | BG35: 25472.78 | BH35: 271.52027 | BI35: 44.8 | BJ35: 13.086466 | BK35: 9.5195265 | BL35: 4.3677256 | BM35: 1.3479017 | BN35: 2.0130766e+10 | BO35: 1148631.9 | BP35: 9.2648181 | BW35: 1675.192 | CD35: 67.32119 | CE35: 2243.936 | CZ35: 12.31 | DA35: 18.148863 | DB35: 15.3508 | DC35: 887.979 | DD35: 7.8376185 | DG35: 25.72 | DH35: 12.86 | DI35: 18.959738 | DJ35: 42.22222 | DK35: 878.235 | DL35: 20.611217 | DN35: 23.61 | DO35: 23.61 | DP35: 34.808664 | DQ35: 28.332 | DS35: 8.48 | DT35: 8.48 | DU35: 2.51 | DV35: 2.51 | DW35: 1325.9365 | DX35: 5461.541 | DY35: 37.911514 | DZ35: 242.77699 | EA35: 271.52027 | EB35: 0.44706975 | EC35: 0.52578671 | ED35: 0.3576558 | EM35: 15.60942 | EN35: 935.552 | FC35: 47726.7 | FD35: 166080 | FE35: 0 | FF35: 0
A36: 1947 | E36: 1.0567311e+10 | F36: 9508213 | L36: 4.0913256 | M36: 0.89682157 | O36: 3.2286239 | P36: 0.74116229 | V36: 0.74116229 | AA36: 16.640002 | AB36: 12.103582 | AC36: 5.7852951 | AD36: 4.2027655 | AE36: 2.1210301 | AF36: 0.34767393 | AG36: 94621.511 | AH36: 3008.405 | AI36: 16.688421 | AP36: 34.42 | AQ36: 23.91 | AR36: 9.83 | AS36: 6.8 | AT36: 2.86 | AU36: 1.93 | AV36: 0.75 | AW36: 2767.272 | AX36: 16648.05 | AY36: 109034.48 | AZ36: 28.6 | BB36: 4.1 | BC36: 1.14 | BE36: 0.27804878 | BF36: 7673.992 | BG36: 25583.13 | BH36: 299.96298 | BI36: 41 | BJ36: 13.496223 | BK36: 9.4451471 | BL36: 4.1163496 | BM36: 1.303598 | BN36: 2.8765364e+10 | BO36: 1167082.9 | BP36: 9.3050039 | BW36: 1716.946 | CD36: 71.93595 | CE36: 2282.005 | CY36: 29.92 | CZ36: 12 | DA36: 17.691824 | DB36: 17.92405 | DC36: 899.506 | DD36: 7.971603 | DH36: 11.84 | DI36: 17.455933 | DJ36: 49.25926 | DK36: 912.838 | DL36: 19.910994 | DN36: 21.29 | DO36: 21.29 | DP36: 31.388245 | DQ36: 25.548 | DS36: 7.34 | DT36: 7.34 | DU36: 2.03 | DV36: 2.03 | DW36: 1503.8367 | DX36: 5551.99 | DY36: 33.13984 | DZ36: 270.86445 | EA36: 299.96298 | EB36: 0.45149645 | EC36: 0.53116984 | ED36: 0.36119716 | EM36: 18.97145 | EN36: 952.963 | FA36: 11.233211 | FB36: 5.4355438 | FC36: 52054.984 | FD36: 137760 | FE36: 1.0615618 | FF36: 5.136702
A37: 1948 | E37: 1.4675525e+10 | F37: 9600332.3 | V37: 0.20525668 | AA37: 17.199568 | AB37: 12.77009 | AC37: 6.4609966 | AD37: 4.8574714 | AE37: 3.3162436 | AF37: 0.37564877 | AG37: 165416.4 | AH37: 3031.421 | AI37: 19.357585 | AP37: 32.71 | AQ37: 21.96 | AR37: 8.93 | AS37: 6.13 | AT37: 2.5 | AU37: 1.68 | AV37: 0.65 | AW37: 4669.469 | AX37: 16817.53 | AY37: 182129.65 | AZ37: 25 | BB37: 3.86 | BC37: 1.05 | BE37: 0.27202073 | BF37: 8275.983 | BG37: 25790.91 | BH37: 320.88759 | BI37: 38.6 | BJ37: 11.123225 | BK37: 8.0351612 | BL37: 3.7964428 | BM37: 1.2427404 | BN37: 4.6516079e+10 | BO37: 1185845.6 | BP37: 8.17657 | BW37: 1759.739 | CB37: 6.39 | CC37: 9.4208963 | CD37: 82.65848 | CE37: 2339.95 | CF37: 7.0344277 | CJ37: 7.4 | CK37: 10.909958 | CL37: 55.55834 | CM37: 2514.301 | CN37: 5.0957814 | CR37: 3.63 | CS37: 5.3517768 | CT37: 64.83538 | CU37: 1993.297 | CV37: 3.6795419 | CY37: 28.44 | CZ37: 11.07 | DA37: 16.320708 | DB37: 22.6269 | DC37: 906.138 | DD37: 8.6144075 | DG37: 27.6 | DH37: 13.47 | DI37: 19.859073 | DJ37: 59.81481 | DK37: 948.804 | DL37: 25.192173 | DN37: 22.09 | DO37: 22.09 | DP37: 32.5677 | DQ37: 26.508 | DS37: 7.03 | DT37: 7.03 | DU37: 1.85 | DV37: 1.85 | DW37: 1596.2674 | DX37: 5648.611 | DY37: 30.955398 | DZ37: 282.59468 | EA37: 320.88759 | EB37: 0.44033283 | EC37: 0.54849973 | ED37: 0.35226627 | EM37: 22.33347 | EN37: 978.665 | FA37: 11.838005 | FB37: 5.2900872 | FC37: 53844 | FD37: 140000 | FE37: 1.0643996 | FF37: 4.7565168
A38: 1949 | L38: 3.8566916 | M38: 0.60716556 | O38: 3.4135709 | P38: 0.57575774 | V38: 0.57575774 | AA38: 15.653184 | AB38: 11.148558 | AC38: 5.2942855 | AD38: 3.8863701 | AE38: 2.1277226 | AF38: 0.3382242 | AG38: 209722.43 | AH38: 3080.463 | AI38: 15.659104 | AP38: 32.59 | AQ38: 22.05 | AR38: 9.19 | AS38: 6.38 | AT38: 2.68 | AU38: 1.82 | AV38: 0.72 | AW38: 5951.946 | AX38: 16961.53 | AY38: 230180.92 | AZ38: 26.8 | BA38: 11.47 | BB38: 3.45 | BC38: 0.94 | BD38: 0.30078466 | BE38: 0.27246377 | BF38: 8730.396 | BG38: 25900 | BH38: 337.08093 | BI38: 34.5 | BW38: 1803.596 | CB38: 6.43 | CC38: 9.4798691 | CD38: 96.36703 | CE38: 2378.956 | CF38: 7.7271414 | CJ38: 7.89 | CK38: 11.632374 | CL38: 62.74795 | CM38: 2562.458 | CN38: 5.7317285 | CR38: 3.34 | CS38: 4.9242244 | CT38: 75.95795 | CU38: 2012.057 | CV38: 3.7406342 | CY38: 24.71 | CZ38: 9.81 | DA38: 14.463066 | DB38: 28.74947 | DC38: 926.544 | DD38: 9.0302261 | DF38: 33.19 | DG38: 24.45 | DH38: 11.29 | DI38: 16.645058 | DJ38: 68.14815 | DK38: 986.186 | DL38: 22.743951 | DN38: 17.74 | DO38: 17.74 | DP38: 26.154413 | DQ38: 21.288 | DS38: 5.6 | DT38: 5.6 | DU38: 1.48 | DV38: 1.48 | DW38: 1802.7864 | DX38: 5742.191 | DY38: 26.078973 | DZ38: 313.95444 | EA38: 337.08093 | EB38: 0.46569594 | EC38: 0.52754573 | ED38: 0.37255675 | EM38: 23.59424 | EN38: 1000.345 | FA38: 12.003061 | FB38: 5.2399779 | FC38: 56308 | FD38: 142000 | FE38: 1.0592768 | FF38: 4.6243094
A39: 1950 | AA39: 13.935003 | AB39: 10.277532 | AC39: 4.2357334 | AD39: 2.8971681 | AE39: 1.2994964 | AF39: 0.30396359 | AG39: 220200 | AH39: 3130.314 | AI39: 11.12873 | AP39: 32.94 | AQ39: 22.18 | AR39: 9.3 | AS39: 6.47 | AT39: 2.73 | AU39: 1.86 | AV39: 0.74 | AW39: 6970.373 | AX39: 17077.29 | AY39: 267739.49 | AZ39: 27.3 | BB39: 3.59 | BC39: 0.96 | BE39: 0.26740947 | BF39: 8838.561 | BG39: 25766.67 | BH39: 343.02302 | BI39: 35.9 | BW39: 1848.545 | CA39: 15.75 | CB39: 6.98 | CC39: 10.290744 | CD39: 112.24723 | CE39: 2417.963 | CF39: 9.4462217 | CJ39: 8.57 | CK39: 12.634911 | CL39: 70.50146 | CM39: 2611.048 | CN39: 6.7459141 | CR39: 3.43 | CS39: 5.0569131 | CT39: 92.32544 | CU39: 2030.441 | CV39: 4.5467583 | CX39: 37.24 | CY39: 25.41 | CZ39: 10.22 | DA39: 15.067537 | DB39: 33.62978 | DC39: 946.703 | DD39: 10.583709 | DF39: 32.66 | DG39: 24.23 | DH39: 11.34 | DI39: 16.718774 | DJ39: 84.53704 | DK39: 1025.042 | DL39: 24.351716 | DW39: 2191.0729 | DX39: 5929.678 | DZ39: 369.50958 | EA39: 343.02302 | EB39: 0.53860756 | EC39: 0.55905095 | ED39: 0.43088605 | EM39: 24.855 | EN39: 1022.051 | FA39: 13.420943 | FB39: 5.5957974 | FC39: 60018 | FD39: 143600 | FE39: 1.2267518 | FF39: 5.1148822
A40: 1951 | AA40: 15.020295 | AB40: 10.81783 | AC40: 4.5065534 | AD40: 3.0518505 | AE40: 1.1473797 | AF40: 0.30003096 | AG40: 251000 | AH40: 3180.988 | AI40: 10.494419 | AP40: 34.45 | AQ40: 23.53 | AR40: 10.12 | AS40: 7.11 | AT40: 3.03 | AU40: 2.07 | AV40: 0.83 | AW40: 8887.263 | AX40: 17204.64 | AY40: 338842.45 | AZ40: 30.3 | BA40: 10.89 | BB40: 3.21 | BC40: 0.85 | BD40: 0.29476584 | BE40: 0.26479751 | BF40: 9844.505 | BG40: 25633.33 | BH40: 384.05096 | BI40: 32.1 | BT40: 1.98 | BU40: 2.919151 | BV40: 210.04082 | BW40: 1895.406 | BX40: 5.7131784 | CA40: 15.38 | CB40: 6.92 | CC40: 10.202285 | CD40: 139.66432 | CE40: 2463.895 | CF40: 10.213639 | CJ40: 9.38 | CK40: 13.829109 | CL40: 80.6044 | CM40: 2676.337 | CN40: 7.3558342 | CR40: 3.32 | CS40: 4.894738 | CT40: 124.30408 | CU40: 2072.441 | CV40: 5.1850439 | CY40: 18.21 | CZ40: 7.28 | DA40: 10.73304 | DB40: 52.5299 | DC40: 967.943 | DD40: 10.28725 | DF40: 29.17 | DG40: 20.53 | DH40: 8.9 | DI40: 13.121436 | DJ40: 92.68519 | DK40: 1060.217 | DL40: 19.01022 | DW40: 2229.5534 | DX40: 5906.264 | DZ40: 377.48963 | EA40: 384.05096 | EB40: 0.49145774 | EC40: 0.55599542 | ED40: 0.39316619 | EM40: 28.45717 | EN40: 1040.652 | FC40: 63238 | FD40: 146000 | FE40: 0 | FF40: 0
A41: 1952 | AA41: 16.208519 | AB41: 10.832815 | AC41: 4.176434 | AD41: 2.7891502 | AE41: 1.0807086 | AF41: 0.25766907 | AG41: 296750 | AH41: 3232.498 | AI41: 9.6131727 | AP41: 34.99 | AQ41: 24.21 | AR41: 10.59 | AS41: 7.46 | AT41: 3.15 | AU41: 2.13 | AV41: 0.82 | AW41: 10520.05 | AX41: 17302.22 | AY41: 398833.24 | AZ41: 31.5 | BA41: 10.2 | BB41: 2.95 | BC41: 0.77 | BD41: 0.28921569 | BE41: 0.26101695 | BF41: 10436.59 | BG41: 25500 | BH41: 409.27804 | BI41: 29.5 | BJ41: 14.457827 | BK41: 10.367114 | BL41: 4.5828162 | BM41: 1.3296752 | BN41: 9.2003964e+10 | BO41: 1264120.1 | BP41: 8.3629461 | BT41: 2.46 | BU41: 3.6268239 | BV41: 208.34694 | BW41: 1943.556 | BX41: 6.443276 | CA41: 15.86 | CB41: 6.83 | CC41: 10.069597 | CD41: 145.22918 | CE41: 2511.454 | CF41: 9.6500801 | CJ41: 8.47 | CK41: 12.487479 | CL41: 97.52493 | CM41: 2744.409 | CN41: 7.3541381 | CR41: 3.34 | CS41: 4.9242244 | CT41: 138.87499 | CU41: 2115.534 | CV41: 5.3571284 | CZ41: 5.98 | DA41: 8.8164257 | DB41: 61.58066 | DC41: 990.284 | DD41: 9.0858867 | DF41: 26.36 | DG41: 18.64 | DH41: 8.36 | DI41: 12.325304 | DJ41: 111.48148 | DK41: 1106.886 | DL41: 19.208572 | DW41: 2421.5696 | DX41: 6017.714 | DZ41: 402.4069 | EA41: 409.27804 | EB41: 0.49160578 | EC41: 0.5168823 | ED41: 0.39328462 | EG41: 491.6 | EH41: 11437.355 | EM41: 35.66152 | EN41: 1060.12 | FC41: 62174 | FD41: 148800 | FE41: 0 | FF41: 0
A42: 1953 | AA42: 15.014952 | AB42: 10.888659 | AC42: 4.3323264 | AD42: 2.8878368 | AE42: 1.0908516 | AF42: 0.28853415 | AG42: 305650 | AH42: 3284.858 | AI42: 9.9436087 | AP42: 34.72 | AQ42: 23.94 | AR42: 10.41 | AS42: 7.31 | AT42: 3.09 | AU42: 2.1 | AV42: 0.82 | AW42: 10760.02 | AX42: 17410.19 | AY42: 405401.12 | AZ42: 30.9 | BA42: 9.72 | BB42: 2.77 | BC42: 0.7 | BD42: 0.28497942 | BE42: 0.25270758 | BF42: 11090 | BG42: 25300 | BH42: 438.33992 | BI42: 27.7 | BJ42: 14.064532 | BK42: 9.9526032 | BL42: 4.1455543 | BM42: 1.0529522 | BN42: 94500000000 | BO42: 1284522.6 | BP42: 7.5229425 | BT42: 2.21 | BU42: 3.2582443 | BV42: 226.97959 | BW42: 1993.689 | BX42: 5.7399835 | CA42: 16.79 | CB42: 6.98 | CC42: 10.290744 | CD42: 148.48666 | CE42: 2560.574 | CF42: 9.2340985 | CJ42: 6.97 | CK42: 10.276001 | CL42: 101.65417 | CM42: 2815.392 | CN42: 5.7412714 | CR42: 4.15 | CS42: 6.1184225 | CT42: 127.91457 | CU42: 2159.656 | CV42: 5.6075416 | CY42: 16.68 | CZ42: 6.34 | DA42: 9.3471804 | DB42: 78.70611 | DC42: 1012.983 | DD42: 11.237883 | DF42: 25.81 | DG42: 17.87 | DH42: 7.55 | DI42: 11.131106 | DJ42: 124.16667 | DK42: 1146.367 | DL42: 18.183615 | DW42: 2689 | DX42: 6134.216 | DZ42: 438.36083 | EA42: 438.33992 | EB42: 0.50002385 | EC42: 0.53710957 | ED42: 0.40001908 | EG42: 532 | EH42: 11713.514 | EK42: 5.08 | EL42: 7.4895389 | EM42: 39.1238 | EN42: 1080.492 | EO42: 4.1963544 | FA42: 11.924449 | FB42: 5.1456781 | FC42: 67872 | FD42: 151600 | FE42: 0.91366834 | FF42: 3.9426923
A43: 1954 | AA43: 15.183814 | AB43: 9.9192304 | AC43: 3.7307185 | AD43: 2.7433096 | AE43: 1.1571506 | AF43: 0.24570365 | AG43: 324250 | AH43: 3338.084 | AI43: 8.3697725 | AP43: 35.72 | AQ43: 24.73 | AR43: 10.85 | AS43: 7.61 | AT43: 3.18 | AU43: 2.15 | AV43: 0.85 | AW43: 11549.46 | AX43: 17497.48 | AY43: 432973.73 | AZ43: 31.8 | BA43: 9.67 | BB43: 2.72 | BC43: 0.67 | BD43: 0.28128232 | BE43: 0.24632353 | BF43: 11805.31 | BG43: 26250 | BH43: 449.7261 | BI43: 27.2 | BJ43: 14.052603 | BK43: 9.8917235 | BL43: 4.0746696 | BM43: 1.0169873 | BN43: 9.9417074e+10 | BO43: 1305270 | BP43: 7.1678923 | BT43: 2.08 | BU43: 3.0665828 | BV43: 254.92857 | BW43: 2045.796 | BX43: 5.7633027 | CA43: 15.92 | CB43: 6.4 | CC43: 9.4356395 | CD43: 171.83191 | CE43: 2611.567 | CF43: 9.3634206 | CJ43: 6.25 | CK43: 9.2144917 | CL43: 110.88863 | CM43: 2889.594 | CN43: 5.3331294 | CR43: 4.08 | CS43: 6.0152202 | CT43: 142.35654 | CU43: 2205.052 | CV43: 5.8569385 | CX43: 24.39 | CY43: 15.66 | CZ43: 5.87 | DA43: 8.6542506 | DB43: 91.06161 | DC43: 1037.151 | DD43: 11.459966 | DF43: 25.33 | DG43: 17.35 | DH43: 7.12 | DI43: 10.497149 | DJ43: 133.3 | DK43: 1188.001 | DL43: 16.258777 | DN43: 14.16 | DO43: 14.16 | DP43: 20.876352 | DQ43: 16.992 | DS43: 3.54 | DT43: 3.54 | DW43: 2868.5 | DX43: 6254.437 | DY43: 18.050607 | DZ43: 458.63441 | EA43: 449.7261 | EB43: 0.50990415 | EC43: 0.53990385 | ED43: 0.40792332 | EE43: 2.23 | EF43: 3.2877306 | EG43: 619.36 | EH43: 12077.74 | EI43: 2.542812 | EK43: 3.93 | EL43: 5.7940724 | EM43: 55.39653 | EN43: 1101.806 | EO43: 4.3936139 | FA43: 13.580797 | FB43: 5.6758046 | FC43: 63161 | FD43: 154400 | FE43: 0.92672036 | FF43: 3.8730304
A44: 1955 | AA44: 16.271449 | AB44: 10.702321 | AC44: 4.3037698 | AD44: 3.2987196 | AE44: 1.267261 | AF44: 0.26449825 | AG44: 345400 | AH44: 3425.957 | AI44: 9.3118153 | AP44: 36.63 | AQ44: 25.35 | AR44: 11.07 | AS44: 7.75 | AT44: 3.23 | AU44: 2.18 | AV44: 0.87 | AW44: 12536 | AX44: 17647.34 | AY44: 465966.94 | AZ44: 32.3 | BA44: 9.3 | BB44: 2.65 | BC44: 0.68 | BD44: 0.28494624 | BE44: 0.25660377 | BF44: 12873.8 | BG44: 26200 | BH44: 491.36641 | BI44: 26.5 | BJ44: 14.980347 | BK44: 10.430945 | BL44: 4.2012395 | BM44: 1.0903392 | BN44: 1.1043608e+11 | BO44: 1326368.4 | BP44: 7.5070477 | BT44: 2.39 | BU44: 3.5236216 | BV44: 249 | BW44: 2099.872 | BX44: 5.7676508 | CA44: 14.78 | CB44: 5.91 | CC44: 8.7132234 | CD44: 196.88575 | CE44: 2664.356 | CF44: 8.888 | CJ44: 6.42 | CK44: 9.4651259 | CL44: 115.31709 | CM44: 2967.172 | CN44: 5.0778576 | CR44: 3.91 | CS44: 5.764586 | CT44: 155.07682 | CU44: 2251.765 | CV44: 5.4801837 | CX44: 21.44 | CY44: 13.47 | CZ44: 4.65 | DA44: 6.8555818 | DB44: 117.45744 | DC44: 1062.416 | DD44: 10.46245 | DF44: 24.59 | DG44: 16.71 | DH44: 6.81 | DI44: 10.04011 | DJ44: 147.4 | DK44: 1224.602 | DL44: 15.36133 | DN44: 14.42 | DO44: 14.42 | DP44: 21.259675 | DQ44: 17.304 | DS44: 3.59 | DT44: 3.59 | DW44: 3040 | DX44: 6377.482 | DY44: 17.41339 | DZ44: 476.67716 | EA44: 491.36641 | EB44: 0.48505265 | EC44: 0.52175526 | ED44: 0.38804212 | EE44: 2.3 | EF44: 3.390933 | EG44: 662 | EH44: 12454.069 | EI44: 2.4881072 | EK44: 4.04 | EL44: 5.9562475 | EM44: 58.71683 | EN44: 1124.151 | EO44: 4.2945123 | FA44: 14.406191 | FB44: 5.9153368 | FC44: 64127 | FD44: 157200 | FE44: 0.89722615 | FF44: 3.6841071
A45: 1956 | AG45: 383300 | AH45: 3516.314 | AP45: 35.56 | AQ45: 24.27 | AR45: 10.22 | AS45: 7.01 | AT45: 2.83 | AU45: 1.9 | AV45: 0.76 | AW45: 13604.98 | AX45: 17820.25 | AY45: 500794.43 | AZ45: 28.3 | BA45: 8.75 | BB45: 2.42 | BC45: 0.61 | BD45: 0.27657143 | BE45: 0.25206612 | BF45: 13953.8 | BG45: 26150 | BH45: 533.60612 | BI45: 24.2 | BJ45: 13.511621 | BK45: 9.6317039 | BL45: 4.0004542 | BM45: 1.038471 | BN45: 1.2153611e+11 | BO45: 1347823.6 | BP45: 7.2031436 | BT45: 2.45 | BU45: 3.6120808 | BV45: 257.25 | BW45: 2154.273 | BX45: 5.4827687 | CA45: 14.78 | CB45: 5.96 | CC45: 8.7869393 | CD45: 210.28259 | CE45: 2710.756 | CF45: 8.6643971 | CJ45: 6.03 | CK45: 8.8901416 | CL45: 127.57985 | CM45: 3043.539 | CN45: 4.7369601 | CR45: 3.78 | CS45: 5.5729246 | CT45: 156.62538 | CU45: 2310.348 | CV45: 4.8023713 | CX45: 22 | CY45: 13.61 | CZ45: 4.67 | DA45: 6.8850682 | DB45: 126.20256 | DC45: 1087.67 | DD45: 10.1547 | DF45: 24.13 | DG45: 16.3 | DH45: 6.5 | DI45: 9.5830714 | DJ45: 167.2 | DK45: 1260.157 | DL45: 15.529521 | DN45: 13.92 | DO45: 13.92 | DP45: 20.522516 | DQ45: 16.704 | DS45: 3.4 | DT45: 3.4 | DW45: 3219.5 | DX45: 6507.642 | DY45: 15.761331 | DZ45: 494.72605 | EA45: 533.60612 | EB45: 0.46356857 | EC45: 0.52969664 | ED45: 0.37085485 | EG45: 696.48 | EH45: 12813.847 | EK45: 4.28 | EL45: 6.3100839 | EM45: 63.78465 | EN45: 1146.672 | EO45: 4.4616956 | FA45: 12.770893 | FB45: 5.1763021 | FC45: 76804 | FD45: 160400 | FE45: 0.85970566 | FF45: 3.4845615
A46: 1957 | AA46: 17.002853 | AB46: 11.739999 | AC46: 5.0729422 | AD46: 3.6950908 | AE46: 2.1101515 | AF46: 0.2983583 | AG46: 445750 | AH46: 3588.575 | AI46: 11.1074 | AP46: 36.91 | AQ46: 25.51 | AR46: 11.05 | AS46: 7.68 | AT46: 3.16 | AU46: 2.14 | AV46: 0.86 | AW46: 15573.24 | AX46: 18006.84 | AY46: 567305.3 | AZ46: 31.6 | BA46: 8.7 | BB46: 2.37 | BC46: 0.59 | BD46: 0.27241379 | BE46: 0.24894515 | BF46: 14494.64 | BG46: 26100 | BH46: 555.35019 | BI46: 23.7 | BT46: 2.33 | BU46: 3.4351625 | BV46: 270 | BW46: 2210.537 | BX46: 5.124541 | CA46: 15.13 | CB46: 5.63 | CC46: 8.3004141 | CD46: 223.90779 | CE46: 2758.686 | CF46: 8.2282675 | CJ46: 5.92 | CK46: 8.7279666 | CL46: 135.86751 | CM46: 3123.37 | CN46: 4.6371053 | CR46: 4.01 | CS46: 5.9120179 | CT46: 162.26655 | CU46: 2370.921 | CV46: 4.9418478 | CX46: 23.68 | CY46: 14.65 | CZ46: 5 | DA46: 7.3715934 | DB46: 109.51462 | DC46: 1113.963 | DD46: 8.851246 | DF46: 23.1 | DG46: 15.47 | DH46: 6.08 | DI46: 8.9638575 | DJ46: 186.8 | DK46: 1293.395 | DL46: 15.389837 | DN46: 13.56 | DO46: 13.56 | DP46: 19.991761 | DQ46: 16.272 | DS46: 3.25 | DT46: 3.25 | DW46: 3357.5 | DX46: 6641.546 | DY46: 14.792217 | DZ46: 505.52989 | EA46: 555.35019 | EB46: 0.45514515 | EC46: 0.5348252 | ED46: 0.36411612 | EE46: 2.58 | EF46: 3.8037422 | EG46: 728 | EH46: 13184.682 | EI46: 2.5651602 | EK46: 4.65 | EL46: 6.8555818 | EM46: 66.93019 | EN46: 1171.191 | EO46: 4.7849826 | EQ46: 10.56 | ER46: 3.63 | ES46: 3.63 | ET46: 2.12 | EU46: 0.57 | EV46: 6.94 | EX46: 10.2068 | EY46: 116.329 | EZ46: 10.964634 | FA46: 13.33572 | FB46: 5.3055681 | FC46: 78239 | FD46: 163600 | FE46: 0.86150812 | FF46: 3.4274791
A47: 1958 | AP47: 34.75 | AQ47: 23.17 | AR47: 9.22 | AS47: 6.17 | AT47: 2.4 | AU47: 1.6 | AV47: 0.63 | AW47: 17330.95 | AX47: 18223.09 | AY47: 623843.59 | AZ47: 24 | BA47: 8.76 | BB47: 2.38 | BC47: 0.6 | BD47: 0.2716895 | BE47: 0.25210084 | BF47: 14977.68 | BG47: 26250 | BH47: 570.57829 | BI47: 23.8 | BT47: 2.13 | BU47: 3.1402988 | BV47: 285.75 | BW47: 2269.345 | BX47: 4.7005652 | CA47: 15.23 | CB47: 5.54 | CC47: 8.1677255 | CD47: 226.28921 | CE47: 2808.028 | CF47: 7.8245062 | CJ47: 6.13 | CK47: 9.0375735 | CL47: 140.47456 | CM47: 3206.832 | CN47: 4.7061602 | CR47: 4.25 | CS47: 6.2658544 | CT47: 162.37716 | CU47: 2433.561 | CV47: 4.9700001 | CX47: 23.2 | CY47: 14.3 | CZ47: 4.61 | DA47: 6.7966091 | DB47: 105.34264 | DC47: 1141.291 | DD47: 7.4575039 | DF47: 21.42 | DG47: 14.1 | DH47: 5.43 | DI47: 8.0055504 | DJ47: 200 | DK47: 1326.818 | DL47: 13.540574 | DN47: 12.93 | DO47: 12.93 | DP47: 19.06294 | DQ47: 15.516 | DS47: 3.07 | DT47: 3.07 | DW47: 3478 | DX47: 6779.14 | DY47: 13.802194 | DZ47: 513.04443 | EA47: 570.57829 | EB47: 0.44958285 | EC47: 0.52137981 | ED47: 0.35966628 | EE47: 3.07 | EF47: 4.5261583 | EG47: 691.92 | EH47: 13566.805 | EI47: 2.7441095 | EK47: 4.14 | EL47: 6.1036793 | EM47: 71.47376 | EN47: 1197.181 | EO47: 4.3318351 | EQ47: 11.31 | ER47: 3.95 | ES47: 3.95 | ET47: 2.41 | EU47: 0.73 | EV47: 7.4 | EW47: 0.48 | EX47: 8.89695 | EY47: 117.156 | EZ47: 9.8490217 | FA47: 12.563758 | FB47: 4.9215638 | FC47: 87213 | FD47: 167200 | FE47: 0.86162662 | FF47: 3.3752247
A48: 1959 | AP48: 38.06 | AQ48: 26.36 | AR48: 11.17 | AS48: 7.67 | AT48: 3.1 | AU48: 2.08 | AV48: 0.82 | AW48: 19188.12 | AX48: 18418.17 | AY48: 683378.51 | AZ48: 31 | BA48: 8.6 | BB48: 2.3 | BC48: 0.6 | BD48: 0.26744186 | BE48: 0.26086957 | BF48: 16018.7 | BG48: 26500 | BH48: 604.47925 | BI48: 23 | BT48: 1.73 | BU48: 2.5505713 | BV48: 324 | BW48: 2329.99 | BX48: 3.9797488 | CA48: 15.49 | CB48: 5.6 | CC48: 8.2561846 | CD48: 233.56395 | CE48: 2859.027 | CF48: 7.5682277 | CJ48: 5.8 | CK48: 8.5510483 | CL48: 149.28609 | CM48: 3293.71 | CN48: 4.3489116 | CR48: 4.34 | CS48: 6.3985431 | CT48: 166.35916 | CU48: 2498.348 | CV48: 4.780817 | DB48: 135.58953 | DC48: 1168.913 | DF48: 21.4 | DG48: 14.09 | DH48: 5.39 | DI48: 7.9465777 | DJ48: 210.7 | DK48: 1361.464 | DL48: 13.093165 | DN48: 12.59 | DO48: 12.59 | DP48: 18.561672 | DQ48: 15.108 | DS48: 2.93 | DT48: 2.93 | DW48: 3678.5 | DX48: 6922.406 | DY48: 12.878638 | DZ48: 531.39039 | EA48: 604.47925 | EB48: 0.43954395 | EC48: 0.49570499 | ED48: 0.35163516 | EE48: 3.27 | EF48: 4.8210221 | EG48: 722.4 | EH48: 13960.472 | EI48: 2.7992649 | EM48: 74.9688 | EN48: 1223.829 | EQ48: 11.61 | ER48: 4.42 | ES48: 4.42 | ET48: 2.88 | EU48: 1.21 | EV48: 7.76 | EW48: 0.77 | EX48: 9.2463 | EY48: 117.603 | EZ48: 10.093224 | FA48: 12.360284 | FB48: 4.7701283 | FC48: 91245 | FD48: 170400 | FE48: 0.82140319 | FF48: 3.1699908
A49: 1960 | AP49: 38.21 | AQ49: 26.53 | AR49: 11.35 | AS49: 7.8 | AT49: 3.13 | AU49: 2.1 | AV49: 0.83 | AW49: 21301.39 | AX49: 18612.83 | AY49: 750707.76 | AZ49: 31.3 | BA49: 8.87 | BB49: 2.45 | BC49: 0.63 | BD49: 0.27621195 | BE49: 0.25714286 | BF49: 17010.37 | BG49: 26700 | BH49: 637.09251 | BI49: 24.5 | CA49: 15.98 | CB49: 5.58 | CC49: 8.2266982 | CD49: 245.22095 | CE49: 2911.55 | CF49: 7.3767492 | CJ49: 6.54 | CK49: 9.6420441 | CL49: 157.2925 | CM49: 3384.582 | CN49: 4.7706573 | CR49: 4.64 | CS49: 6.8408387 | CT49: 168.23955 | CU49: 2565.364 | CV49: 4.7763328 | DB49: 147.14272 | DC49: 1197.194 | DF49: 21.86 | DG49: 14.34 | DH49: 5.49 | DI49: 8.0940095 | DJ49: 216.45 | DK49: 1395.906 | DL49: 12.120236 | DN49: 12.19 | DO49: 12.19 | DS49: 2.84 | DT49: 2.84 | DU49: 0.78306878 | DV49: 0.78306878 | DW49: 3957 | DX49: 7071.67 | DY49: 12.471822 | DZ49: 559.55665 | EA49: 637.09251 | EB49: 0.43914867 | EC49: 0.4835 | ED49: 0.35131893 | EM49: 78.98811 | EN49: 1252.27 | EQ49: 11.41 | ER49: 4.27 | ES49: 4.27 | ET49: 2.71 | EU49: 0.99 | EV49: 7.68 | EX49: 10.26035 | EY49: 117.663 | EZ49: 10.511894 | FA49: 12.314302 | FB49: 4.7854057 | FC49: 99694 | FD49: 173600 | FE49: 0.83271513 | FF49: 3.2359769
A50: 1961 | AP50: 38.81 | AQ50: 26.89 | AR50: 11.39 | AS50: 7.79 | AT50: 3.11 | AU50: 2.08 | AV50: 0.83 | AW50: 23299.32 | AX50: 18803.11 | AY50: 812809.8 | AZ50: 31.1 | BF50: 18893.61 | BG50: 26900 | BH50: 702.36468 | CA50: 16.16 | CB50: 5.61 | CC50: 8.2709278 | CD50: 244.34015 | CE50: 2982.071 | CF50: 6.5445087 | CJ50: 6.56 | CK50: 9.6715305 | CL50: 164.475 | CM50: 3478.466 | CN50: 4.4162465 | CR50: 4.68 | CS50: 6.8998114 | CT50: 172.99583 | CU50: 2637.39 | CV50: 4.3706343 | DB50: 144.49512 | DC50: 1225.485 | DF50: 19.63 | DG50: 12.42 | DH50: 4.34 | DI50: 6.3985431 | DJ50: 233 | DK50: 1429.573 | DL50: 9.7488126 | DN50: 11.79 | DO50: 11.79 | DP50: 17.382217 | DQ50: 14.148 | DS50: 2.75 | DT50: 2.75 | DW50: 4282.5 | DX50: 7269.734 | DY50: 11.532378 | DZ50: 589.0862 | EA50: 702.36468 | EB50: 0.41935921 | EC50: 0.47912798 | ED50: 0.33548737 | EM50: 82.30841 | EN50: 1281.33 | EQ50: 13.52 | ER50: 4.82 | ES50: 4.82 | ET50: 2.97 | EU50: 1.01 | EV50: 8.95 | EX50: 9.3993 | EY50: 117.684 | EZ50: 10.177438 | FA50: 12.154979 | FB50: 4.6131651 | FC50: 104622 | FD50: 177600 | FE50: 0.76478867 | FF50: 2.9025937
A51: 1962 | AP51: 37.42 | AQ51: 25.63 | AR51: 10.56 | AS51: 7.14 | AT51: 2.79 | AU51: 1.85 | AV51: 0.72 | AW51: 26304 | AX51: 19026.15 | AY51: 906872.54 | AZ51: 27.9 | BA51: 8.43 | BB51: 2.29 | BC51: 0.58 | BF51: 19735.88 | BG51: 27200 | BH51: 725.58382 | CA51: 15.45 | CB51: 5.36 | CC51: 7.9023481 | CD51: 265.42495 | CE51: 3055.574 | CF51: 6.4169128 | CJ51: 6.43 | CK51: 9.4798691 | CL51: 178.0325 | CM51: 3576.364 | CN51: 4.4114459 | CR51: 4.89 | CS51: 7.2094183 | CT51: 173.27236 | CU51: 2711.98 | CV51: 4.3059013 | DB51: 141.20567 | DC51: 1254.03 | DF51: 19.12 | DG51: 11.91 | DH51: 4 | DI51: 5.8972747 | DJ51: 238.65 | DK51: 1465.625 | DL51: 8.7286556 | DW51: 4587.5 | DX51: 7475.633 | DZ51: 613.66041 | EA51: 725.58382 | EB51: 0.42287355 | EC51: 0.48551424 | ED51: 0.33829884 | EM51: 85.45395 | EN51: 1315.782 | EQ51: 13.19 | ER51: 4.76 | ES51: 4.76 | ET51: 2.87 | EU51: 0.86 | EV51: 8.81 | EX51: 10.02154 | EY51: 117.667 | EZ51: 10.341132 | FA51: 11.584116 | FB51: 4.2417428 | FC51: 111629 | FD51: 181600 | FE51: 0.73621784 | FF51: 2.6958007
A52: 1963 | AP52: 37.19 | AQ52: 25.08 | AR52: 9.86 | AS52: 6.52 | AT52: 2.46 | AU52: 1.62 | AV52: 0.63 | AW52: 29024.88 | AX52: 19535.31 | AY52: 974597.96 | AZ52: 24.6 | BA52: 8.49 | BB52: 2.23 | BC52: 0.57 | BF52: 20445.69 | BG52: 27400 | BH52: 746.19307 | CA52: 15.31 | CB52: 5.44 | CC52: 8.0202936 | CD52: 281.73604 | CE52: 3131.623 | CF52: 6.5587431 | CJ52: 6.25 | CK52: 9.2144917 | CL52: 193.2475 | CM52: 3678.23 | CN52: 4.4005181 | CR52: 4.47 | CS52: 6.5902045 | CT52: 194.565 | CU52: 2789.236 | CV52: 4.1786478 | CY52: 10.36 | CZ52: 3.35 | DA52: 4.9389676 | DB52: 148.90779 | DC52: 1283.561 | DD52: 5.2082822 | DF52: 18.97 | DG52: 11.78 | DH52: 3.93 | DI52: 5.7940724 | DJ52: 246.7 | DK52: 1499.568 | DL52: 8.0193728 | DN52: 13.2 | DO52: 13.2 | DP52: 19.461007 | DQ52: 15.84 | DS52: 3.23 | DT52: 3.23 | DW52: 4786.5 | DX52: 7688.575 | DY52: 13.473906 | DZ52: 622.54709 | EA52: 746.19307 | EB52: 0.4171488 | EC52: 0.49747062 | ED52: 0.33371904 | EM52: 88.77425 | EN52: 1350.65 | EQ52: 11.54 | ER52: 3.97 | ES52: 3.97 | ET52: 2.33 | EU52: 0.71 | EV52: 7.59 | EX52: 10.71242 | EY52: 117.244 | EZ52: 9.2936761 | FC52: 127806 | FD52: 185600 | FE52: 0 | FF52: 0
A53: 1964 | AP53: 37.45 | AQ53: 25.23 | AR53: 9.86 | AS53: 6.5 | AT53: 2.43 | AU53: 1.59 | AV53: 0.61 | AW53: 31747.99 | AX53: 19803.52 | AY53: 1051596.7 | AZ53: 24.3 | BA53: 8.48 | BB53: 2.26 | BC53: 0.58 | BF53: 22171.13 | BG53: 27500 | BH53: 806.22291 | CA53: 14.95 | CB53: 5.32 | CC53: 7.8433754 | CD53: 305.60288 | CE53: 3210.829 | CF53: 6.2805368 | CJ53: 5.41 | CK53: 7.976064 | CL53: 237.745 | CM53: 3784.857 | CN53: 4.2150628 | CR53: 4.34 | CS53: 6.3985431 | CT53: 215.3475 | CU53: 2869.263 | CV53: 4.0402112 | DB53: 168.48403 | DC53: 1314.434 | DF53: 18.98 | DG53: 11.64 | DH53: 3.75 | DI53: 5.528695 | DJ53: 251.6 | DK53: 1529.75 | DL53: 7.027006 | DN53: 13.67 | DO53: 13.67 | DP53: 20.153936 | DQ53: 16.404 | DS53: 3.33 | DT53: 3.33 | DW53: 5114 | DX53: 7906.124 | DY53: 13.358454 | DZ53: 646.84035 | EA53: 806.22291 | EB53: 0.40115478 | EC53: 0.4867165 | ED53: 0.32092382 | EK53: 4.61 | EL53: 6.7966091 | EM53: 88.42474 | EN53: 1382.596 | EO53: 3.6569943 | FA53: 9.6536973 | FB53: 3.2305174 | FC53: 149611 | FD53: 189600 | FE53: 0.70881612 | FF53: 2.3719853
A54: 1965 | AP54: 38.32 | AQ54: 25.94 | AR54: 10.07 | AS54: 6.72 | AT54: 2.53 | AU54: 1.66 | AV54: 0.64 | AW54: 34541.11 | AX54: 20017.68 | AY54: 1131873.6 | AZ54: 25.3 | BA54: 8.55 | BB54: 2.28 | BC54: 0.62 | BF54: 24224.8 | BG54: 27600 | BH54: 877.71014 | CB54: 5.8 | CC54: 8.5510483 | CD54: 307.41742 | CE54: 3292.065 | CF54: 6.1707357 | CJ54: 5.9 | CK54: 8.6984802 | CL54: 241.0175 | CM54: 3895.273 | CN54: 4.1592169 | CR54: 4.24 | CS54: 6.2511112 | CT54: 249.1775 | CU54: 2952.177 | CV54: 4.0773798 | DB54: 235.02161 | DC54: 1346.644 | DF54: 19.06 | DG54: 11.71 | DH54: 3.74 | DI54: 5.5139518 | DJ54: 272.95 | DK54: 1566.947 | DL54: 7.146663 | DN54: 13.26 | DO54: 13.26 | DP54: 19.549466 | DQ54: 15.912 | DS54: 3.2 | DT54: 3.2 | DW54: 5592.1667 | DX54: 8127.463 | DZ54: 688.05809 | EA54: 877.71014 | EB54: 0.39196202 | EC54: 0.48891465 | ED54: 0.31356962 | EK54: 4.55 | EL54: 6.70815 | EM54: 104.16135 | EN54: 1417.444 | EO54: 3.8094385 | FA54: 10.921305 | FB54: 3.9265513 | FC54: 157290 | FD54: 194400 | FE54: 0.75526287 | FF54: 2.7154066
A55: 1966 | AP55: 37.45 | AQ55: 25.25 | AR55: 10.01 | AS55: 6.66 | AT55: 2.54 | AU55: 1.68 | AV55: 0.65 | AW55: 37461.3 | AX55: 20165.51 | AY55: 1218565.9 | AZ55: 25.4 | BA55: 7.92 | BB55: 2.04 | BC55: 0.52 | BF55: 25250.9 | BG55: 27700 | BH55: 911.58484 | CB55: 4.97 | CC55: 7.3273638 | CD55: 352.82736 | CE55: 3390.28 | CJ55: 5.19 | CK55: 7.6517139 | CL55: 276.845 | CM55: 4119.953 | CN55: 3.8257333 | CR55: 4.15 | CS55: 6.1184225 | CT55: 260.0575 | CU55: 3037.723 | CV55: 3.8973752 | DB55: 274.31662 | DC55: 1378.912 | DF55: 18.75 | DG55: 11.5 | DH55: 3.71 | DI55: 5.4697223 | DJ55: 282.45 | DK55: 1614.037 | DL55: 6.7934194 | DW55: 6203 | DX55: 8397.027 | DZ55: 738.71383 | EA55: 911.58484 | EB55: 0.40518107 | EC55: 0.48762324 | ED55: 0.32414485 | EK55: 4.6 | EL55: 6.7818659 | EM55: 118.28395 | EN55: 1449.869 | EO55: 4.1167813 | FA55: 9.9853184 | FB55: 3.6628054 | FC55: 176505 | FD55: 198000
A56: 1967 | AP56: 36.99 | AQ56: 24.94 | AR56: 9.84 | AS56: 6.53 | AT56: 2.49 | AU56: 1.66 | AV56: 0.66 | AW56: 40697.88 | AX56: 20324.3 | AY56: 1313504.5 | AZ56: 24.9 | BA56: 7.69 | BB56: 1.91 | BC56: 0.51 | BF56: 26567.97 | BG56: 27800 | BH56: 955.68237 | CB56: 5.09 | CC56: 7.5042821 | CD56: 375.69435 | CE56: 3492.285 | CJ56: 5.27 | CK56: 7.7696594 | CL56: 286.2375 | CM56: 4232.779 | CN56: 3.729048 | CR56: 4.1 | CS56: 6.0447066 | CT56: 264.8175 | CU56: 3126.371 | CV56: 3.6339291 | DB56: 299.01634 | DC56: 1413.133 | DF56: 19.01 | DG56: 11.72 | DH56: 3.84 | DI56: 5.6613837 | DJ56: 303.35 | DK56: 1663.579 | DL56: 6.8778765 | DN56: 12.63 | DO56: 12.63 | DP56: 18.620645 | DS56: 2.9 | DT56: 2.9 | DW56: 6808.3333 | DX56: 8673.138 | DY56: 11.910198 | DZ56: 784.99078 | EA56: 955.68237 | EB56: 0.41069648 | EC56: 0.49799169 | ED56: 0.32855718 | EK56: 4.76 | EL56: 7.0177569 | EM56: 124.2212 | EN56: 1489.122 | EO56: 4.1548832 | FA56: 10.010505 | FB56: 3.506282 | FC56: 208215 | FD56: 202400
A57: 1968 | AP57: 36.15 | AQ57: 24.3 | AR57: 9.83 | AS57: 6.55 | AT57: 2.56 | AU57: 1.71 | AV57: 0.69 | AW57: 45533.96 | AX57: 20454.01 | AY57: 1460267.2 | AZ57: 25.6 | BA57: 7.54 | BB57: 1.87 | BC57: 0.47 | BF57: 28598.59 | BG57: 28091 | BH57: 1018.0695 | CB57: 5.12 | CC57: 7.5485116 | CD57: 410.03185 | CE57: 3597.7 | CJ57: 5.13 | CK57: 7.5632548 | CL57: 305.235 | CM57: 4346.609 | CN57: 3.5385367 | CR57: 4.07 | CS57: 6.000477 | CT57: 281.605 | CU57: 3218.247 | CV57: 3.4981464 | CZ57: 3.39 | DA57: 4.9979403 | DB57: 704.31634 | DC57: 1448.203 | DD57: 16.194241 | DF57: 19.67 | DG57: 12.11 | DH57: 3.73 | DI57: 5.4992087 | DJ57: 622.1 | DK57: 1718.878 | DL57: 12.303861 | DW57: 7553 | DX57: 8957.559 | DZ57: 843.19847 | EA57: 1018.0695 | EB57: 0.41411636 | EC57: 0.49616701 | ED57: 0.33129309 | EK57: 5.05 | EL57: 7.4453093 | EM57: 130.27374 | EN57: 1525.07 | EO57: 4.2372204 | FA57: 9.9506661 | FB57: 3.4756227 | FC57: 219177 | FD57: 207200
A58: 1969 | AP58: 35.73 | AQ58: 24.22 | AR58: 9.89 | AS58: 6.71 | AT58: 2.66 | AU58: 1.79 | AV58: 0.73 | AW58: 51923.25 | AX58: 20734.26 | AY58: 1642663.8 | AZ58: 26.6 | BA58: 7.46 | BB58: 1.85 | BC58: 0.47 | BF58: 30898.02 | BG58: 28161 | BH58: 1097.1919 | CB58: 4.82 | CC58: 7.106216 | CD58: 440.98097 | CE58: 3707.847 | CJ58: 5.13 | CK58: 7.5632548 | CL58: 317.05 | CM58: 4466.526 | CN58: 3.3188886 | CR58: 3.97 | CS58: 5.8530451 | CT58: 317.9425 | CU58: 3313.482 | CV58: 3.4719375 | DB58: 875.71745 | DC58: 1484.834 | DF58: 19.58 | DG58: 12.36 | DH58: 4.08 | DI58: 6.0152202 | DJ58: 731.2 | DK58: 1775.255 | DL58: 13.644179 | DN58: 13.38 | DO58: 13.38 | DP58: 19.726384 | DS58: 3 | DT58: 3 | DW58: 8158.5 | DX58: 9253.789 | DY58: 12.053118 | DZ58: 881.63886 | EA58: 1097.1919 | EB58: 0.4017706 | EC58: 0.50285414 | ED58: 0.32141648 | EK58: 4.74 | EL58: 6.9882705 | EM58: 140.8801 | EN58: 1560.241 | EO58: 3.9008004 | FC58: 240947 | FD58: 211600
A59: 1970 | AP59: 34.22 | AQ59: 22.94 | AR59: 9.08 | AS59: 6.06 | AT59: 2.33 | AU59: 1.55 | AV59: 0.61 | AW59: 58652.41 | AX59: 21033.07 | AY59: 1829188.9 | AZ59: 23.3 | BA59: 7.05 | BB59: 1.64 | BC59: 0.42 | BF59: 34739.99 | BG59: 28206 | BH59: 1231.6525 | CB59: 4.93 | CC59: 7.2683911 | CD59: 480.42883 | CE59: 3818.263 | CJ59: 5.13 | CK59: 7.5632548 | CL59: 349.1375 | CM59: 4590.969 | CN59: 3.1675342 | CR59: 3.79 | CS59: 5.5876678 | CT59: 360.6975 | CU59: 3407.931 | CV59: 3.256892 | CY59: 7.26 | CZ59: 2.52 | DA59: 3.7152831 | DB59: 810.6 | DC59: 1526.46 | DD59: 10.865095 | DF59: 20.96 | DG59: 13.3 | DH59: 4.73 | DI59: 6.9735273 | DJ59: 763.7 | DK59: 1825.088 | DL59: 14.944755 | DW59: 9142.6667 | DX59: 9564.116 | DZ59: 955.93431 | EA59: 1231.6525 | EB59: 0.38806982 | EC59: 0.50372256 | ED59: 0.31045586 | EK59: 4.68 | EL59: 6.8998114 | EM59: 165.6 | EN59: 1593.226 | EO59: 3.9494863 | FA59: 10.017128 | FB59: 3.4279918 | FC59: 255521 | FD59: 216400 | FE59: 0.72043401
A60: 1971 | AP60: 34.14 | AQ60: 22.85 | AR60: 9.03 | AS60: 6.01 | AT60: 2.3 | AU60: 1.53 | AV60: 0.61 | AW60: 64921.4 | AX60: 21354.8 | AY60: 1994195.5 | AZ60: 23 | BA60: 7.02 | BB60: 1.67 | BC60: 0.4 | BF60: 37400.38 | BG60: 28240 | BH60: 1324.3761 | DN60: 12.9 | DO60: 12.9 | DP60: 19.018711 | DS60: 2.73 | DT60: 2.73 | DW60: 10766.833 | DX60: 9862.139 | DY60: 11.25222 | DZ60: 1091.7341 | EA60: 1324.3761 | EB60: 0.41216922 | EC60: 0.50105075 | ED60: 0.32973537 | EK60: 4 | EL60: 5.8972747 | EM60: 421.36 | EN60: 1630.999 | EO60: 7.8027605 | FA60: 8.4696035 | FB60: 2.8333745 | FC60: 271019 | FD60: 221600 | FE60: 0.58674796
AP61: 34.23 | AQ61: 23.1 | AR61: 9.35 | AS61: 6.39 | AT61: 2.52 | AU61: 1.69 | AV61: 0.69 | AW61: 73322.25 | AX61: 21652.87 | AY61: 2221241 | AZ61: 25.2 | BA61: 6.94 | BB61: 1.61 | BC61: 0.37 | BF61: 42055.17 | BG61: 28351 | BH61: 1483.3752 | DJ61: 977.8 | DK61: 1940.94 | DW61: 12065.833 | DX61: 10173.199 | DZ61: 1186.0412 | EA61: 1483.3752 | EB61: 0.39977789 | EC61: 0.49573288 | ED61: 0.31982231 | EK61: 3.94 | EL61: 5.8088156 | EM61: 464.6 | EN61: 1671.651 | EO61: 7.382081 | FC61: 297570 | FD61: 226800
AP62: 35.05 | AQ62: 23.74 | AR62: 9.74 | AS62: 6.6 | AT62: 2.64 | AU62: 1.79 | AV62: 0.75 | AW62: 82855.85 | AX62: 21921.09 | AY62: 2479341.8 | AZ62: 26.4 | BA62: 6.99 | BB62: 1.68 | BC62: 0.4 | BF62: 48655.13 | BG62: 28123 | BH62: 1730.0832 | DJ62: 1059.3 | DK62: 1988.325 | DW62: 13606.5 | DX62: 10494.447 | DZ62: 1296.5428 | EA62: 1730.0832 | EB62: 0.37470534 | EC62: 0.50292124 | ED62: 0.29976427 | EK62: 4.57 | EL62: 6.7376363 | EM62: 462.76 | EN62: 1715.15 | EO62: 7.1269369 | FA62: 7.0174758 | FB62: 2.2175079 | FC62: 366534 | FD62: 232000
AP63: 33.73 | AQ63: 22.31 | AR63: 8.64 | AS63: 5.69 | AT63: 2.15 | AU63: 1.42 | AV63: 0.56 | AW63: 95934.33 | AX63: 22160.61 | AY63: 2839668.9 | AZ63: 21.5 | BA63: 6.54 | BB63: 1.58 | BC63: 0.37 | BF63: 60607.84 | BG63: 28274 | BH63: 2143.5892 | DJ63: 1293 | DK63: 2045.684 | DN63: 12.94 | DO63: 12.94 | DP63: 19.077684 | DS63: 2.94 | DT63: 2.94 | DW63: 16235 | DX63: 10821.695 | DY63: 10.288043 | DZ63: 1500.2271 | EA63: 2143.5892 | EB63: 0.34993345 | EC63: 0.5310271 | ED63: 0.27994676 | EK63: 4.2 | EL63: 6.1921384 | EM63: 600.76 | EN63: 1769.487 | EO63: 6.6521398 | FA63: 6.6500588 | FB63: 2.0116394 | FC63: 429030 | FD63: 237200
AP64: 34.04 | AQ64: 22.63 | AR64: 8.86 | AS64: 5.87 | AT64: 2.24 | AU64: 1.49 | AV64: 0.59 | AW64: 111999 | AX64: 22363.84 | AY64: 3285058.7 | AZ64: 22.4 | BA64: 6.1 | BB64: 1.4 | BC64: 0.31 | BF64: 75798.34 | BG64: 28341 | BH64: 2674.5118 | DJ64: 1422 | DK64: 2102.42 | DN64: 12.18 | DO64: 12.18 | DP64: 17.957201 | DS64: 2.59 | DT64: 2.59 | DW64: 18686 | DX64: 11152.04 | DY64: 8.1131082 | DZ64: 1675.5679 | EA64: 2674.5118 | EB64: 0.31324742 | EC64: 0.50958495 | ED64: 0.25059794 | EK64: 4.18 | EL64: 6.1626521 | EM64: 684.48 | EN64: 1848.458 | EO64: 5.7873924 | FA64: 7.2387307 | FB64: 2.2522192 | FC64: 452361 | FD64: 242800
AP65: 34.05 | AQ65: 22.73 | AR65: 9.03 | AS65: 6.02 | AT65: 2.34 | AU65: 1.56 | AV65: 0.62 | AW65: 129935.6 | AX65: 22497.02 | AY65: 3788598.1 | AZ65: 23.4 | BA65: 5.89 | BB65: 1.3 | BC65: 0.3 | BF65: 86839.28 | BG65: 28549 | BH65: 3041.7626 | DJ65: 1557 | DK65: 2163.268 | DW65: 21032.167 | DX65: 11505.447 | DZ65: 1828.0182 | EA65: 3041.7626 | EB65: 0.30048667 | EC65: 0.48022761 | ED65: 0.24038934 | EK65: 3.92 | EL65: 5.7793292 | EM65: 753.48 | EN65: 1920.089 | EO65: 5.0572116 | FA65: 7.2666439 | FB65: 2.1613233 | FC65: 486661 | FD65: 248000
AP66: 31.89 | AQ66: 20.88 | AR66: 7.9 | AS66: 5.18 | AT66: 1.98 | AU66: 1.32 | AV66: 0.53 | AW66: 147065.6 | AX66: 22709.25 | AY66: 4247991.9 | AZ66: 19.8 | BA66: 5.93 | BB66: 1.27 | BC66: 0.28 | BF66: 95587.77 | BG66: 28892 | BH66: 3308.4511 | DJ66: 1669 | DK66: 2221.904 | DW66: 24415.667 | DX66: 11862.677 | DZ66: 2058.192 | EA66: 3308.4511 | EB66: 0.31105069 | EC66: 0.43830632 | ED66: 0.24884055 | EK66: 3.83 | EL66: 5.6466405 | EM66: 893.32 | EN66: 1976.6 | EO66: 5.2319347 | FA66: 6.1761412 | FB66: 1.8961854 | FC66: 558243 | FD66: 253600
AP67: 32.93 | AQ67: 22.13 | AR67: 9.02 | AS67: 6.11 | AT67: 2.44 | AU67: 1.63 | AV67: 0.65 | AW67: 173303.9 | AX67: 22938.93 | AY67: 4955763.3 | AZ67: 24.4 | BA67: 5.72 | BB67: 1.24 | BC67: 0.28 | BF67: 109615.4 | BG67: 29076 | BH67: 3769.9615 | DJ67: 1781 | DK67: 2273.923 | DN67: 10.35 | DO67: 10.35 | DP67: 15.259198 | DW67: 26732.667 | DX67: 12227.441 | DZ67: 2186.2847 | EA67: 3769.9615 | EB67: 0.28996114 | EC67: 0.41978666 | ED67: 0.23196891 | EK67: 3.63 | EL67: 5.3517768 | EM67: 1010.16 | EN67: 2035.708 | EO67: 4.7779808 | FA67: 6.0456498 | FB67: 1.8053649 | FC67: 597086 | FD67: 259200
AP68: 32.57 | AQ68: 21.96 | AR68: 9.03 | AS68: 6.14 | AT68: 2.47 | AU68: 1.66 | AV68: 0.67 | AW68: 197848.1 | AX68: 23186.24 | AY68: 5597278.7 | AZ68: 24.7 | BA68: 5.93 | BB68: 1.3 | BC68: 0.31 | BF68: 129022.6 | BG68: 29390 | BH68: 4390.017 | DJ68: 2128.4372 | DK68: 2324.632 | DN68: 9.93 | DO68: 9.93 | DP68: 14.639984 | DW68: 31991 | DX68: 12605.198 | DZ68: 2537.9213 | EA68: 4390.017 | EB68: 0.28905597 | EC68: 0.40573302 | ED68: 0.23124478 | EK68: 4.12 | EL68: 6.0741929 | EM68: 1010.16 | EN68: 2096.712 | EO68: 4.5214986 | FA68: 5.6110147 | FB68: 1.6590754 | FC68: 646268 | FD68: 265600
AP69: 31.6 | AQ69: 20.99 | AR69: 8.31 | AS69: 5.57 | AT69: 2.19 | AU69: 1.46 | AV69: 0.58 | AW69: 224634.4 | AX69: 23457.37 | AY69: 6281629.5 | AZ69: 21.9 | BF69: 148087.2 | BG69: 29704 | BH69: 4985.4296 | DJ69: 2608.8537 | DK69: 2430.968 | DN69: 10.89 | DO69: 10.89 | DP69: 16.05533 | DS69: 2.48 | DT69: 2.48 | DW69: 39202.333 | DX69: 12999.668 | DY69: 7.5006475 | DZ69: 3015.6411 | EA69: 4985.4296 | EB69: 0.30244546 | EC69: 0.43077745 | ED69: 0.24195637 | EK69: 3.15 | EL69: 4.6441038 | EM69: 1237.4 | EN69: 2160.291 | EO69: 3.6191437 | FA69: 4.7779778 | FB69: 1.3913269 | FC69: 774795 | FD69: 271600
AP70: 30.96 | AQ70: 20.22 | AR70: 7.64 | AS70: 5.01 | AT70: 1.93 | AU70: 1.29 | AV70: 0.52 | AW70: 254469.3 | AX70: 23749.61 | AY70: 7028364.6 | AZ70: 19.3 | BA70: 6.67 | BB70: 1.53 | BF70: 159543.8 | BG70: 30018 | BH70: 5314.9377 | DJ70: 3319.1014 | DK70: 2535.082 | DN70: 11.35 | DO70: 11.35 | DP70: 16.733517 | DW70: 45572 | DX70: 13341.935 | DZ70: 3415.6964 | EA70: 5314.9377 | EB70: 0.32132987 | EC70: 0.45261577 | ED70: 0.25706389 | FA70: 4.3860382 | FB70: 1.2111693 | FC70: 901649 | FD70: 276800
AP71: 30.45 | AQ71: 19.85 | AR71: 7.45 | AS71: 4.88 | AT71: 1.86 | AU71: 1.23 | AV71: 0.49 | AW71: 293110.5 | AX71: 24042.66 | AY71: 7996947.3 | AZ71: 18.6 | BA71: 6.85 | BB71: 1.61 | BF71: 175340.4 | BG71: 30484 | BH71: 5751.883 | DJ71: 3845.6379 | DK71: 2622.816 | DN71: 12 | DO71: 12 | DP71: 17.691824 | DS71: 3.12 | DT71: 3.12 | DW71: 53670 | DX71: 13697.799 | DY71: 10.626625 | DZ71: 3918.1477 | EA71: 5751.883 | EB71: 0.34059696 | EC71: 0.44520513 | ED71: 0.27247757 | FA71: 4.5064533 | FB71: 1.3318993 | FC71: 993125 | FD71: 283200
AP72: 32.04 | AQ72: 21.12 | AR72: 8.2 | AS72: 5.46 | AT72: 2.1 | AU72: 1.38 | AV72: 0.53 | AW72: 330884.9 | AX72: 24282.96 | AY72: 8938212.9 | AZ72: 21 | BA72: 6.83 | BB72: 1.58 | BF72: 188571.8 | BG72: 30950 | BH72: 6092.7884 | DJ72: 4656.5809 | DK72: 2740.497 | DN72: 11.34 | DO72: 11.34 | DP72: 16.718774 | DS72: 3.03 | DT72: 3.03 | DU72: 0.9 | DV72: 0.9 | DW72: 63542.5 | DX72: 14061.021 | DY72: 11.236834 | DZ72: 4519.0531 | EA72: 6092.7884 | EB72: 0.37085262 | EC72: 0.42506839 | ED72: 0.2966821 | FA72: 6.4589202 | FB72: 1.8307652 | FC72: 1165850 | FD72: 289200
AP73: 32.14 | AQ73: 21.17 | AR73: 8.23 | AS73: 5.48 | AT73: 2.12 | AU73: 1.4 | AV73: 0.54 | AW73: 355824.3 | AX73: 24572.25 | AY73: 9498741.1 | AZ73: 21.2 | BA73: 7.16 | BB73: 1.67 | BF73: 203538 | BG73: 31416 | BH73: 6478.8006 | DJ73: 4772.6496 | DK73: 2866.415 | DN73: 11.3 | DO73: 11.3 | DP73: 16.659801 | DS73: 2.91 | DT73: 2.91 | DU73: 0.8 | DV73: 0.8 | DW73: 76267.333 | DX73: 14422.794 | DY73: 11.875654 | DZ73: 5287.9722 | EA73: 6478.8006 | EB73: 0.40809808 | EC73: 0.42353231 | ED73: 0.32647846 | FA73: 6.3910128 | FB73: 1.8817832 | FC73: 1295126 | FD73: 295600
AP74: 32.58 | AQ74: 21.53 | AR74: 8.42 | AS74: 5.63 | AT74: 2.18 | AU74: 1.44 | AV74: 0.56 | AW74: 383816.4 | AX74: 25143.73 | AY74: 10013115 | AZ74: 21.8 | BA74: 7.4 | BB74: 1.82 | BF74: 232961.4 | BG74: 31742.74 | BH74: 7339.0451 | DN74: 10.64 | DO74: 10.64 | DP74: 15.686751 | DS74: 2.68 | DT74: 2.68 | DW74: 86910.667 | DX74: 14777.289 | DY74: 10.738498 | DZ74: 5881.3675 | EA74: 7339.0451 | EB74: 0.40069024 | EC74: 0.39107764 | ED74: 0.32055219 | FA74: 8.2424898 | FB74: 2.448495 | FC74: 1442931 | FD74: 302000
AP75: 33 | AQ75: 21.92 | AR75: 8.71 | AS75: 5.87 | AT75: 2.31 | AU75: 1.54 | AV75: 0.61 | AW75: 404021.8 | AX75: 25534.33 | AY75: 10379005 | AZ75: 23.1 | BA75: 7.55 | BB75: 1.86 | BF75: 257495.5 | BG75: 31998.38 | BH75: 8047.1418 | DN75: 10.35 | DO75: 10.35 | DP75: 15.259198 | DS75: 2.49 | DT75: 2.49 | DU75: 0.62 | DV75: 0.62 | DW75: 101402 | DX75: 15207.972 | DY75: 10.3158 | DZ75: 6667.6872 | EA75: 8047.1418 | EB75: 0.41428916 | EC75: 0.36436183 | ED75: 0.33143133 | FA75: 8.6415388 | FB75: 2.6121663 | FC75: 1598814 | FD75: 308400
AP76: 33.11 | AQ76: 22 | AR76: 8.78 | AS76: 5.95 | AT76: 2.41 | AU76: 1.63 | AV76: 0.67 | AW76: 421286.2 | AX76: 26341.3 | AY76: 10490964 | AZ76: 24.1 | BA76: 7.78 | BF76: 280948.8 | BG76: 32249.3 | BH76: 8711.7798 | DN76: 8.78 | DO76: 8.78 | DP76: 12.944518 | DS76: 1.94 | DT76: 1.94 | DW76: 122879.17 | DX76: 15633.417 | DY76: 8.7516349 | DZ76: 7860.0326 | EA76: 8711.7798 | EB76: 0.4511152 | EC76: 0.35975007 | ED76: 0.36089216 | FA76: 8.1209008 | FB76: 2.5084429 | FC76: 1812237 | FD76: 315200
AP77: 32.99 | AQ77: 21.92 | AR77: 8.91 | AS77: 6.18 | AT77: 2.82 | AU77: 2.05 | AV77: 1.01 | AW77: 436619.5 | AX77: 26791.37 | AY77: 10690145 | AZ77: 28.2 | BA77: 8.63 | BF77: 314117.9 | BG77: 32506.78 | BH77: 9663.1503 | DN77: 9.88 | DO77: 9.88 | DP77: 14.566269 | DS77: 2.42 | DT77: 2.42 | DW77: 148718.33 | DX77: 16064.519 | DY77: 11.592135 | DZ77: 9257.5653 | EA77: 9663.1503 | EB77: 0.47901383 | EC77: 0.3515493 | ED77: 0.38321107 | FA77: 8.5211159 | FB77: 2.7106107 | FC77: 2165023 | FD77: 322000
